Felt | Verdi |
AlreadyApplied | True |
Aperture | 1.8 |
ApertureValue | 1.8 |
ApproximateFocusDistance | 3.35 |
AutoLateralCA | 0 |
AutoWhiteVersion | 134348800 |
BitsPerSample (1) | 8 8 8 |
BitsPerSample | 8 |
Blacks2012 | +25 |
BlueHue | 0 |
BlueSaturation | 0 |
CameraProfile | Adobe Standard |
CFAPattern | [Red,Green][Green,Blue] |
CircleOfConfusion | 0.030 mm |
Clarity2012 | 0 |
ColorComponents | 3 |
ColorMode | RGB |
ColorNoiseReduction | 25 |
ColorNoiseReductionDetail | 50 |
ColorNoiseReductionSmoothness | 50 |
ColorSpace | sRGB |
ColorTemperature | 4850 |
ColorTransform | YCbCr |
Contrast | Normal |
Contrast2012 | 0 |
ConvertToGrayscale | False |
CreateDate | 2014:05:30 14:04:35 |
CreatorTool | Adobe Photoshop Lightroom 5.0 (Windows) |
CustomRendered | Normal |
DateCreated (1) | 2014:05:30 |
DateCreated | 2014:05:30 14:04:35.002 |
DateTimeOriginal | 2014:05:30 14:04:35 |
DefringeGreenAmount | 0 |
DefringeGreenHueHi | 60 |
DefringeGreenHueLo | 40 |
DefringePurpleAmount | 0 |
DefringePurpleHueHi | 70 |
DefringePurpleHueLo | 30 |
DigitalZoomRatio | 1 |
DOF | 0.16 m (3.27 - 3.43 m) |
ExifImageHeight | 5198 |
ExifImageWidth | 4016 |
Exposure2012 | 0.00 |
ExposureCompensation | +5 |
ExposureMode | Auto |
ExposureProgram | Shutter speed priority AE |
ExposureTime | 1/4000 |
Flash | Off, Did not fire |
FNumber | 1.8 |
FocalLength | 85.0 mm |
FocalLength35efl | 85.0 mm (35 mm equivalent: 85.0 mm) |
FocalLengthIn35mmFormat | 85 mm |
Format | image/jpeg |
FOV | 23.9 deg |
GainControl | None |
GrainAmount | 0 |
GreenHue | 0 |
GreenSaturation | 0 |
HasCrop | False |
HasSettings | True |
Highlights2012 | -15 |
HueAdjustmentAqua | -12 |
HueAdjustmentBlue | -10 |
HueAdjustmentGreen | +10 |
HueAdjustmentMagenta | +30 |
HueAdjustmentOrange | 0 |
HueAdjustmentPurple | +12 |
HueAdjustmentRed | +15 |
HueAdjustmentYellow | +15 |
HyperfocalDistance | 133.59 m |
ICCProfileName | sRGB IEC61966-2.1 |
ImageHeight (1) | 6016 |
ImageHeight | 5198 |
ImageNumber | 10176 |
ImageSize | 4016x5198 |
ImageWidth | 4016 |
ISO | 80 |
Lens | 85.0 mm f/1.8 |
LensID (1) | 179 |
LensID | AF-S Nikkor 85mm f/1.8G |
LensInfo | 85mm f/1.8 |
LensManualDistortionAmount | 0 |
LensModel | 85.0 mm f/1.8 |
LensProfileEnable | 0 |
LensProfileSetup | LensDefaults |
LightSource | Unknown |
LightValue | 14.0 |
LuminanceAdjustmentAqua | +20 |
LuminanceAdjustmentBlue | -30 |
LuminanceAdjustmentGreen | +20 |
LuminanceAdjustmentMagenta | -20 |
LuminanceAdjustmentOrange | -10 |
LuminanceAdjustmentPurple | -10 |
LuminanceAdjustmentRed | -15 |
LuminanceAdjustmentYellow | +15 |
LuminanceSmoothing | 0 |
Make | NIKON CORPORATION |
MaxApertureValue | 1.7 |
Megapixels | 20.9 |
MeteringMode | Multi-segment |
Model | NIKON D600 |
ModifyDate (1) | 2014:06:03 09:53:23+02:00 |
ModifyDate | 2014:06:03 09:53:23 |
Orientation | Horizontal (normal) |
ParametricDarks | 0 |
ParametricHighlights | 0 |
ParametricHighlightSplit | 75 |
ParametricLights | 0 |
ParametricMidtoneSplit | 50 |
ParametricShadows | 0 |
ParametricShadowSplit | 25 |
PerspectiveAspect | 0 |
PerspectiveHorizontal | 0 |
PerspectiveRotate | 0.0 |
PerspectiveScale | 100 |
PerspectiveUpright | 0 |
PerspectiveVertical | 0 |
PhotometricInterpretation | RGB |
PostCropVignetteAmount | 0 |
ProcessVersion | 6.7 |
ProfileDescription | sRGB IEC61966-2.1 |
RedHue | 0 |
RedSaturation | 0 |
SamplesPerPixel | 3 |
Saturation (1) | 0 |
Saturation | Normal |
SaturationAdjustmentAqua | -35 |
SaturationAdjustmentBlue | -20 |
SaturationAdjustmentGreen | -50 |
SaturationAdjustmentMagenta | -50 |
SaturationAdjustmentOrange | -18 |
SaturationAdjustmentPurple | -30 |
SaturationAdjustmentRed | -15 |
SaturationAdjustmentYellow | -15 |
ScaleFactor35efl | 1.0 |
SceneCaptureType | Standard |
SceneType | Directly photographed |
SensingMethod | One-chip color area |
SensitivityType | Recommended Exposure Index |
SerialNumber | 6092305 |
Shadows2012 | +20 |
ShadowTint | 0 |
SharpenDetail | 25 |
SharpenEdgeMasking | 0 |
SharpenRadius | +1.0 |
Sharpness (1) | 25 |
Sharpness | Normal |
ShutterSpeed | 1/4000 |
ShutterSpeedValue | 1/4000 |
Software | Adobe Photoshop CS6 (Windows) |
SplitToningBalance | 0 |
SplitToningHighlightHue | 0 |
SplitToningHighlightSaturation | 0 |
SplitToningShadowHue | 0 |
SplitToningShadowSaturation | 0 |
SubjectDistanceRange | Unknown |
Tint | -3 |
ToneCurveName2012 | Custom |
ToneCurvePV2012 | 0, 20, 255, 250 |
ToneCurvePV2012Blue | 0, 0, 41, 28, 120, 124, 199, 214, 227, 236, 255, 255 |
ToneCurvePV2012Green | 0, 0, 38, 22, 121, 125, 193, 208, 255, 255 |
ToneCurvePV2012Red | 0, 0, 44, 25, 118, 124, 198, 214, 255, 255 |
URL_List | |
Version | 8.2 |
Vibrance | 0 |
VignetteAmount | 0 |
WhiteBalance (1) | As Shot |
WhiteBalance | Auto |
Whites2012 | -10 |