Felt | Verdi |
AEBBracketValue | 0 |
AlreadyApplied | True |
Aperture | 5.6 |
ApertureValue | 5.6 |
ApproximateFocusDistance | 8.36 |
Artist | |
AutoExposureBracketing | Off |
AutoISO | 100 |
BaseISO | 0 |
BitsPerSample | 8 |
BlueHue | 0 |
BlueSaturation | 0 |
Brightness | +50 |
BulbDuration | 0 |
CameraProfile | Adobe Standard |
CameraType | n/a |
CanonExposureMode | Unknown (-1) |
CanonFirmwareVersion | |
CanonFlashMode | n/a |
CanonImageSize | n/a |
CanonImageType | |
ChromaticAberrationB | 0 |
ChromaticAberrationR | 0 |
CircleOfConfusion | 0.019 mm |
Clarity | +38 |
ColorComponents | 3 |
ColorMode | RGB |
ColorNoiseReduction | 25 |
ColorNoiseReductionDetail | 50 |
ColorSpace | sRGB |
ColorTemperature | 5450 |
ContinuousDrive | Unknown (-1) |
Contrast | +22 |
ControlMode | n/a |
ConvertToGrayscale | False |
CreateDate (1) | 2014:11:15 13:07:25.49+01:00 |
CreateDate | 2014:11:15 13:07:25 |
CropAngle | -2.435427 |
CropBottom | 0.665726 |
CropConstrainToWarp | 1 |
CropHeight | 3 |
CropLeft | 0.232925 |
CropRight | 0.885777 |
CropTop | 0.071377 |
CropUnit | Unknown (3) |
CropWidth | 2 |
CustomRendered | Normal |
DateCreated (1) | 2014:11:15 |
DateCreated | 2014:11:15 13:07:25.049 |
DateTimeOriginal | 2014:11:15 13:07:25 |
Defringe | 0 |
DigitalZoom | None |
DOF | 0.09 m (8.32 - 8.40 m) |
DriveMode | Continuous Shooting |
EasyMode | Unknown (-1) |
ExifImageHeight | 800 |
ExifImageWidth | 1200 |
Exposure | +0.95 |
ExposureCompensation | 0 |
ExposureMode | Auto |
ExposureTime | 1/500 |
FileNumber | 0 |
FillLight | 4 |
Firmware | 2.0.5 |
Flash | Off, Did not fire |
FlashBits | (none) |
FlashCompensation | 0 |
FlashExposureComp | 0 |
FlashGuideNumber | 0 |
FNumber | 5.6 |
FocalLength | 400.0 mm |
FocalLength35efl | 400.0 mm (35 mm equivalent: 628.1 mm) |
FocalUnits | 32/mm |
FocusMode | Single |
FocusRange | Not Known |
Format | image/jpeg |
FOV | 3.3 deg |
GrainAmount | 0 |
GreenHue | 0 |
GreenSaturation | 0 |
HasCrop | True |
HasSettings | True |
HighlightRecovery | 13 |
HueAdjustmentAqua | 0 |
HueAdjustmentBlue | 0 |
HueAdjustmentGreen | 0 |
HueAdjustmentMagenta | 0 |
HueAdjustmentOrange | 0 |
HueAdjustmentPurple | 0 |
HueAdjustmentRed | 0 |
HueAdjustmentYellow | 0 |
HyperfocalDistance | 1493.25 m |
ICCProfileName | Adobe RGB (1998) |
ImageHeight | 800 |
ImageNumber | 0 |
ImageSize | 1200x800 |
ImageWidth | 1200 |
ISO (1) | 0 |
ISO | 1000 |
Lens (1) | EF100-400mm f/4.5-5.6L IS USM |
Lens | 0.0 mm |
Lens35efl | 0.0 mm (35 mm equivalent: 0.0 mm) |
LensID (1) | 183 |
LensID | n/a |
LensInfo | 100-400mm f/? |
LensManualDistortionAmount | 0 |
LensProfileEnable | 0 |
LensProfileSetup | LensDefaults |
LensType | n/a |
LightValue | 10.6 |
LuminanceAdjustmentAqua | 0 |
LuminanceAdjustmentBlue | 0 |
LuminanceAdjustmentGreen | 0 |
LuminanceAdjustmentMagenta | 0 |
LuminanceAdjustmentOrange | 0 |
LuminanceAdjustmentPurple | 0 |
LuminanceAdjustmentRed | 0 |
LuminanceAdjustmentYellow | 0 |
LuminanceNoiseReductionContrast | 0 |
LuminanceNoiseReductionDetail | 35 |
LuminanceSmoothing | 58 |
MacroMode | Unknown (0) |
Make | Canon |
ManualFlashOutput | n/a |
MaxFocalLength | 0 mm |
MeasuredEV | 5.00 |
Megapixels | 0.960 |
MeteringMode | Unknown (-1) |
MinFocalLength | 0 mm |
Model | Canon EOS 7D |
ModifyDate (1) | 2014:11:16 20:55:22+01:00 |
ModifyDate | 2014:11:15 13:07:25 |
NDFilter | n/a |
OpticalZoomCode | n/a |
Orientation | Horizontal (normal) |
OwnerName | |
ParametricDarks | 0 |
ParametricHighlights | 0 |
ParametricHighlightSplit | 75 |
ParametricLights | 0 |
ParametricMidtoneSplit | 50 |
ParametricShadows | 0 |
ParametricShadowSplit | 25 |
PerspectiveHorizontal | 0 |
PerspectiveRotate | 0.0 |
PerspectiveScale | 100 |
PerspectiveVertical | 0 |
PostCropVignetteAmount | 0 |
ProcessVersion | 5.7 |
ProfileDescription | sRGB v1.31 (Canon) |
Quality | Fine |
Rating | 0 |
RawFileName | IMG_7937.CR2 |
RedHue | 0 |
RedSaturation | 0 |
RelatedImageHeight | 800 |
RelatedImageWidth | 1200 |
Saturation | +3 |
SaturationAdjustmentAqua | 0 |
SaturationAdjustmentBlue | 0 |
SaturationAdjustmentGreen | 0 |
SaturationAdjustmentMagenta | 0 |
SaturationAdjustmentOrange | 0 |
SaturationAdjustmentPurple | 0 |
SaturationAdjustmentRed | 0 |
SaturationAdjustmentYellow | 0 |
ScaleFactor35efl | 1.6 |
SceneCaptureType | Standard |
SelfTimer | Off |
SequenceNumber | 0 |
SerialNumber | 0280111603 |
Shadows | 13 |
ShadowTint | 0 |
SharpenDetail | 53 |
SharpenEdgeMasking | 50 |
SharpenRadius | +1.9 |
Sharpness | 91 |
ShootingMode | Unknown (-1) |
ShutterSpeed | 1/500 |
ShutterSpeedValue | 1/500 |
SidecarForExtension | CR2 |
SlowShutter | None |
Software | Digital Photo Professional |
SplitToningBalance | 0 |
SplitToningHighlightHue | 0 |
SplitToningHighlightSaturation | 0 |
SplitToningShadowHue | 0 |
SplitToningShadowSaturation | 0 |
SRAWQuality | n/a |
TargetAperture | 5.6 |
TargetExposureTime | 1/501 |
Tint | +10 |
ToneCurve | 0, 0, 32, 22, 64, 56, 128, 128, 192, 196, 255, 255 |
ToneCurveName | Medium Contrast |
UserComment | |
Version | 6.3 |
Vibrance | +3 |
VignetteAmount | 0 |
WhiteBalance (1) | Auto |
WhiteBalance (2) | Custom |
WhiteBalance | Unknown (-1) |
ZoomSourceWidth | 0 |
ZoomTargetWidth | 0 |