Felt | Verdi |
AlreadyApplied | True |
Aperture | 14.0 |
ApertureValue | 14.0 |
ApproximateFocusDistance | 2.51 |
Artist | Terje Bjørnsen |
AutoLateralCA | 1 |
AutoWhiteVersion | 134348800 |
BitsPerSample | 8 |
Blacks2012 | 0 |
BlueHue | 0 |
BlueSaturation | 0 |
By-line | Terje Bjørnsen |
CameraProfile | Adobe Standard |
Caption-Abstract | vinterlys |
CFAPattern | [Red,Green][Green,Blue] |
CircleOfConfusion | 0.030 mm |
Clarity2012 | +56 |
ColorComponents | 3 |
ColorNoiseReduction | 25 |
ColorNoiseReductionDetail | 50 |
ColorNoiseReductionSmoothness | 50 |
ColorTemperature | 8706 |
ColorTransform | YCbCr |
Contrast | Normal |
Contrast2012 | 0 |
ConvertToGrayscale | False |
Copyright | Terje bjørnsen |
CopyrightFlag | True |
CopyrightNotice | Terje bjørnsen |
CreateDate (1) | 2015:01:31 10:03:51.41 |
CreateDate | 2015:01:31 10:03:51 |
Creator | Terje Bjørnsen |
CreatorAddress | Bjørkveien 12A |
CreatorTool | Adobe Photoshop Lightroom 5.7.1 (Macintosh) |
CropAngle | 0 |
CropBottom | 0.833191 |
CropConstrainToWarp | 0 |
CropLeft | 0 |
CropRight | 0.713907 |
CropTop | 0.143738 |
CustomRendered | Normal |
DateCreated (1) | 2015:01:31 |
DateCreated | 2015:01:31 10:03:51.41 |
DateTimeOriginal | 2015:01:31 10:03:51 |
DefringeGreenAmount | 0 |
DefringeGreenHueHi | 60 |
DefringeGreenHueLo | 40 |
DefringePurpleAmount | 0 |
DefringePurpleHueHi | 70 |
DefringePurpleHueLo | 30 |
Description | vinterlys |
DigitalZoomRatio | 1 |
DOF | inf (0.89 m - inf) |
Exposure2012 | 0.00 |
ExposureCompensation | 0 |
ExposureMode | Manual |
ExposureProgram | Manual |
ExposureTime | 1/8 |
Flash | Off, Did not fire |
FNumber | 14.0 |
FocalLength | 24.0 mm |
FocalLength35efl | 24.0 mm (35 mm equivalent: 24.0 mm) |
FocalLengthIn35mmFormat | 24 mm |
Format | image/jpeg |
FOV | 73.7 deg |
GainControl | None |
GrainAmount | 0 |
GreenHue | 0 |
GreenSaturation | 0 |
HasCrop | True |
HasExtendedXMP | C2D07E7BB06ABCBAFDF8D7ACADD2E609 |
HasSettings | True |
Highlights2012 | -28 |
HueAdjustmentAqua | 0 |
HueAdjustmentBlue | 0 |
HueAdjustmentGreen | 0 |
HueAdjustmentMagenta | 0 |
HueAdjustmentOrange | 0 |
HueAdjustmentPurple | 0 |
HueAdjustmentRed | 0 |
HueAdjustmentYellow | 0 |
HyperfocalDistance | 1.37 m |
ImageDescription | vinterlys |
ImageHeight | 4295 |
ImageNumber | 2009 |
ImageSize | 2769x4295 |
ImageWidth | 2769 |
ISO | 64 |
Keywords | Lofoten, Terje Bjørnsen, Workshop |
Label | Green |
Lens | 24.0-70.0 mm f/2.8 |
LensID (1) | 147 |
LensID | AF-S Zoom-Nikkor 24-70mm f/2.8G ED |
LensInfo | 24-70mm f/2.8 |
LensManualDistortionAmount | 0 |
LensModel | 24.0-70.0 mm f/2.8 |
LensProfileChromaticAberrationScale | 100 |
LensProfileDistortionScale | 100 |
LensProfileEnable | 1 |
LensProfileFilename | NIKON D3X (Nikon FX 24-70mm f2.8 G ED) - RAW.lcp |
LensProfileName | Adobe (Nikon AF-S NIKKOR 24-70mm f/2.8G ED) |
LensProfileSetup | LensDefaults |
LensProfileVignettingScale | 100 |
LightSource | Unknown |
LightValue | 11.3 |
LuminanceAdjustmentAqua | 0 |
LuminanceAdjustmentBlue | 0 |
LuminanceAdjustmentGreen | 0 |
LuminanceAdjustmentMagenta | 0 |
LuminanceAdjustmentOrange | 0 |
LuminanceAdjustmentPurple | 0 |
LuminanceAdjustmentRed | 0 |
LuminanceAdjustmentYellow | 0 |
LuminanceNoiseReductionContrast | 0 |
LuminanceNoiseReductionDetail | 73 |
LuminanceSmoothing | 51 |
Make | NIKON CORPORATION |
Marked | True |
MaxApertureValue | 2.8 |
Megapixels | 11.9 |
MeteringMode | Multi-segment |
Model | NIKON D750 |
ModifyDate (1) | 2015:02:02 22:52:04+01:00 |
ModifyDate | 2015:02:02 22:52:04 |
ObjectName | Lofoten |
PaintCorrectionActive | true |
PaintCorrectionAmount | 1.000000 |
PaintCorrectionBrightness | 0.000000 |
PaintCorrectionClarity2012 (1) | -0.108058 |
PaintCorrectionClarity2012 (2) | 0.043890 |
PaintCorrectionClarity2012 (3) | 0.740344 |
PaintCorrectionClarity2012 (4) | 1.000000 |
PaintCorrectionClarity2012 (7) | -0.001065 |
PaintCorrectionClarity2012 | -0.001668 |
PaintCorrectionContrast2012 (4) | 0.332690 |
PaintCorrectionContrast2012 | 0.000000 |
PaintCorrectionDefringe | 0.000000 |
PaintCorrectionExposure2012 (1) | -0.126756 |
PaintCorrectionExposure2012 (15) | 0.126229 |
PaintCorrectionExposure2012 (3) | 0.000000 |
PaintCorrectionExposure2012 (4) | 0.106654 |
PaintCorrectionExposure2012 (5) | 0.572946 |
PaintCorrectionExposure2012 (7) | 0.080624 |
PaintCorrectionExposure2012 | 0.098402 |
PaintCorrectionHighlights2012 (1) | 0.057760 |
PaintCorrectionHighlights2012 (13) | 0.000000 |
PaintCorrectionHighlights2012 | 0.370348 |
PaintCorrectionHue | 0.000000 |
PaintCorrectionLuminanceNoise | 0.000000 |
PaintCorrectionMaskCenterWeight | 0.000000 |
PaintCorrectionMaskFlow (1) | 1.000000 |
PaintCorrectionMaskFlow (10) | 0.600000 |
PaintCorrectionMaskFlow | 0.498541 |
PaintCorrectionMaskRadius (1) | 0.095819 |
PaintCorrectionMaskRadius (10) | 0.036046 |
PaintCorrectionMaskRadius (11) | 0.004103 |
PaintCorrectionMaskRadius (12) | 0.024015 |
PaintCorrectionMaskRadius (13) | 0.023848 |
PaintCorrectionMaskRadius (14) | 0.016337 |
PaintCorrectionMaskRadius (15) | 0.014552 |
PaintCorrectionMaskRadius (16) | 0.014558 |
PaintCorrectionMaskRadius (17) | 0.014425 |
PaintCorrectionMaskRadius (18) | 0.022065 |
PaintCorrectionMaskRadius (19) | 0.014564 |
PaintCorrectionMaskRadius (2) | 0.096889 |
PaintCorrectionMaskRadius (20) | 0.010968 |
PaintCorrectionMaskRadius (21) | 0.007486 |
PaintCorrectionMaskRadius (22) | 0.012428 |
PaintCorrectionMaskRadius (23) | 0.031658 |
PaintCorrectionMaskRadius (24) | 0.031792 |
PaintCorrectionMaskRadius (25) | 0.023715 |
PaintCorrectionMaskRadius (26) | 0.018039 |
PaintCorrectionMaskRadius (27) | 0.014419 |
PaintCorrectionMaskRadius (28) | 0.010892 |
PaintCorrectionMaskRadius (29) | 0.010913 |
PaintCorrectionMaskRadius (3) | 0.099746 |
PaintCorrectionMaskRadius (30) | 0.005760 |
PaintCorrectionMaskRadius (31) | 0.002488 |
PaintCorrectionMaskRadius (32) | 0.040458 |
PaintCorrectionMaskRadius (33) | 0.040727 |
PaintCorrectionMaskRadius (34) | 0.040731 |
PaintCorrectionMaskRadius (35) | 0.040957 |
PaintCorrectionMaskRadius (36) | 0.018289 |
PaintCorrectionMaskRadius (37) | 0.012738 |
PaintCorrectionMaskRadius (38) | 0.010971 |
PaintCorrectionMaskRadius (39) | 0.010943 |
PaintCorrectionMaskRadius (4) | 0.098537 |
PaintCorrectionMaskRadius (40) | 0.014531 |
PaintCorrectionMaskRadius (41) | 0.009212 |
PaintCorrectionMaskRadius (42) | 0.020225 |
PaintCorrectionMaskRadius (43) | 0.010949 |
PaintCorrectionMaskRadius (44) | 0.038683 |
PaintCorrectionMaskRadius (45) | 0.038677 |
PaintCorrectionMaskRadius (46) | 0.018049 |
PaintCorrectionMaskRadius (47) | 0.018030 |
PaintCorrectionMaskRadius (48) | 0.002491 |
PaintCorrectionMaskRadius (49) | 0.020084 |
PaintCorrectionMaskRadius (5) | 0.316676 |
PaintCorrectionMaskRadius (50) | 0.019867 |
PaintCorrectionMaskRadius (51) | 0.018137 |
PaintCorrectionMaskRadius (52) | 0.075751 |
PaintCorrectionMaskRadius (53) | 0.073974 |
PaintCorrectionMaskRadius (54) | 0.075688 |
PaintCorrectionMaskRadius (55) | 0.047962 |
PaintCorrectionMaskRadius (56) | 0.047185 |
PaintCorrectionMaskRadius (57) | 0.047841 |
PaintCorrectionMaskRadius (58) | 0.047132 |
PaintCorrectionMaskRadius (59) | 0.047170 |
PaintCorrectionMaskRadius (6) | 0.068809 |
PaintCorrectionMaskRadius (60) | 0.078628 |
PaintCorrectionMaskRadius (61) | 0.077022 |
PaintCorrectionMaskRadius (62) | 0.057399 |
PaintCorrectionMaskRadius (63) | 0.036104 |
PaintCorrectionMaskRadius (64) | 0.036246 |
PaintCorrectionMaskRadius (65) | 0.036201 |
PaintCorrectionMaskRadius (66) | 0.035488 |
PaintCorrectionMaskRadius (67) | 0.035558 |
PaintCorrectionMaskRadius (68) | 0.046914 |
PaintCorrectionMaskRadius (69) | 0.046817 |
PaintCorrectionMaskRadius (7) | 0.130288 |
PaintCorrectionMaskRadius (70) | 0.047574 |
PaintCorrectionMaskRadius (71) | 0.047010 |
PaintCorrectionMaskRadius (72) | 0.035996 |
PaintCorrectionMaskRadius (73) | 0.035326 |
PaintCorrectionMaskRadius (74) | 0.047843 |
PaintCorrectionMaskRadius (75) | 0.047942 |
PaintCorrectionMaskRadius (76) | 0.046771 |
PaintCorrectionMaskRadius (77) | 0.071988 |
PaintCorrectionMaskRadius (8) | 0.130129 |
PaintCorrectionMaskRadius (9) | 0.057468 |
PaintCorrectionMaskRadius | 0.072413 |
PaintCorrectionMaskValue | 0.596669 |
PaintCorrectionMaskWhat | Mask/Paint |
PaintCorrectionMoire | 0.000000 |
PaintCorrectionSaturation (7) | 0.205232 |
PaintCorrectionSaturation | 0.000000 |
PaintCorrectionShadows2012 | 0.000000 |
PaintCorrectionSharpness | 0.000000 |
PaintCorrectionTemperature (2) | 0.000000 |
PaintCorrectionTemperature (7) | 0.416070 |
PaintCorrectionTemperature | 0.651422 |
PaintCorrectionTint (2) | -0.525720 |
PaintCorrectionTint | 0.000000 |
PaintCorrectionWhat | Correction |
ParametricDarks | 0 |
ParametricHighlights | 0 |
ParametricHighlightSplit | 75 |
ParametricLights | 0 |
ParametricMidtoneSplit | 50 |
ParametricShadows | 0 |
ParametricShadowSplit | 25 |
PerspectiveAspect | 0 |
PerspectiveHorizontal | 0 |
PerspectiveRotate | 0.0 |
PerspectiveScale | 100 |
PerspectiveUpright | 0 |
PerspectiveVertical | 0 |
PostCropVignetteAmount | 0 |
ProcessVersion | 6.7 |
ProfileDescription | sRGB IEC61966-2.1 |
RedHue | 0 |
RedSaturation | 0 |
Rights | Terje bjørnsen |
Saturation (1) | 0 |
Saturation | Normal |
SaturationAdjustmentAqua | 0 |
SaturationAdjustmentBlue | 0 |
SaturationAdjustmentGreen | 0 |
SaturationAdjustmentMagenta | 0 |
SaturationAdjustmentOrange | 0 |
SaturationAdjustmentPurple | 0 |
SaturationAdjustmentRed | 0 |
SaturationAdjustmentYellow | 0 |
ScaleFactor35efl | 1.0 |
SceneCaptureType | Standard |
SceneType | Directly photographed |
SensingMethod | One-chip color area |
SensitivityType | Recommended Exposure Index |
SerialNumber | 6018657 |
Shadows2012 | +32 |
ShadowTint | 0 |
SharpenDetail | 25 |
SharpenEdgeMasking | 65 |
SharpenRadius | +1.5 |
Sharpness (1) | 63 |
Sharpness | Normal |
ShutterSpeed | 1/8 |
ShutterSpeedValue | 1/8 |
Software | Adobe Photoshop Lightroom 5.7.1 (Macintosh) |
SplitToningBalance | 0 |
SplitToningHighlightHue | 0 |
SplitToningHighlightSaturation | 0 |
SplitToningShadowHue | 0 |
SplitToningShadowSaturation | 0 |
Subject | Lofoten, Terje Bjørnsen, Workshop |
SubjectDistanceRange | Unknown |
Tint | 0 |
Title | Lofoten |
ToneCurve | 0, 0, 255, 255 |
ToneCurveBlue | 0, 0, 255, 255 |
ToneCurveGreen | 0, 0, 255, 255 |
ToneCurveName | Linear |
ToneCurveName2012 | Custom |
ToneCurvePV2012 | 0, 0, 44, 33, 226, 240, 255, 255 |
ToneCurvePV2012Blue | 0, 0, 255, 255 |
ToneCurvePV2012Green | 0, 0, 255, 255 |
ToneCurvePV2012Red | 0, 0, 255, 255 |
ToneCurveRed | 0, 0, 255, 255 |
Version | 8.7.1 |
Vibrance | +13 |
VignetteAmount | 0 |
WhiteBalance (1) | Custom |
WhiteBalance | Auto |
Whites2012 | +35 |