Felt | Verdi |
AlreadyApplied | True |
Aperture | 6.3 |
ApertureValue | 6.3 |
ApproximateFocusDistance | 64.4 |
AutoLateralCA | 0 |
AutoWhiteVersion | 134348800 |
BitsPerSample | 8 |
Blacks2012 | -23 |
BlueHue | 0 |
BlueSaturation | 0 |
CameraProfile | Embedded |
CircleOfConfusion | 0.005 mm |
Clarity2012 | +61 |
ColorComponents | 3 |
ColorNoiseReduction | 0 |
ColorSpace | sRGB |
ColorTransform | YCbCr |
Contrast2012 | 0 |
ConvertToGrayscale | False |
CreateDate | 2015:02:28 16:32:51 |
CreatorTool | Adobe Photoshop Lightroom 5.7 (Windows) |
CropAngle | 1.3 |
CropBottom | 1 |
CropConstrainToWarp | 0 |
CropLeft | 0.022944 |
CropRight | 0.977056 |
CropTop | 0 |
CustomRendered | Normal |
DateCreated (1) | 2015:02:28 |
DateCreated | 2015:02:28 16:32:51 |
DateTimeOriginal | 2015:02:28 16:32:51 |
DefringeGreenAmount | 0 |
DefringeGreenHueHi | 60 |
DefringeGreenHueLo | 40 |
DefringePurpleAmount | 0 |
DefringePurpleHueHi | 70 |
DefringePurpleHueLo | 30 |
DigitalZoomRatio | 1 |
DOF | inf (0.59 m - inf) |
Exposure2012 | +0.60 |
ExposureCompensation | 0 |
ExposureMode | Manual |
ExposureTime | 1/50 |
Firmware | 1.00 |
Flash | Off, Did not fire |
FlashCompensation | 0 |
FNumber | 6.3 |
FocalLength | 4.5 mm |
FocalLength35efl | 4.5 mm (35 mm equivalent: 25.1 mm) |
Format | image/jpeg |
FOV | 71.2 deg |
GrainAmount | 0 |
GreenHue | 0 |
GreenSaturation | 0 |
HasCrop | True |
HasSettings | True |
Highlights2012 | 0 |
HueAdjustmentAqua | 0 |
HueAdjustmentBlue | 0 |
HueAdjustmentGreen | 0 |
HueAdjustmentMagenta | 0 |
HueAdjustmentOrange | 0 |
HueAdjustmentPurple | 0 |
HueAdjustmentRed | 0 |
HueAdjustmentYellow | 0 |
HyperfocalDistance | 0.60 m |
ImageHeight | 2913 |
ImageSize | 3884x2913 |
ImageWidth | 3884 |
IncrementalTemperature | +5 |
IncrementalTint | 0 |
ISO | 400 |
Lens | 4.5-90.0 mm |
LensInfo | 4.5-90mm f/? |
LensManualDistortionAmount | 0 |
LensModel | 4.5-90.0 mm |
LensProfileEnable | 0 |
LensProfileSetup | LensDefaults |
LightValue | 9.0 |
LuminanceAdjustmentAqua | 0 |
LuminanceAdjustmentBlue | 0 |
LuminanceAdjustmentGreen | 0 |
LuminanceAdjustmentMagenta | 0 |
LuminanceAdjustmentOrange | 0 |
LuminanceAdjustmentPurple | 0 |
LuminanceAdjustmentRed | 0 |
LuminanceAdjustmentYellow | 0 |
LuminanceSmoothing | 0 |
Make | Canon |
MaxApertureValue | 3.5 |
Megapixels | 11.3 |
MeteringMode | Multi-segment |
Model | Canon PowerShot SX240 HS |
ModifyDate (1) | 2015:03:01 14:01:26+01:00 |
ModifyDate | 2015:03:01 14:01:26 |
ParametricDarks | 0 |
ParametricHighlights | 0 |
ParametricHighlightSplit | 75 |
ParametricLights | 0 |
ParametricMidtoneSplit | 50 |
ParametricShadows | 0 |
ParametricShadowSplit | 25 |
PerspectiveAspect | 0 |
PerspectiveHorizontal | 0 |
PerspectiveRotate | 0.0 |
PerspectiveScale | 100 |
PerspectiveUpright | 0 |
PerspectiveVertical | 0 |
PostCropVignetteAmount | 0 |
ProcessVersion | 6.7 |
ProfileDescription | sRGB IEC61966-2.1 |
RedHue | 0 |
RedSaturation | 0 |
Saturation | +18 |
SaturationAdjustmentAqua | 0 |
SaturationAdjustmentBlue | 0 |
SaturationAdjustmentGreen | 0 |
SaturationAdjustmentMagenta | 0 |
SaturationAdjustmentOrange | 0 |
SaturationAdjustmentPurple | 0 |
SaturationAdjustmentRed | 0 |
SaturationAdjustmentYellow | 0 |
ScaleFactor35efl | 5.6 |
SceneCaptureType | Standard |
SensingMethod | One-chip color area |
SensitivityType | Standard Output Sensitivity and Recommended Exposure Index |
Shadows2012 | 0 |
ShadowTint | 0 |
SharpenDetail | 25 |
SharpenEdgeMasking | 0 |
SharpenRadius | +1.0 |
Sharpness | 0 |
ShutterSpeed | 1/50 |
ShutterSpeedValue | 1/50 |
Software | Adobe Photoshop Lightroom 5.7 (Windows) |
SplitToningBalance | 0 |
SplitToningHighlightHue | 0 |
SplitToningHighlightSaturation | 0 |
SplitToningShadowHue | 0 |
SplitToningShadowSaturation | 0 |
ToneCurve | 0, 0, 255, 255 |
ToneCurveBlue | 0, 0, 255, 255 |
ToneCurveGreen | 0, 0, 255, 255 |
ToneCurveName | Linear |
ToneCurveName2012 | Linear |
ToneCurvePV2012 | 0, 0, 255, 255 |
ToneCurvePV2012Blue | 0, 0, 255, 255 |
ToneCurvePV2012Green | 0, 0, 255, 255 |
ToneCurvePV2012Red | 0, 0, 255, 255 |
ToneCurveRed | 0, 0, 255, 255 |
Version | 8.7 |
Vibrance | +39 |
VignetteAmount | 0 |
WhiteBalance (1) | Custom |
WhiteBalance | Auto |
Whites2012 | 0 |