Felt | Verdi |
AlreadyApplied | True |
AutoLateralCA | 1 |
AutoWhiteVersion | 134348800 |
BitsPerSample | 8 |
Blacks2012 | -20 |
BlueHue | 0 |
BlueSaturation | 0 |
BrightnessValue | -9.44375 |
CameraProfile | Adobe Standard |
Caption-Abstract | Bakklandet is a neighborhood of Trondheim, Norway. It lies on the east side of the river Nidelva between Bakke Bridge and the Old Town Bridge. The area is dominated by small, wooden houses and narrow streets. It is among the major tourist attractions in the city. |
CircleOfConfusion | 0.012 mm |
Clarity2012 | +15 |
ColorComponents | 3 |
ColorNoiseReduction | 25 |
ColorNoiseReductionDetail | 50 |
ColorNoiseReductionSmoothness | 50 |
ColorTemperature | 6646 |
Contrast | Normal |
Contrast2012 | +11 |
ConvertToGrayscale | False |
Copyright | Aziz Nasuti |
CopyrightNotice | Aziz Nasuti |
CreateDate | 2015:06:12 22:25:55 |
CreatorTool | Adobe Photoshop Lightroom 5.7 (Windows) |
CropAngle | -0.307215 |
CropBottom | 0.834672 |
CropConstrainToWarp | 0 |
CropLeft | 0.179966 |
CropRight | 0.963475 |
CropTop | 0.060229 |
CustomRendered | Normal |
DateCreated (1) | 2015:06:12 22:25:55 |
DateCreated | 2015:06:12 |
DateTimeOriginal | 2015:06:12 22:25:55 |
DefringeGreenAmount | 0 |
DefringeGreenHueHi | 60 |
DefringeGreenHueLo | 40 |
DefringePurpleAmount | 0 |
DefringePurpleHueHi | 70 |
DefringePurpleHueLo | 30 |
Description | Bakklandet is a neighborhood of Trondheim, Norway. It lies on the east side of the river Nidelva between Bakke Bridge and the Old Town Bridge. The area is dominated by small, wooden houses and narrow streets. It is among the major tourist attractions in the city. |
DigitalZoomRatio | 1 |
ExifImageHeight | 2002 |
ExifImageWidth | 3000 |
Exposure2012 | +1.16 |
ExposureCompensation | 0 |
ExposureMode | Manual |
ExposureProgram | Manual |
ExposureTime | 30 |
Flash | Off, Did not fire |
Format | image/tiff |
GPSLatitude (1) | 63 deg 25' 37.95" |
GPSLatitude | 63 deg 25' 37.95" N |
GPSLatitudeRef | North |
GPSLongitude (1) | 10 deg 24' 11.69" |
GPSLongitude | 10 deg 24' 11.69" E |
GPSLongitudeRef | East |
GPSPosition | 63 deg 25' 37.95" N, 10 deg 24' 11.69" E |
GPSVersionID | 2.2.0.0 |
GrainAmount | 0 |
GreenHue | 0 |
GreenSaturation | 0 |
HasCrop | True |
HasSettings | True |
HierarchicalSubject | Norway, Trondheim, bakklandet, street, streetphotography |
Highlights2012 | -100 |
HueAdjustmentAqua | 0 |
HueAdjustmentBlue | 0 |
HueAdjustmentGreen | 0 |
HueAdjustmentMagenta | 0 |
HueAdjustmentOrange | 0 |
HueAdjustmentPurple | 0 |
HueAdjustmentRed | 0 |
HueAdjustmentYellow | 0 |
ImageDescription | Bakklandet is a neighborhood of Trondheim, Norway. It lies on the east side of the river Nidelva between Bakke Bridge and the Old Town Bridge. The area is dominated by small, wooden houses and narrow streets. It is among the major tourist attractions in the city. |
ImageHeight | 2002 |
ImageSize | 3000x2002 |
ImageWidth | 3000 |
ISO | 100 |
Keywords | Norway, Trondheim, bakklandet, street, streetphotography |
Lens | ---- |
LensManualDistortionAmount | 0 |
LensModel | ---- |
LensProfileEnable | 0 |
LensProfileSetup | LensDefaults |
LightSource | Unknown |
Location | Trondheim |
LuminanceAdjustmentAqua | 0 |
LuminanceAdjustmentBlue | 0 |
LuminanceAdjustmentGreen | 0 |
LuminanceAdjustmentMagenta | 0 |
LuminanceAdjustmentOrange | 0 |
LuminanceAdjustmentPurple | 0 |
LuminanceAdjustmentRed | 0 |
LuminanceAdjustmentYellow | 0 |
LuminanceNoiseReductionContrast | 0 |
LuminanceNoiseReductionDetail | 50 |
LuminanceSmoothing | 10 |
Make | SONY |
Marked | True |
MaxApertureValue | 1.0 |
Megapixels | 6.0 |
MeteringMode | Multi-segment |
Model | ILCE-7R |
ModifyDate (1) | 2015:06:13 11:34:14+02:00 |
ModifyDate | 2015:06:13 11:39:21 |
ObjectName | Bakklandet Trondheim |
Orientation | Horizontal (normal) |
ParametricDarks | -5 |
ParametricHighlights | -54 |
ParametricHighlightSplit | 75 |
ParametricLights | +59 |
ParametricMidtoneSplit | 50 |
ParametricShadows | +21 |
ParametricShadowSplit | 25 |
PerspectiveAspect | 0 |
PerspectiveHorizontal | 0 |
PerspectiveRotate | 0.0 |
PerspectiveScale | 100 |
PerspectiveUpright | 0 |
PerspectiveVertical | 0 |
PostCropVignetteAmount | 0 |
ProcessVersion | 6.7 |
ProfileDescription | sRGB IEC61966-2.1 |
Rating | 4 |
RecommendedExposureIndex | 100 |
RedHue | 0 |
RedSaturation | 0 |
Rights | Aziz Nasuti |
Saturation (1) | +43 |
Saturation | Normal |
SaturationAdjustmentAqua | 0 |
SaturationAdjustmentBlue | 0 |
SaturationAdjustmentGreen | 0 |
SaturationAdjustmentMagenta | 0 |
SaturationAdjustmentOrange | 0 |
SaturationAdjustmentPurple | 0 |
SaturationAdjustmentRed | 0 |
SaturationAdjustmentYellow | 0 |
ScaleFactor35efl | 2.5 |
SceneCaptureType | Standard |
SceneType | Directly photographed |
SensitivityType | Recommended Exposure Index |
Shadows2012 | +100 |
ShadowTint | 0 |
SharpenDetail | 10 |
SharpenEdgeMasking | 69 |
SharpenRadius | +1.5 |
Sharpness (1) | 70 |
Sharpness | Normal |
ShutterSpeed | 30 |
ShutterSpeedValue | 30 |
Software | ACDSee Pro 7 |
SplitToningBalance | 0 |
SplitToningHighlightHue | 55 |
SplitToningHighlightSaturation | 25 |
SplitToningShadowHue | 55 |
SplitToningShadowSaturation | 10 |
Sub-location | Trondheim |
Subject | Norway, Trondheim, bakklandet, street, streetphotography |
Tint | -15 |
Title | Bakklandet Trondheim |
ToneCurve | 0, 0, 255, 255 |
ToneCurveBlue | 0, 0, 255, 255 |
ToneCurveGreen | 0, 0, 255, 255 |
ToneCurveName | Linear |
ToneCurveName2012 | Linear |
ToneCurvePV2012 | 0, 0, 255, 255 |
ToneCurvePV2012Blue | 0, 0, 255, 255 |
ToneCurvePV2012Green | 0, 0, 255, 255 |
ToneCurvePV2012Red | 0, 0, 255, 255 |
ToneCurveRed | 0, 0, 255, 255 |
Version | 8.7 |
Vibrance | +23 |
VignetteAmount | +30 |
VignetteMidpoint | 30 |
WhiteBalance (1) | Custom |
WhiteBalance | Auto |
Whites2012 | -21 |