Felt | Verdi |
AlreadyApplied | True |
Aperture | 9.0 |
ApertureValue | 9.0 |
ApproximateFocusDistance | 4294967295 |
Artist | Håvard Jangaard Strand |
AuthorsPosition | Daydreamer |
AutoLateralCA | 1 |
AutoWhiteVersion | 134348800 |
BitsPerSample | 8 |
Blacks2012 | -2 |
BlueHue | 0 |
BlueSaturation | 0 |
By-line | Håvard Jangaard Strand |
By-lineTitle | Daydreamer |
CameraProfile | Adobe Standard |
CaptionWriter | Håvard Jangaard Strand |
CircleOfConfusion | 0.019 mm |
Clarity2012 | +58 |
ColorComponents | 3 |
ColorNoiseReduction | 25 |
ColorNoiseReductionDetail | 50 |
ColorNoiseReductionSmoothness | 50 |
ColorSpace | sRGB |
ColorTemperature | 7039 |
ColorTransform | YCbCr |
Contrast2012 | +44 |
ConvertToGrayscale | True |
Copyright | Håvard Jangaard Strand |
CopyrightFlag | True |
CopyrightNotice | Håvard Jangaard Strand |
CreateDate (1) | 2015:11:18 10:29:42.00 |
CreateDate | 2015:11:18 10:29:42 |
Creator | Håvard Jangaard Strand |
CreatorAddress | Jangardsøyra 5 |
CreatorCity | Ålesund |
CreatorCountry | Norway |
CreatorPostalCode | 6050 |
CreatorRegion | Møre og Romsdal |
CreatorTool | Adobe Photoshop Lightroom 6.5 (Windows) |
CreatorWorkEmail | haavardjstrand@gmail.com |
CreatorWorkTelephone | +47 93696734 |
Credit | Håvard Jangaard Strand |
CustomRendered | Normal |
DateCreated (1) | 2015:11:18 |
DateCreated | 2015:11:18 10:29:42.00 |
DateTimeOriginal | 2015:11:18 10:29:42 |
Dehaze | 0 |
DOF | inf (1.72 m - inf) |
Exposure2012 | +0.17 |
ExposureCompensation | 0 |
ExposureMode | Auto |
ExposureProgram | Aperture-priority AE |
ExposureTime | 1/60 |
Firmware | 1.0.5 |
Flash | Off, Did not fire |
FlashCompensation | 0 |
FNumber | 9.0 |
FocalLength | 17.0 mm |
FocalLength35efl | 17.0 mm (35 mm equivalent: 27.3 mm) |
Format | image/jpeg |
FOV | 66.8 deg |
GrainAmount | 0 |
GrayMixerAqua | -18 |
GrayMixerBlue | +9 |
GrayMixerGreen | -25 |
GrayMixerMagenta | +5 |
GrayMixerOrange | -17 |
GrayMixerPurple | +15 |
GrayMixerRed | -8 |
GrayMixerYellow | -21 |
GreenHue | 0 |
GreenSaturation | 0 |
HasCrop | False |
HasSettings | True |
Highlights2012 | -13 |
HyperfocalDistance | 1.72 m |
ImageHeight | 3648 |
ImageNumber | 0 |
ImageSize | 5472x3648 |
ImageWidth | 5472 |
ISO | 100 |
Keywords | emdalshornet, emdalstindane, fjell, høsttur, skyer |
Label | Blue |
Lens | EF-S10-22mm f/3.5-4.5 USM |
LensID (1) | 235 |
LensID | Canon EF-S 10-22mm f/3.5-4.5 USM |
LensInfo | 10-22mm f/? |
LensManualDistortionAmount | 0 |
LensModel | EF-S10-22mm f/3.5-4.5 USM |
LensProfileChromaticAberrationScale | 100 |
LensProfileDistortionScale | 100 |
LensProfileEnable | 1 |
LensProfileFilename | Canon EOS 50D (Canon EF-S 10-22mm f3.5-4.5 USM) - RAW.lcp |
LensProfileName | Adobe (Canon EF-S 10-22mm f/3.5-4.5 USM) |
LensProfileSetup | LensDefaults |
LensProfileVignettingScale | 100 |
LensSerialNumber | 0000228cb1 |
LightValue | 12.2 |
LuminanceNoiseReductionContrast | 0 |
LuminanceNoiseReductionDetail | 50 |
LuminanceSmoothing | 21 |
Make | Canon |
Marked | True |
MaxApertureValue | 4.2 |
Megapixels | 20.0 |
MeteringMode | Center-weighted average |
Model | Canon EOS 7D Mark II |
ModifyDate (1) | 2016:04:05 12:48:03+02:00 |
ModifyDate | 2016:04:05 12:48:03 |
ParametricDarks | -27 |
ParametricHighlights | 0 |
ParametricHighlightSplit | 75 |
ParametricLights | +26 |
ParametricMidtoneSplit | 50 |
ParametricShadows | 0 |
ParametricShadowSplit | 25 |
PerspectiveAspect | 0 |
PerspectiveHorizontal | 0 |
PerspectiveRotate | 0.0 |
PerspectiveScale | 100 |
PerspectiveUpright | 0 |
PerspectiveVertical | 0 |
PostCropVignetteAmount | -12 |
PostCropVignetteFeather | 50 |
PostCropVignetteHighlightContrast | 0 |
PostCropVignetteMidpoint | 50 |
PostCropVignetteRoundness | 0 |
PostCropVignetteStyle | 1 |
ProcessVersion | 6.7 |
ProfileDescription | sRGB IEC61966-2.1 |
RecommendedExposureIndex | 100 |
RedHue | 0 |
RedSaturation | 0 |
Rights | Håvard Jangaard Strand |
ScaleFactor35efl | 1.6 |
SceneCaptureType | Standard |
SensitivityType | Recommended Exposure Index |
SerialNumber | 063021007049 |
Shadows2012 | 0 |
ShadowTint | 0 |
SharpenDetail | 25 |
SharpenEdgeMasking | 0 |
SharpenRadius | +1.0 |
Sharpness | 25 |
ShutterSpeed | 1/60 |
ShutterSpeedValue | 1/60 |
Software | Adobe Photoshop Lightroom 6.5 (Windows) |
SplitToningBalance | 0 |
SplitToningHighlightHue | 0 |
SplitToningHighlightSaturation | 0 |
SplitToningShadowHue | 0 |
SplitToningShadowSaturation | 0 |
Subject | emdalshornet, emdalstindane, fjell, høsttur, skyer |
Tint | +1 |
ToneCurve | 0, 0, 255, 255 |
ToneCurveBlue | 0, 0, 255, 255 |
ToneCurveGreen | 0, 0, 255, 255 |
ToneCurveName | Linear |
ToneCurveName2012 | Linear |
ToneCurvePV2012 | 0, 0, 255, 255 |
ToneCurvePV2012Blue | 0, 0, 255, 255 |
ToneCurvePV2012Green | 0, 0, 255, 255 |
ToneCurvePV2012Red | 0, 0, 255, 255 |
ToneCurveRed | 0, 0, 255, 255 |
ToneMapStrength | 0 |
UsageTerms | All rights reserved |
Version | 9.5 |
VignetteAmount | 0 |
WhiteBalance (1) | Custom |
WhiteBalance | Auto |
Whites2012 | -29 |
Writer-Editor | Håvard Jangaard Strand |