Felt | Verdi |
AlreadyApplied | True |
Aperture | 5.6 |
ApertureValue | 5.6 |
ApproximateFocusDistance | 3.35 |
Artist | Trond K Wiik |
AuthorsPosition | Photography |
AutoLateralCA | 0 |
AutoWhiteVersion | 134348800 |
BitsPerSample | 8 |
Blacks2012 | 0 |
BlueHue | -32 |
BlueSaturation | 0 |
By-line | Trond K Wiik |
By-lineTitle | Photography |
CameraProfile | Embedded |
CFAPattern | [Red,Green][Green,Blue] |
CircGradBasedCorrActive | true |
CircGradBasedCorrAmount | 1.000000 |
CircGradBasedCorrBrightness | 0.000000 |
CircGradBasedCorrClarity2012 | 0.000000 |
CircGradBasedCorrContrast2012 (3) | -0.431129 |
CircGradBasedCorrContrast2012 | 0.000000 |
CircGradBasedCorrDefringe | 0.000000 |
CircGradBasedCorrExposure2012 (1) | 0.553967 |
CircGradBasedCorrExposure2012 (2) | 0.333814 |
CircGradBasedCorrExposure2012 (3) | 0.273893 |
CircGradBasedCorrExposure2012 (4) | 0.406743 |
CircGradBasedCorrExposure2012 (5) | 0.730052 |
CircGradBasedCorrExposure2012 | 0.785839 |
CircGradBasedCorrHighlights2012 (3) | 0.757130 |
CircGradBasedCorrHighlights2012 | 0.000000 |
CircGradBasedCorrHue (3) | 0.000000 |
CircGradBasedCorrHue | 240.000000 |
CircGradBasedCorrLocalBlacks2012 | 0.000000 |
CircGradBasedCorrLocalDehaze | 0.000000 |
CircGradBasedCorrLocalWhites2012 | 0.000000 |
CircGradBasedCorrLuminanceNoise | 0.000000 |
CircGradBasedCorrMaskAngle | 2.271830 |
CircGradBasedCorrMaskBottom (1) | 0.504179 |
CircGradBasedCorrMaskBottom (2) | 0.557475 |
CircGradBasedCorrMaskBottom (3) | 0.313257 |
CircGradBasedCorrMaskBottom (4) | 0.580427 |
CircGradBasedCorrMaskBottom (5) | 0.542127 |
CircGradBasedCorrMaskBottom | 0.473299 |
CircGradBasedCorrMaskFeather | +63 |
CircGradBasedCorrMaskFlipped | true |
CircGradBasedCorrMaskLeft (1) | 0.308756 |
CircGradBasedCorrMaskLeft (2) | 0.448690 |
CircGradBasedCorrMaskLeft (3) | -0.052163 |
CircGradBasedCorrMaskLeft (4) | 0.037355 |
CircGradBasedCorrMaskLeft (5) | 0.207088 |
CircGradBasedCorrMaskLeft | 0.236503 |
CircGradBasedCorrMaskMidpoint | +50 |
CircGradBasedCorrMaskRight (1) | 0.588066 |
CircGradBasedCorrMaskRight (2) | 0.602861 |
CircGradBasedCorrMaskRight (3) | 0.299687 |
CircGradBasedCorrMaskRight (4) | 0.276658 |
CircGradBasedCorrMaskRight (5) | 0.509504 |
CircGradBasedCorrMaskRight | 0.352969 |
CircGradBasedCorrMaskRoundness | 0 |
CircGradBasedCorrMaskTop (1) | 0.297987 |
CircGradBasedCorrMaskTop (2) | 0.493730 |
CircGradBasedCorrMaskTop (3) | -0.116439 |
CircGradBasedCorrMaskTop (4) | 0.475025 |
CircGradBasedCorrMaskTop (5) | 0.463741 |
CircGradBasedCorrMaskTop | 0.393619 |
CircGradBasedCorrMaskValue | 1.000000 |
CircGradBasedCorrMaskVersion | +2 |
CircGradBasedCorrMaskWhat | Mask/CircularGradient |
CircGradBasedCorrMoire | 0.000000 |
CircGradBasedCorrSaturation (5) | 0.104141 |
CircGradBasedCorrSaturation | 0.000000 |
CircGradBasedCorrShadows2012 | 0.000000 |
CircGradBasedCorrSharpness (3) | -0.352321 |
CircGradBasedCorrSharpness | 0.000000 |
CircGradBasedCorrTemperature (3) | 0.074257 |
CircGradBasedCorrTemperature | 0.000000 |
CircGradBasedCorrTint (1) | 0.000000 |
CircGradBasedCorrTint (2) | 0.831007 |
CircGradBasedCorrTint (4) | 0.942696 |
CircGradBasedCorrTint (5) | 0.863926 |
CircGradBasedCorrTint | 0.543765 |
CircGradBasedCorrWhat | Correction |
CircleOfConfusion | 0.030 mm |
Clarity2012 | +80 |
ColorComponents | 3 |
ColorNoiseReduction | 30 |
ColorNoiseReductionDetail | 50 |
ColorNoiseReductionSmoothness | 50 |
ColorSpace | sRGB |
ColorTemperature | 6039 |
ColorTransform | YCbCr |
Contrast | Normal |
Contrast2012 | +25 |
ConvertToGrayscale | False |
Copyright | kamizoom.com |
CopyrightNotice | kamizoom.com |
CreateDate (1) | 2017:10:08 15:39:27.76 |
CreateDate | 2017:10:08 15:39:27 |
Creator | Trond K Wiik |
CreatorAddress | Tjødnavegen 19 |
CreatorCity | Straume |
CreatorCountry | Norway |
CreatorPostalCode | 5354 |
CreatorRegion | Bergen |
CreatorTool | Adobe Photoshop Lightroom 6.12 (Macintosh) |
CreatorWorkEmail | norwayinphoto@gmail.com |
CreatorWorkTelephone | 45266227 |
CreatorWorkURL | norwayinphoto.com |
CropAngle | 2.27183 |
CropBottom | 1 |
CropConstrainToWarp | 0 |
CropLeft | 0.025135 |
CropRight | 0.856626 |
CropTop | 0 |
CustomRendered | Custom |
DateCreated (1) | 2017:10:08 |
DateCreated | 2017:10:08 15:39:27.76 |
DateTimeOriginal | 2017:10:08 15:39:27 |
DefringeGreenAmount | 0 |
DefringeGreenHueHi | 60 |
DefringeGreenHueLo | 40 |
DefringePurpleAmount | 0 |
DefringePurpleHueHi | 70 |
DefringePurpleHueLo | 30 |
Dehaze | 0 |
DigitalZoomRatio | 1 |
DOF | 116.17 m (1.70 - 117.87 m) |
Exposure2012 | +0.60 |
ExposureCompensation | -2/3 |
ExposureMode | Manual |
ExposureProgram | Manual |
ExposureTime | 1/640 |
Flash | Off, Did not fire |
FNumber | 5.6 |
FocalLength | 24.0 mm |
FocalLength35efl | 24.0 mm (35 mm equivalent: 24.0 mm) |
FocalLengthIn35mmFormat | 24 mm |
Format | image/jpeg |
FOV | 73.7 deg |
GainControl | None |
GrainAmount | 0 |
GreenHue | +34 |
GreenSaturation | 0 |
HasCrop | True |
HasSettings | True |
Highlights2012 | -100 |
HueAdjustmentAqua | 0 |
HueAdjustmentBlue | 0 |
HueAdjustmentGreen | +37 |
HueAdjustmentMagenta | 0 |
HueAdjustmentOrange | -50 |
HueAdjustmentPurple | 0 |
HueAdjustmentRed | +5 |
HueAdjustmentYellow | +75 |
HyperfocalDistance | 3.42 m |
ImageHeight | 1849 |
ImageNumber | 677 |
ImageSize | 2500x1849 |
ImageWidth | 2500 |
ISO | 100 |
Keywords | 500px, Bergen, Fjellveien, Lightroom, Norway, Photographer, Photography, Skansen, Weather, amazing, autumn, beautiful, byen, city, coast, colors, day, fløyen, glede, green, høst, lake, landscape, mirror, mirrow, mountain, norwayinphoto, nydelig, photooftheday, reflections, sol, sommer, sun, threes, trees, vakkert, view, vær, water |
Lens | 24.0-70.0 mm f/2.8 |
LensID (1) | 147 |
LensID | AF-S Zoom-Nikkor 24-70mm f/2.8G ED |
LensInfo | 24-70mm f/2.8 |
LensManualDistortionAmount | 0 |
LensModel | 24.0-70.0 mm f/2.8 |
LensProfileEnable | 0 |
LensProfileSetup | LensDefaults |
LightSource | Unknown |
LightValue | 14.3 |
LuminanceAdjustmentAqua | 0 |
LuminanceAdjustmentBlue | 0 |
LuminanceAdjustmentGreen | 0 |
LuminanceAdjustmentMagenta | 0 |
LuminanceAdjustmentOrange | 0 |
LuminanceAdjustmentPurple | 0 |
LuminanceAdjustmentRed | 0 |
LuminanceAdjustmentYellow | 0 |
LuminanceNoiseReductionContrast | 20 |
LuminanceNoiseReductionDetail | 50 |
LuminanceSmoothing | 40 |
Make | NIKON CORPORATION |
MaxApertureValue | 2.8 |
Megapixels | 4.6 |
MeteringMode | Multi-segment |
Model | NIKON D750 |
ModifyDate (1) | 2017:10:18 18:43:48+02:00 |
ModifyDate | 2017:10:18 18:43:48 |
ParametricDarks | 0 |
ParametricHighlights | 0 |
ParametricHighlightSplit | 75 |
ParametricLights | 0 |
ParametricMidtoneSplit | 50 |
ParametricShadows | 0 |
ParametricShadowSplit | 25 |
PerspectiveAspect | 0 |
PerspectiveHorizontal | 0 |
PerspectiveRotate | 0.0 |
PerspectiveScale | 100 |
PerspectiveUpright | 0 |
PerspectiveVertical | 0 |
PerspectiveX | 0.00 |
PerspectiveY | 0.00 |
PostCropVignetteAmount | -17 |
PostCropVignetteFeather | 50 |
PostCropVignetteHighlightContrast | 0 |
PostCropVignetteMidpoint | 50 |
PostCropVignetteRoundness | 0 |
PostCropVignetteStyle | 1 |
ProcessVersion | 6.7 |
ProfileDescription | sRGB IEC61966-2.1 |
RedHue | +19 |
RedSaturation | -37 |
Rights | kamizoom.com |
Saturation (1) | +15 |
Saturation | Normal |
SaturationAdjustmentAqua | 0 |
SaturationAdjustmentBlue | 0 |
SaturationAdjustmentGreen | 0 |
SaturationAdjustmentMagenta | 0 |
SaturationAdjustmentOrange | 0 |
SaturationAdjustmentPurple | 0 |
SaturationAdjustmentRed | 0 |
SaturationAdjustmentYellow | 0 |
ScaleFactor35efl | 1.0 |
SceneCaptureType | Standard |
SceneType | Directly photographed |
SensingMethod | One-chip color area |
SensitivityType | Recommended Exposure Index |
SerialNumber | 6153785 |
Shadows2012 | +100 |
ShadowTint | +100 |
SharpenDetail | 40 |
SharpenEdgeMasking | 50 |
SharpenRadius | +1.5 |
Sharpness (1) | 50 |
Sharpness | Normal |
ShutterSpeed | 1/640 |
ShutterSpeedValue | 1/640 |
Software | Adobe Photoshop Lightroom 6.12 (Macintosh) |
SplitToningBalance | 0 |
SplitToningHighlightHue | 0 |
SplitToningHighlightSaturation | 0 |
SplitToningShadowHue | 0 |
SplitToningShadowSaturation | 0 |
Subject | 500px, Bergen, Fjellveien, Lightroom, Norway, Photographer, Photography, Skansen, Weather, amazing, autumn, beautiful, byen, city, coast, colors, day, fløyen, glede, green, høst, lake, landscape, mirror, mirrow, mountain, norwayinphoto, nydelig, photooftheday, reflections, sol, sommer, sun, threes, trees, vakkert, view, vær, water |
SubjectDistanceRange | Unknown |
Tint | +10 |
ToneCurve | 0, 0, 255, 255 |
ToneCurveBlue | 0, 0, 255, 255 |
ToneCurveGreen | 0, 0, 255, 255 |
ToneCurveName | Linear |
ToneCurveName2012 | Linear |
ToneCurvePV2012 | 0, 0, 255, 255 |
ToneCurvePV2012Blue | 0, 0, 255, 255 |
ToneCurvePV2012Green | 0, 0, 255, 255 |
ToneCurvePV2012Red | 0, 0, 255, 255 |
ToneCurveRed | 0, 0, 255, 255 |
ToneMapStrength | 0 |
UserComment | 750 |
Version | 9.12 |
Vibrance | +10 |
VignetteAmount | 0 |
WhiteBalance (1) | Custom |
WhiteBalance | Auto |
Whites2012 | -60 |