Felt | Verdi |
AlreadyApplied | True |
Aperture | 1.4 |
ApertureValue | 1.4 |
ApproximateFocusDistance | 2.99 |
AutoLateralCA | 1 |
AutoWhiteVersion | 134348800 |
BitsPerSample | 8 |
Blacks2012 | -19 |
BlueHue | 0 |
BlueSaturation | 0 |
CameraProfile | Adobe Standard |
CFAPattern | [Red,Green][Green,Blue] |
CircGradBasedCorrActive | true |
CircGradBasedCorrAmount | 1.000000 |
CircGradBasedCorrBrightness | 0.000000 |
CircGradBasedCorrClarity2012 | 0.000000 |
CircGradBasedCorrContrast2012 (2) | 0.000000 |
CircGradBasedCorrContrast2012 (3) | 0.064405 |
CircGradBasedCorrContrast2012 | 0.673544 |
CircGradBasedCorrDefringe | 0.000000 |
CircGradBasedCorrExposure2012 (1) | 0.431117 |
CircGradBasedCorrExposure2012 (2) | 0.000000 |
CircGradBasedCorrExposure2012 (3) | 0.206269 |
CircGradBasedCorrExposure2012 (4) | 0.164328 |
CircGradBasedCorrExposure2012 | 0.158032 |
CircGradBasedCorrHighlights2012 (2) | 0.025915 |
CircGradBasedCorrHighlights2012 | 0.000000 |
CircGradBasedCorrHue | 0.000000 |
CircGradBasedCorrLocalBlacks2012 | 0.000000 |
CircGradBasedCorrLocalDehaze (1) | 0.000000 |
CircGradBasedCorrLocalDehaze | 0.200553 |
CircGradBasedCorrLocalWhites2012 | 0.000000 |
CircGradBasedCorrLuminanceNoise (2) | -0.799829 |
CircGradBasedCorrLuminanceNoise | 0.000000 |
CircGradBasedCorrMaskAngle (1) | 0.070193 |
CircGradBasedCorrMaskAngle | -15.808600 |
CircGradBasedCorrMaskBottom (1) | 0.612639 |
CircGradBasedCorrMaskBottom (2) | 0.603254 |
CircGradBasedCorrMaskBottom (3) | 0.906838 |
CircGradBasedCorrMaskBottom (4) | 0.904704 |
CircGradBasedCorrMaskBottom | 0.588375 |
CircGradBasedCorrMaskFeather (2) | +63 |
CircGradBasedCorrMaskFeather | +50 |
CircGradBasedCorrMaskFlipped | true |
CircGradBasedCorrMaskLeft (1) | 0.284497 |
CircGradBasedCorrMaskLeft (2) | 0.394839 |
CircGradBasedCorrMaskLeft (3) | 0.371574 |
CircGradBasedCorrMaskLeft (4) | 0.369632 |
CircGradBasedCorrMaskLeft | 0.520421 |
CircGradBasedCorrMaskMidpoint | +50 |
CircGradBasedCorrMaskRight (1) | 0.824393 |
CircGradBasedCorrMaskRight (2) | 0.722597 |
CircGradBasedCorrMaskRight (3) | 0.733951 |
CircGradBasedCorrMaskRight (4) | 0.734658 |
CircGradBasedCorrMaskRight | 0.627167 |
CircGradBasedCorrMaskRoundness | 0 |
CircGradBasedCorrMaskTop (1) | 0.402227 |
CircGradBasedCorrMaskTop (2) | 0.485010 |
CircGradBasedCorrMaskTop (3) | 0.679315 |
CircGradBasedCorrMaskTop (4) | 0.685062 |
CircGradBasedCorrMaskTop | 0.581329 |
CircGradBasedCorrMaskValue | 1.000000 |
CircGradBasedCorrMaskVersion | +2 |
CircGradBasedCorrMaskWhat | Mask/CircularGradient |
CircGradBasedCorrMoire | 0.000000 |
CircGradBasedCorrSaturation | 0.000000 |
CircGradBasedCorrShadows2012 | 0.000000 |
CircGradBasedCorrSharpness (1) | 0.291635 |
CircGradBasedCorrSharpness | 0.000000 |
CircGradBasedCorrTemperature (1) | 0.808594 |
CircGradBasedCorrTemperature (2) | 0.591273 |
CircGradBasedCorrTemperature (4) | 0.119273 |
CircGradBasedCorrTemperature | 1.000000 |
CircGradBasedCorrTint (2) | 0.461414 |
CircGradBasedCorrTint (3) | 0.183403 |
CircGradBasedCorrTint | 0.225918 |
CircGradBasedCorrWhat | Correction |
CircleOfConfusion | 0.030 mm |
City | Bergen |
Clarity2012 | +100 |
ColorComponents | 3 |
ColorNoiseReduction | 25 |
ColorNoiseReductionDetail | 50 |
ColorNoiseReductionSmoothness | 50 |
ColorSpace | sRGB |
ColorTemperature | 5685 |
ColorTransform | YCbCr |
Contrast | Normal |
Contrast2012 | -100 |
ConvertToGrayscale | False |
Copyright | Trond K. Wiik |
CopyrightNotice | Trond K. Wiik |
Country | Norway |
Country-PrimaryLocationCode | NO |
Country-PrimaryLocationName | Norway |
CountryCode | NO |
CreateDate (1) | 2016:11:05 14:27:37.03 |
CreateDate | 2016:11:05 14:27:37 |
CreatorTool | Adobe Photoshop Lightroom 6.12 (Macintosh) |
CropAngle | 0.070193 |
CropBottom | 0.965439 |
CropConstrainToWarp | 0 |
CropLeft | 0.151397 |
CropRight | 0.932671 |
CropTop | 0.330709 |
CustomRendered | Normal |
DateCreated (1) | 2016:11:05 |
DateCreated | 2016:11:05 14:27:37.03 |
DateTimeOriginal | 2016:11:05 14:27:37 |
DefringeGreenAmount | 0 |
DefringeGreenHueHi | 60 |
DefringeGreenHueLo | 40 |
DefringePurpleAmount | 0 |
DefringePurpleHueHi | 70 |
DefringePurpleHueLo | 30 |
Dehaze | 0 |
DigitalZoomRatio | 1 |
DistortionCorrectionAlreadyApplied | True |
DOF | 1.36 m (2.46 - 3.82 m) |
Exposure2012 | -1.65 |
ExposureCompensation | 0 |
ExposureMode | Auto |
ExposureProgram | Aperture-priority AE |
ExposureTime | 1/1600 |
Flash | Off, Did not fire |
FNumber | 1.4 |
FocalLength | 24.0 mm |
FocalLength35efl | 24.0 mm (35 mm equivalent: 24.0 mm) |
FocalLengthIn35mmFormat | 24 mm |
Format | image/jpeg |
FOV | 73.7 deg |
GainControl | None |
GPSAltitude | 94.9995 m |
GPSLatitude (1) | 60 deg 21' 51.90" |
GPSLatitude | 60 deg 21' 51.90" N |
GPSLatitudeRef | North |
GPSLongitude (1) | 5 deg 15' 45.10" |
GPSLongitude | 5 deg 15' 45.10" E |
GPSLongitudeRef | East |
GPSPosition | 60 deg 21' 51.90" N, 5 deg 15' 45.10" E |
GPSVersionID | 2.2.0.0 |
GradientBasedCorrActive | true |
GradientBasedCorrAmount | 1.000000 |
GradientBasedCorrBrightness | 0.000000 |
GradientBasedCorrClarity2012 | 0.646532 |
GradientBasedCorrContrast2012 | 0.282957 |
GradientBasedCorrDefringe | 0.000000 |
GradientBasedCorrExposure2012 | -0.358518 |
GradientBasedCorrHighlights2012 | 0.190168 |
GradientBasedCorrHue | 0.000000 |
GradientBasedCorrLocalBlacks2012 | -0.497142 |
GradientBasedCorrLocalDehaze | 0.000000 |
GradientBasedCorrLocalWhites2012 | 0.036300 |
GradientBasedCorrLuminanceNoise | -0.799829 |
GradientBasedCorrMaskFullX | 0.632217 |
GradientBasedCorrMaskFullY | 0.128254 |
GradientBasedCorrMaskValue | 1.000000 |
GradientBasedCorrMaskWhat | Mask/Gradient |
GradientBasedCorrMaskZeroX | 0.635668 |
GradientBasedCorrMaskZeroY | 0.570007 |
GradientBasedCorrMoire | 0.000000 |
GradientBasedCorrSaturation | 0.000000 |
GradientBasedCorrShadows2012 | 0.000000 |
GradientBasedCorrSharpness | 0.000000 |
GradientBasedCorrTemperature | -0.173885 |
GradientBasedCorrTint | 0.390928 |
GradientBasedCorrWhat | Correction |
GrainAmount | 0 |
GreenHue | 0 |
GreenSaturation | 0 |
HasCrop | True |
HasSettings | True |
Highlights2012 | -72 |
HueAdjustmentAqua | 0 |
HueAdjustmentBlue | 0 |
HueAdjustmentGreen | 0 |
HueAdjustmentMagenta | 0 |
HueAdjustmentOrange | 0 |
HueAdjustmentPurple | 0 |
HueAdjustmentRed | 0 |
HueAdjustmentYellow | 0 |
HyperfocalDistance | 13.69 m |
ImageHeight | 1352 |
ImageNumber | 675 |
ImageSize | 2500x1352 |
ImageWidth | 2500 |
ISO | 100 |
Keywords | 500px, Bergen, Kanadaskogen, Lightroom, Norway, Photographer, Photography, Weather, amazing, and, beautiful, clouds, colors, day, green, lake, landscape, mirror, mirrow, norwayinphoto, nydelig, photooftheday, reflections, sky, sol, solnedgang, spring, sun, sunset, threes, trees, vakkert, view, vinter, vår, vær, water, water lake, woods |
LateralChromaticAberrationCorrectionAlreadyApplied | True |
Lens | 24.0 mm f/1.4 |
LensID (1) | 74 |
LensID | Samyang 24mm f/1.4 ED AS UMC |
LensInfo | 24mm f/1.4 |
LensManualDistortionAmount | 0 |
LensModel | 24.0 mm f/1.4 |
LensProfileChromaticAberrationScale | 100 |
LensProfileDistortionScale | 100 |
LensProfileEnable | 1 |
LensProfileFilename | NIKON CORPORATION (Samyang 24mm f1.4 ED AS IF UMC) - RAW.lcp |
LensProfileName | Adobe (Samyang 24mm f/1.4 ED AS IF UMC, NIKON CORPORATION) |
LensProfileSetup | Custom |
LensProfileVignettingScale | 100 |
LightSource | Unknown |
LightValue | 11.6 |
LuminanceAdjustmentAqua | 0 |
LuminanceAdjustmentBlue | 0 |
LuminanceAdjustmentGreen | 0 |
LuminanceAdjustmentMagenta | 0 |
LuminanceAdjustmentOrange | 0 |
LuminanceAdjustmentPurple | 0 |
LuminanceAdjustmentRed | 0 |
LuminanceAdjustmentYellow | 0 |
LuminanceSmoothing | 0 |
Make | NIKON CORPORATION |
MaxApertureValue | 1.4 |
Megapixels | 3.4 |
MeteringMode | Multi-segment |
Model | NIKON D810A |
ModifyDate (1) | 2017:10:29 12:05:50+01:00 |
ModifyDate | 2017:10:29 12:05:50 |
PaintCorrectionActive | true |
PaintCorrectionAmount | 1.000000 |
PaintCorrectionBrightness | 0.000000 |
PaintCorrectionClarity2012 | 0.000000 |
PaintCorrectionContrast2012 | 0.000000 |
PaintCorrectionDefringe | 0.000000 |
PaintCorrectionExposure2012 | 0.241044 |
PaintCorrectionHighlights2012 | 0.000000 |
PaintCorrectionHue | 0.000000 |
PaintCorrectionLocalBlacks2012 | 0.000000 |
PaintCorrectionLocalDehaze | 0.000000 |
PaintCorrectionLocalWhites2012 | 0.000000 |
PaintCorrectionLuminanceNoise | -0.799829 |
PaintCorrectionMaskCenterWeight | 0.189118 |
PaintCorrectionMaskFlow | 0.799735 |
PaintCorrectionMaskRadius (1) | 0.016887 |
PaintCorrectionMaskRadius (2) | 0.008563 |
PaintCorrectionMaskRadius (3) | 0.014062 |
PaintCorrectionMaskRadius | 0.014029 |
PaintCorrectionMaskValue | 1.000000 |
PaintCorrectionMaskWhat | Mask/Paint |
PaintCorrectionMoire | 0.000000 |
PaintCorrectionSaturation | 0.000000 |
PaintCorrectionShadows2012 | 0.000000 |
PaintCorrectionSharpness | 0.000000 |
PaintCorrectionTemperature | 0.000000 |
PaintCorrectionTint | 0.000000 |
PaintCorrectionWhat | Correction |
ParametricDarks | -8 |
ParametricHighlights | -49 |
ParametricHighlightSplit | 75 |
ParametricLights | +10 |
ParametricMidtoneSplit | 50 |
ParametricShadows | +1 |
ParametricShadowSplit | 25 |
PerspectiveAspect | 0 |
PerspectiveHorizontal | 0 |
PerspectiveRotate | 0.0 |
PerspectiveScale | 100 |
PerspectiveUpright | 1 |
PerspectiveVertical | 0 |
PerspectiveX | 0.00 |
PerspectiveY | 0.00 |
PostCropVignetteAmount | -15 |
PostCropVignetteFeather | 50 |
PostCropVignetteHighlightContrast | 0 |
PostCropVignetteMidpoint | 50 |
PostCropVignetteRoundness | 0 |
PostCropVignetteStyle | 1 |
ProcessVersion | 6.7 |
ProfileDescription | sRGB IEC61966-2.1 |
Province-State | Hordaland |
RedHue | 0 |
RedSaturation | 0 |
Rights | Trond K. Wiik |
Saturation (1) | 0 |
Saturation | Normal |
SaturationAdjustmentAqua | +3 |
SaturationAdjustmentBlue | +22 |
SaturationAdjustmentGreen | +60 |
SaturationAdjustmentMagenta | 0 |
SaturationAdjustmentOrange | +58 |
SaturationAdjustmentPurple | 0 |
SaturationAdjustmentRed | 0 |
SaturationAdjustmentYellow | +63 |
ScaleFactor35efl | 1.0 |
SceneCaptureType | Standard |
SceneType | Directly photographed |
SensingMethod | One-chip color area |
SensitivityType | Recommended Exposure Index |
SerialNumber | 6000593 |
Shadows2012 | +100 |
ShadowTint | 0 |
SharpenDetail | 27 |
SharpenEdgeMasking | 77 |
SharpenRadius | +1.6 |
Sharpness (1) | 120 |
Sharpness | Normal |
ShutterSpeed | 1/1600 |
ShutterSpeedValue | 1/1600 |
Software | Adobe Photoshop Lightroom 6.12 (Macintosh) |
SplitToningBalance | 0 |
SplitToningHighlightHue | 0 |
SplitToningHighlightSaturation | 0 |
SplitToningShadowHue | 0 |
SplitToningShadowSaturation | 0 |
State | Hordaland |
Subject | 500px, Bergen, Kanadaskogen, Lightroom, Norway, Photographer, Photography, Weather, amazing, and, beautiful, clouds, colors, day, green, lake, landscape, mirror, mirrow, norwayinphoto, nydelig, photooftheday, reflections, sky, sol, solnedgang, spring, sun, sunset, threes, trees, vakkert, view, vinter, vår, vær, water, water lake, woods |
SubjectDistanceRange | Unknown |
Tint | +3 |
ToneCurve | 0, 0, 255, 255 |
ToneCurveBlue | 0, 0, 255, 255 |
ToneCurveGreen | 0, 0, 255, 255 |
ToneCurveName | Linear |
ToneCurveName2012 | Linear |
ToneCurvePV2012 | 0, 0, 255, 255 |
ToneCurvePV2012Blue | 0, 0, 255, 255 |
ToneCurvePV2012Green | 0, 0, 255, 255 |
ToneCurvePV2012Red | 0, 0, 255, 255 |
ToneCurveRed | 0, 0, 255, 255 |
ToneMapStrength | 0 |
Version | 9.12 |
Vibrance | +13 |
VignetteAmount | 0 |
VignetteCorrectionAlreadyApplied | True |
WhiteBalance (1) | Custom |
WhiteBalance | Auto |
Whites2012 | +41 |