Felt | Verdi |
AlreadyApplied | True |
Aperture | 5.6 |
ApertureValue (1) | 4.0 |
ApertureValue | 5.6 |
ApproximateFocusDistance | 4294967295 |
AutoLateralCA | 0 |
AutoWhiteVersion | 134348800 |
BitsPerSample | 8 |
Blacks2012 | -9 |
BlueHue | 0 |
BlueSaturation | 0 |
CameraProfile | Adobe Standard |
CircleOfConfusion | 0.011 mm |
Clarity2012 | +41 |
ColorComponents | 3 |
ColorNoiseReduction | 25 |
ColorNoiseReductionDetail | 50 |
ColorNoiseReductionSmoothness | 50 |
ColorSpace (1) | Unknown (Uncalibrated) |
ColorSpace | Uncalibrated |
ColorTemperature | 5750 |
Contrast2012 | 0 |
ConvertToGrayscale | True |
CropAngle | -1.17811 |
CropBottom | 0.936144 |
CropConstrainToWarp | 0 |
CropLeft | 0.385489 |
CropRight | 0.902656 |
CropTop | 0.191657 |
CustomRendered (1) | Unknown (Normal process) |
CustomRendered | Normal |
DateCreated | 2015:11:09 12:48:15.03 |
DateTime | 2018:02:11 17:53:36 |
DateTimeDigitized | 2015:11:09 12:48:15 |
DerivedFrom |
DOF | inf (174.00 m - inf) |
Exposure2012 | -0.12 |
ExposureCompensation | 0 |
ExposureMode (1) | Unknown (Manual exposure) |
ExposureMode | Manual |
ExposureTime (1) | 1 |
ExposureTime | 1/80 |
Firmware | 1.0.9 |
FlashCompensation | 0 |
FNumber (1) | f/5,6 |
FNumber | 5.6 |
FocalLength | 105.0 mm |
FocalLength35efl | 105.0 mm (35 mm equivalent: 278.8 mm) |
Format | image/jpeg |
FOV | 7.4 deg |
GrainAmount | 0 |
GrayMixerAqua | -19 |
GrayMixerBlue | -79 |
GrayMixerGreen | -22 |
GrayMixerMagenta | -77 |
GrayMixerOrange | +20 |
GrayMixerPurple | -77 |
GrayMixerRed | -35 |
GrayMixerYellow | -67 |
GreenHue | 0 |
GreenSaturation | 0 |
HasCrop | True |
HasSettings | True |
Highlights2012 | -56 |
HyperfocalDistance | 174.00 m |
ImageHeight | 2409 |
ImageNumber | 0 |
ImageSize | 2409x2409 |
ImageWidth | 2409 |
Lens | EF24-105mm f/4L IS USM |
LensID (1) | 237 |
LensID | Canon EF 24-105mm f/4L IS USM |
LensInfo | 24-105mm f/? |
LensManualDistortionAmount | 0 |
LensProfileEnable | 0 |
LensProfileSetup | LensDefaults |
LuminanceSmoothing | 0 |
Make | Canon |
MaxApertureValue | 4.0 |
Megapixels | 5.8 |
Model | Canon EOS 50D |
ModifyDate (1) | 2018:02:11 17:53:36+01:00 |
ModifyDate | 2018:02:11 20:43:12 |
Orientation (1) | Top-left |
Orientation | Horizontal (normal) |
ParametricDarks | 0 |
ParametricHighlights | -17 |
ParametricHighlightSplit | 75 |
ParametricLights | 0 |
ParametricMidtoneSplit | 50 |
ParametricShadows | 0 |
ParametricShadowSplit | 25 |
PerspectiveAspect | 0 |
PerspectiveHorizontal | 0 |
PerspectiveRotate | 0.0 |
PerspectiveScale | 100 |
PerspectiveUpright | 0 |
PerspectiveVertical | 0 |
PostCropVignetteAmount | -24 |
PostCropVignetteFeather | 50 |
PostCropVignetteHighlightContrast | 0 |
PostCropVignetteMidpoint | 50 |
PostCropVignetteRoundness | 0 |
PostCropVignetteStyle | 1 |
ProcessVersion | 6.7 |
ProfileDescription | sRGB IEC61966-2.1 |
RawFileName | _MG_9496-1.jpg |
RedHue | 0 |
RedSaturation | 0 |
ScaleFactor35efl | 2.7 |
SceneCaptureType (1) | Unknown (Standard) |
SceneCaptureType | Standard |
SerialNumber | 1630725698 |
Shadows2012 | 0 |
ShadowTint | 0 |
SharpenDetail | 25 |
SharpenEdgeMasking | 0 |
SharpenRadius | +1.0 |
Sharpness | 71 |
ShutterSpeed | 1/80 |
ShutterSpeedValue (1) | 1/64 |
ShutterSpeedValue | 1/80 |
Software | Adobe Photoshop Lightroom 6.0 (Windows) |
SplitToningBalance | 0 |
SplitToningHighlightHue | 0 |
SplitToningHighlightSaturation | 0 |
SplitToningShadowHue | 0 |
SplitToningShadowSaturation | 0 |
Tint | +31 |
ToneCurve | 0, 0, 255, 255 |
ToneCurveBlue | 0, 0, 255, 255 |
ToneCurveGreen | 0, 0, 255, 255 |
ToneCurveName | Linear |
ToneCurveName2012 | Linear |
ToneCurvePV2012 | 0, 0, 255, 255 |
ToneCurvePV2012Blue | 0, 0, 255, 255 |
ToneCurvePV2012Green | 0, 0, 255, 255 |
ToneCurvePV2012Red | 0, 0, 255, 255 |
ToneCurveRed | 0, 0, 255, 255 |
Version | 9.0 |
VignetteAmount | 0 |
WhiteBalance | As Shot |
Whites2012 | -30 |