Felt | Verdi |
AlreadyApplied | True |
Aperture | 7.1 |
ApertureValue | 7.1 |
ApproximateFocusDistance | 4294967295 |
Artist | SIR TRON |
AutoLateralCA | 1 |
BitsPerSample | 8 |
Blacks2012 | -25 |
BlueHue | -100 |
BlueSaturation | +30 |
By-line | SIR TRON |
CameraProfile | Adobe Standard |
CFAPattern | [Red,Green][Green,Blue] |
CircGradBasedCorrActive | true |
CircGradBasedCorrAmount | 1.000000 |
CircGradBasedCorrBrightness | 0.000000 |
CircGradBasedCorrClarity2012 | 0.008343 |
CircGradBasedCorrContrast2012 | 0.000000 |
CircGradBasedCorrCorrectionRangeMaskColorAmount | 0.500000 |
CircGradBasedCorrCorrectionRangeMaskLumFeather | 0.500000 |
CircGradBasedCorrCorrectionRangeMaskLumMax | 1.000000 |
CircGradBasedCorrCorrectionRangeMaskLumMin | 0.000000 |
CircGradBasedCorrCorrectionRangeMaskType | 0 |
CircGradBasedCorrCorrectionRangeMaskVersion | +2 |
CircGradBasedCorrDefringe | 0.000000 |
CircGradBasedCorrExposure2012 (1) | 0.175705 |
CircGradBasedCorrExposure2012 (4) | 0.140246 |
CircGradBasedCorrExposure2012 | 0.107858 |
CircGradBasedCorrHighlights2012 | -0.009102 |
CircGradBasedCorrHue | 0.000000 |
CircGradBasedCorrLocalBlacks2012 | 0.000000 |
CircGradBasedCorrLocalDehaze | 0.031819 |
CircGradBasedCorrLocalWhites2012 | 0.000000 |
CircGradBasedCorrLuminanceNoise | 0.000000 |
CircGradBasedCorrMaskAngle (4) | 0.000000 |
CircGradBasedCorrMaskAngle | -8.644190 |
CircGradBasedCorrMaskBottom (1) | 0.877588 |
CircGradBasedCorrMaskBottom (2) | 0.572178 |
CircGradBasedCorrMaskBottom (3) | 0.400611 |
CircGradBasedCorrMaskBottom (4) | 0.983183 |
CircGradBasedCorrMaskBottom | 0.489076 |
CircGradBasedCorrMaskFeather (1) | +50 |
CircGradBasedCorrMaskFeather | +85 |
CircGradBasedCorrMaskFlipped | true |
CircGradBasedCorrMaskLeft (1) | 0.582598 |
CircGradBasedCorrMaskLeft (2) | 0.683731 |
CircGradBasedCorrMaskLeft (3) | 0.681977 |
CircGradBasedCorrMaskLeft (4) | 0.252325 |
CircGradBasedCorrMaskLeft | 0.606080 |
CircGradBasedCorrMaskMidpoint | +50 |
CircGradBasedCorrMaskRight (1) | 0.868900 |
CircGradBasedCorrMaskRight (2) | 0.970033 |
CircGradBasedCorrMaskRight (3) | 1.187480 |
CircGradBasedCorrMaskRight (4) | 0.538627 |
CircGradBasedCorrMaskRight | 0.675261 |
CircGradBasedCorrMaskRoundness | 0 |
CircGradBasedCorrMaskTop (1) | 0.601777 |
CircGradBasedCorrMaskTop (2) | 0.370763 |
CircGradBasedCorrMaskTop (3) | 0.263456 |
CircGradBasedCorrMaskTop (4) | 0.707372 |
CircGradBasedCorrMaskTop | 0.427059 |
CircGradBasedCorrMaskValue | 1.000000 |
CircGradBasedCorrMaskVersion | +2 |
CircGradBasedCorrMaskWhat | Mask/CircularGradient |
CircGradBasedCorrMoire | 0.000000 |
CircGradBasedCorrSaturation | 0.000000 |
CircGradBasedCorrShadows2012 | 0.000000 |
CircGradBasedCorrSharpness | 0.000000 |
CircGradBasedCorrTemperature (4) | -0.001631 |
CircGradBasedCorrTemperature | 0.800667 |
CircGradBasedCorrTint (1) | 0.014146 |
CircGradBasedCorrTint | 0.306622 |
CircGradBasedCorrWhat | Correction |
CircleOfConfusion | 0.030 mm |
Clarity2012 | +11 |
ColorComponents | 3 |
ColorNoiseReduction | 22 |
ColorNoiseReductionDetail | 50 |
ColorNoiseReductionSmoothness | 50 |
ColorSpace | sRGB |
ColorTemperature | 10959 |
ColorTransform | YCbCr |
Contrast | Normal |
Contrast2012 | +5 |
ConvertToGrayscale | False |
Copyright | CAMIZOOM.COM |
CopyrightNotice | CAMIZOOM.COM |
CreateDate (1) | 2018:05:22 21:33:18.45 |
CreateDate | 2018:05:22 21:33:18 |
Creator | SIR TRON |
CreatorTool | Adobe Photoshop Lightroom Classic 7.3.1 (Macintosh) |
CropAngle | -0.804641 |
CropBottom | 0.871838 |
CropConstrainToWarp | 0 |
CropLeft | 0.101962 |
CropRight | 0.997765 |
CropTop | 0.02393 |
CustomRendered | Normal |
DateCreated (1) | 2018:05:22 |
DateCreated | 2018:05:22 21:33:18.45 |
DateTimeOriginal | 2018:05:22 21:33:18 |
DefringeGreenAmount | 0 |
DefringeGreenHueHi | 60 |
DefringeGreenHueLo | 40 |
DefringePurpleAmount | 0 |
DefringePurpleHueHi | 70 |
DefringePurpleHueLo | 30 |
Dehaze | 0 |
DistortionCorrectionAlreadyApplied | True |
DOF | inf (0.92 m - inf) |
Exposure2012 | +0.60 |
ExposureCompensation | -1 |
ExposureMode | Auto |
ExposureProgram | Aperture-priority AE |
ExposureTime | 1/50 |
Flash | No Flash |
FNumber | 7.1 |
FocalLength | 14.0 mm |
FocalLength35efl | 14.0 mm (35 mm equivalent: 14.0 mm) |
FocalLengthIn35mmFormat | 14 mm |
Format | image/jpeg |
FOV | 104.3 deg |
GainControl | None |
GradientBasedCorrActive | true |
GradientBasedCorrAmount | 1.000000 |
GradientBasedCorrBrightness | 0.000000 |
GradientBasedCorrClarity2012 (1) | -0.054950 |
GradientBasedCorrClarity2012 | 0.008343 |
GradientBasedCorrContrast2012 | 0.000000 |
GradientBasedCorrCorrectionRangeMaskColorAmount | 0.500000 |
GradientBasedCorrCorrectionRangeMaskLumFeather | 0.500000 |
GradientBasedCorrCorrectionRangeMaskLumMax | 1.000000 |
GradientBasedCorrCorrectionRangeMaskLumMin | 0.000000 |
GradientBasedCorrCorrectionRangeMaskType | 0 |
GradientBasedCorrCorrectionRangeMaskVersion | +2 |
GradientBasedCorrDefringe | 0.000000 |
GradientBasedCorrExposure2012 (1) | 0.000000 |
GradientBasedCorrExposure2012 (2) | -0.316975 |
GradientBasedCorrExposure2012 | 0.242643 |
GradientBasedCorrHighlights2012 (1) | -0.054950 |
GradientBasedCorrHighlights2012 | -0.009102 |
GradientBasedCorrHue (1) | 50.000000 |
GradientBasedCorrHue | 0.000000 |
GradientBasedCorrLocalBlacks2012 (1) | 0.000000 |
GradientBasedCorrLocalBlacks2012 | -0.164840 |
GradientBasedCorrLocalDehaze (2) | 0.031819 |
GradientBasedCorrLocalDehaze | 0.000000 |
GradientBasedCorrLocalWhites2012 (1) | 0.000000 |
GradientBasedCorrLocalWhites2012 | 0.076920 |
GradientBasedCorrLuminanceNoise | 0.000000 |
GradientBasedCorrMaskFullX (1) | 1.050550 |
GradientBasedCorrMaskFullX (2) | 0.584058 |
GradientBasedCorrMaskFullX | 0.977892 |
GradientBasedCorrMaskFullY (1) | 0.534844 |
GradientBasedCorrMaskFullY (2) | 0.021919 |
GradientBasedCorrMaskFullY | 0.076126 |
GradientBasedCorrMaskValue | 1.000000 |
GradientBasedCorrMaskWhat | Mask/Gradient |
GradientBasedCorrMaskZeroX (1) | 1.087260 |
GradientBasedCorrMaskZeroX (2) | 0.562986 |
GradientBasedCorrMaskZeroX | 0.784506 |
GradientBasedCorrMaskZeroY (1) | 0.535340 |
GradientBasedCorrMaskZeroY (2) | 0.171502 |
GradientBasedCorrMaskZeroY | 0.333733 |
GradientBasedCorrMoire | 0.000000 |
GradientBasedCorrSaturation (1) | 0.318680 |
GradientBasedCorrSaturation (2) | 0.030000 |
GradientBasedCorrSaturation | 0.000000 |
GradientBasedCorrShadows2012 (1) | 0.186810 |
GradientBasedCorrShadows2012 | 0.000000 |
GradientBasedCorrSharpness | 0.000000 |
GradientBasedCorrTemperature (1) | -0.076920 |
GradientBasedCorrTemperature (2) | -0.001631 |
GradientBasedCorrTemperature | -0.250721 |
GradientBasedCorrTint (1) | -0.076920 |
GradientBasedCorrTint | 0.014146 |
GradientBasedCorrWhat | Correction |
GrainAmount | 0 |
GreenHue | -100 |
GreenSaturation | 0 |
HasCrop | True |
HasSettings | True |
Highlights2012 | -62 |
HueAdjustmentAqua | +9 |
HueAdjustmentBlue | +13 |
HueAdjustmentGreen | -51 |
HueAdjustmentMagenta | +2 |
HueAdjustmentOrange | +4 |
HueAdjustmentPurple | +9 |
HueAdjustmentRed | -6 |
HueAdjustmentYellow | -83 |
HyperfocalDistance | 0.92 m |
ImageHeight | 1562 |
ImageNumber | 2394 |
ImageSize | 2400x1562 |
ImageWidth | 2400 |
ISO | 31 |
LateralChromaticAberrationCorrectionAlreadyApplied | True |
Lens | 14.0-24.0 mm f/2.8 |
LensID (1) | 146 |
LensID | AF-S Zoom-Nikkor 14-24mm f/2.8G ED |
LensInfo | 14-24mm f/2.8 |
LensManualDistortionAmount | 0 |
LensModel | 14.0-24.0 mm f/2.8 |
LensProfileChromaticAberrationScale | 100 |
LensProfileDistortionScale | 100 |
LensProfileEnable | 1 |
LensProfileFilename | NIKON D3X (Nikon FX 14-24mm f2.8 G ED) - RAW.lcp |
LensProfileName | Adobe (Nikon AF-S NIKKOR 14-24mm f/2.8G ED) |
LensProfileSetup | LensDefaults |
LensProfileVignettingScale | 100 |
LightSource | Unknown |
LightValue | 13.0 |
LookName | |
LuminanceAdjustmentAqua | +17 |
LuminanceAdjustmentBlue | +19 |
LuminanceAdjustmentGreen | +28 |
LuminanceAdjustmentMagenta | +23 |
LuminanceAdjustmentOrange | +23 |
LuminanceAdjustmentPurple | +13 |
LuminanceAdjustmentRed | 0 |
LuminanceAdjustmentYellow | +30 |
LuminanceNoiseReductionContrast | 0 |
LuminanceNoiseReductionDetail | 50 |
LuminanceSmoothing | 31 |
Make | NIKON CORPORATION |
MaxApertureValue | 2.8 |
Megapixels | 3.7 |
MeteringMode | Multi-segment |
Model | NIKON D850 |
ModifyDate (1) | 2018:05:26 12:25:33+02:00 |
ModifyDate | 2018:05:26 12:25:33 |
ObjectName | The Opera in Golden Hour |
OverrideLookVignette | False |
ParametricDarks | 0 |
ParametricHighlights | -3 |
ParametricHighlightSplit | 75 |
ParametricLights | 0 |
ParametricMidtoneSplit | 50 |
ParametricShadows | -1 |
ParametricShadowSplit | 25 |
PerspectiveAspect | 0 |
PerspectiveHorizontal | 0 |
PerspectiveRotate | 0.0 |
PerspectiveScale | 100 |
PerspectiveUpright | 0 |
PerspectiveVertical | 0 |
PerspectiveX | 0.00 |
PerspectiveY | 0.00 |
PostCropVignetteAmount | -21 |
PostCropVignetteFeather | 50 |
PostCropVignetteHighlightContrast | 0 |
PostCropVignetteMidpoint | 50 |
PostCropVignetteRoundness | 0 |
PostCropVignetteStyle | 1 |
ProcessVersion | 10.0 |
ProfileDescription | sRGB IEC61966-2.1 |
RawFileName | _8502151.NEF |
RedHue | +7 |
RedSaturation | -14 |
Rights | CAMIZOOM.COM |
Saturation (1) | 0 |
Saturation | Normal |
SaturationAdjustmentAqua | -83 |
SaturationAdjustmentBlue | -79 |
SaturationAdjustmentGreen | -74 |
SaturationAdjustmentMagenta | -13 |
SaturationAdjustmentOrange | -49 |
SaturationAdjustmentPurple | -45 |
SaturationAdjustmentRed | -36 |
SaturationAdjustmentYellow | -47 |
ScaleFactor35efl | 1.0 |
SceneCaptureType | Standard |
SceneType | Directly photographed |
SensingMethod | One-chip color area |
SensitivityType | Recommended Exposure Index |
SerialNumber | 6006207 |
Shadows2012 | +68 |
ShadowTint | 0 |
SharpenDetail | 25 |
SharpenEdgeMasking | 0 |
SharpenRadius | +2.2 |
Sharpness (1) | 98 |
Sharpness | Normal |
ShutterSpeed | 1/50 |
ShutterSpeedValue | 1/50 |
Software | Adobe Photoshop Lightroom Classic 7.3.1 (Macintosh) |
SplitToningBalance | 0 |
SplitToningHighlightHue | 59 |
SplitToningHighlightSaturation | 16 |
SplitToningShadowHue | 33 |
SplitToningShadowSaturation | 6 |
SubjectDistanceRange | Unknown |
Tint | +34 |
Title | The Opera in Golden Hour |
ToneCurve | 0, 0, 255, 255 |
ToneCurveBlue | 0, 0, 255, 255 |
ToneCurveGreen | 0, 0, 255, 255 |
ToneCurveName | Linear |
ToneCurveName2012 | Custom |
ToneCurvePV2012 | 0, 21, 50, 48, 80, 74, 123, 124, 207, 214, 255, 251 |
ToneCurvePV2012Blue | 0, 29, 60, 75, 125, 130, 199, 199, 255, 253 |
ToneCurvePV2012Green | 0, 0, 255, 255 |
ToneCurvePV2012Red | 0, 0, 255, 255 |
ToneCurveRed | 0, 0, 255, 255 |
ToneMapStrength | 0 |
Version | 10.3 |
Vibrance | +11 |
VignetteAmount | 0 |
VignetteCorrectionAlreadyApplied | True |
WhiteBalance (1) | Custom |
WhiteBalance | Auto |
Whites2012 | +2 |