Felt | Verdi |
AlreadyApplied | True |
Aperture | 5.6 |
ApertureValue | 5.6 |
Artist | Kurt Evensen |
AutoLateralCA | 0 |
BitsPerSample | 8 |
Blacks2012 | 0 |
BlueHue | 0 |
BlueSaturation | 0 |
By-line | Kurt Evensen |
CameraProfile | Embedded |
Caption-Abstract | Dale River in Laagen Vally, Vestfold, Norway |
CircleOfConfusion | 0.021 mm |
Clarity2012 | 0 |
ColorComponents | 3 |
ColorNoiseReduction | 0 |
ColorSpace | sRGB |
ColorTransform | YCbCr |
Contrast2012 | 0 |
ConvertToGrayscale | False |
Copyright | Kurt Evensen |
CopyrightFlag | True |
CopyrightNotice | Kurt Evensen |
CreateDate | 2018:10:02 17:45:53 |
Creator | Kurt Evensen |
CreatorTool | Adobe Photoshop Lightroom Classic 7.3 (Macintosh) |
DateCreated (1) | 2018:10:02 |
DateCreated | 2018:10:02 17:45:53 |
DateTimeOriginal | 2018:10:02 17:45:53 |
DefringeGreenAmount | 0 |
DefringeGreenHueHi | 60 |
DefringeGreenHueLo | 40 |
DefringePurpleAmount | 0 |
DefringePurpleHueHi | 70 |
DefringePurpleHueLo | 30 |
Dehaze | 0 |
Description | Dale River in Laagen Vally, Vestfold, Norway |
Exposure2012 | 0.00 |
ExposureCompensation | 0 |
ExposureMode | Manual |
ExposureProgram | Manual |
ExposureTime | 4 |
Firmware | 1.1.3 |
Flash | Off, Did not fire |
FlashCompensation | 0 |
FNumber | 5.6 |
FocalLength | 17.0 mm |
FocalLength35efl | 17.0 mm (35 mm equivalent: 23.9 mm) |
Format | image/jpeg |
FOV | 73.9 deg |
GPSAltitude | 42.1967 m |
GPSLatitude (1) | 59 deg 19' 54.41" |
GPSLatitude | 59 deg 19' 54.41" N |
GPSLatitudeRef | North |
GPSLongitude (1) | 9 deg 53' 27.15" |
GPSLongitude | 9 deg 53' 27.15" E |
GPSLongitudeRef | East |
GPSPosition | 59 deg 19' 54.41" N, 9 deg 53' 27.15" E |
GPSVersionID | 2.2.0.0 |
GrainAmount | 0 |
GreenHue | 0 |
GreenSaturation | 0 |
HasCrop | False |
HasSettings | True |
Highlights2012 | 0 |
HueAdjustmentAqua | 0 |
HueAdjustmentBlue | 0 |
HueAdjustmentGreen | 0 |
HueAdjustmentMagenta | 0 |
HueAdjustmentOrange | 0 |
HueAdjustmentPurple | 0 |
HueAdjustmentRed | 0 |
HueAdjustmentYellow | 0 |
HyperfocalDistance | 2.42 m |
ImageDescription | Dale River in Laagen Vally, Vestfold, Norway |
ImageHeight | 3647 |
ImageNumber | 0 |
ImageSize | 2918x3647 |
ImageWidth | 2918 |
IncrementalTemperature | -6 |
IncrementalTint | -3 |
ISO | 125 |
Keywords | LE, Norway, Vestfold, autumn, autumn colours, fall, lee filter, long exposure, longexposure, river, running water, seasons, smooth, water, waterfall |
Lens | EF17-40mm f/4L USM |
LensID (1) | 231 |
LensID | Canon EF 17-40mm f/4L USM |
LensInfo | 17-40mm f/? |
LensManualDistortionAmount | 0 |
LensModel | EF17-40mm f/4L USM |
LensProfileEnable | 0 |
LensProfileSetup | LensDefaults |
LensSerialNumber | 0000000000 |
LightValue | 2.6 |
LookName | |
LuminanceAdjustmentAqua | 0 |
LuminanceAdjustmentBlue | 0 |
LuminanceAdjustmentGreen | 0 |
LuminanceAdjustmentMagenta | 0 |
LuminanceAdjustmentOrange | 0 |
LuminanceAdjustmentPurple | 0 |
LuminanceAdjustmentRed | 0 |
LuminanceAdjustmentYellow | 0 |
LuminanceSmoothing | 0 |
Make | Canon |
Marked | True |
MaxApertureValue | 4.0 |
Megapixels | 10.6 |
MeteringMode | Multi-segment |
Model | Canon EOS 6D |
ModifyDate (1) | 2018:10:02 23:30:40+02:00 |
ModifyDate | 2018:10:02 23:30:40 |
ObjectName | Autumn Glow & River Flow |
OverrideLookVignette | False |
ParametricDarks | 0 |
ParametricHighlights | 0 |
ParametricHighlightSplit | 75 |
ParametricLights | 0 |
ParametricMidtoneSplit | 50 |
ParametricShadows | 0 |
ParametricShadowSplit | 25 |
PerspectiveAspect | 0 |
PerspectiveHorizontal | 0 |
PerspectiveRotate | 0.0 |
PerspectiveScale | 100 |
PerspectiveUpright | 0 |
PerspectiveVertical | 0 |
PerspectiveX | 0.00 |
PerspectiveY | 0.00 |
PostCropVignetteAmount | 0 |
ProcessVersion | 10.0 |
ProfileDescription | sRGB IEC61966-2.1 |
Rating | 5 |
RawFileName | |
RedHue | 0 |
RedSaturation | 0 |
Rights | Kurt Evensen |
Saturation | 0 |
SaturationAdjustmentAqua | 0 |
SaturationAdjustmentBlue | 0 |
SaturationAdjustmentGreen | 0 |
SaturationAdjustmentMagenta | 0 |
SaturationAdjustmentOrange | 0 |
SaturationAdjustmentPurple | 0 |
SaturationAdjustmentRed | 0 |
SaturationAdjustmentYellow | 0 |
ScaleFactor35efl | 1.4 |
SceneCaptureType | Standard |
SerialNumber | 022022000574 |
Shadows2012 | +40 |
ShadowTint | 0 |
SharpenDetail | 25 |
SharpenEdgeMasking | 0 |
SharpenRadius | +1.0 |
Sharpness | 0 |
ShutterSpeed | 4 |
ShutterSpeedValue | 4 |
Software | Adobe Photoshop Lightroom Classic 7.3 (Macintosh) |
SplitToningBalance | 0 |
SplitToningHighlightHue | 0 |
SplitToningHighlightSaturation | 0 |
SplitToningShadowHue | 0 |
SplitToningShadowSaturation | 0 |
Subject | LE, Norway, Vestfold, autumn, autumn colours, fall, lee filter, long exposure, longexposure, river, running water, seasons, smooth, water, waterfall |
Title | Autumn Glow & River Flow |
ToneCurve | 0, 0, 255, 255 |
ToneCurveBlue | 0, 0, 255, 255 |
ToneCurveGreen | 0, 0, 255, 255 |
ToneCurveName | Linear |
ToneCurveName2012 | Linear |
ToneCurvePV2012 | 0, 0, 255, 255 |
ToneCurvePV2012Blue | 0, 0, 255, 255 |
ToneCurvePV2012Green | 0, 0, 255, 255 |
ToneCurvePV2012Red | 0, 0, 255, 255 |
ToneCurveRed | 0, 0, 255, 255 |
ToneMapStrength | 0 |
Version | 10.3 |
Vibrance | 0 |
VignetteAmount | 0 |
WhiteBalance (1) | Custom |
WhiteBalance | Auto |
Whites2012 | 0 |