Felt | Verdi |
AlreadyApplied | True |
Aperture | 11.0 |
ApertureValue | 11.0 |
AutoLateralCA | 0 |
BitsPerSample | 8 |
Blacks2012 | 0 |
BlueHue | 0 |
BlueSaturation | 0 |
BrightnessValue | 6.9078125 |
CameraProfile | Embedded |
CircleOfConfusion | 0.030 mm |
Clarity2012 | 0 |
ColorComponents | 3 |
ColorNoiseReduction | 0 |
ColorSpace | sRGB |
ColorTransform | YCbCr |
Contrast | Normal |
Contrast2012 | 0 |
ConvertToGrayscale | False |
CreateDate | 2018:10:20 16:01:13 |
CreatorTool | Adobe Photoshop Lightroom Classic 7.5 (Windows) |
CustomRendered | Normal |
DateCreated (1) | 2018:10:20 |
DateCreated | 2018:10:20 16:01:13 |
DateTimeOriginal | 2018:10:20 16:01:13 |
DefringeGreenAmount | 0 |
DefringeGreenHueHi | 60 |
DefringeGreenHueLo | 40 |
DefringePurpleAmount | 0 |
DefringePurpleHueHi | 70 |
DefringePurpleHueLo | 30 |
Dehaze | 0 |
DigitalZoomRatio | 1 |
DistortionCorrectionAlreadyApplied | True |
Exposure2012 | 0.00 |
ExposureCompensation | -1.3 |
ExposureMode | Auto |
ExposureProgram | Aperture-priority AE |
ExposureTime | 1/80 |
Flash | Off, Did not fire |
FNumber | 11.0 |
FocalLength | 50.0 mm |
FocalLength35efl | 50.0 mm (35 mm equivalent: 50.0 mm) |
FocalLengthIn35mmFormat | 50 mm |
Format | image/jpeg |
FOV | 39.6 deg |
GrainAmount | 0 |
GreenHue | 0 |
GreenSaturation | 0 |
HasCrop | False |
HasSettings | True |
Highlights2012 | 0 |
HueAdjustmentAqua | 0 |
HueAdjustmentBlue | 0 |
HueAdjustmentGreen | 0 |
HueAdjustmentMagenta | 0 |
HueAdjustmentOrange | 0 |
HueAdjustmentPurple | 0 |
HueAdjustmentRed | 0 |
HueAdjustmentYellow | 0 |
HyperfocalDistance | 7.56 m |
ImageHeight | 3542 |
ImageSize | 5955x3542 |
ImageWidth | 5955 |
IncrementalTemperature | 0 |
IncrementalTint | 0 |
ISO | 200 |
LateralChromaticAberrationCorrectionAlreadyApplied | True |
Lens | FE 24-105mm F4 G OSS |
LensDistortInfo | 1037025409/1073741824 25774024/1073741824 12416534/1073741824 -1487464/1073741824 |
LensInfo | 24-105mm f/4 |
LensManualDistortionAmount | 0 |
LensModel | FE 24-105mm F4 G OSS |
LensProfileEnable | 0 |
LensProfileSetup | LensDefaults |
LightSource | Unknown |
LightValue | 12.2 |
LookName | |
LuminanceAdjustmentAqua | 0 |
LuminanceAdjustmentBlue | 0 |
LuminanceAdjustmentGreen | 0 |
LuminanceAdjustmentMagenta | 0 |
LuminanceAdjustmentOrange | 0 |
LuminanceAdjustmentPurple | 0 |
LuminanceAdjustmentRed | 0 |
LuminanceAdjustmentYellow | 0 |
LuminanceNoiseReductionContrast | 0 |
LuminanceNoiseReductionDetail | 50 |
LuminanceSmoothing | 24 |
Make | SONY |
MaxApertureValue | 4.0 |
Megapixels | 21.1 |
MeteringMode | Multi-segment |
Model | ILCE-7M3 |
ModifyDate (1) | 2018:10:22 19:43:16+02:00 |
ModifyDate | 2018:10:22 19:43:16 |
OverrideLookVignette | False |
ParametricDarks | 0 |
ParametricHighlights | 0 |
ParametricHighlightSplit | 75 |
ParametricLights | 0 |
ParametricMidtoneSplit | 50 |
ParametricShadows | 0 |
ParametricShadowSplit | 25 |
PerspectiveAspect | 0 |
PerspectiveHorizontal | 0 |
PerspectiveRotate | 0.0 |
PerspectiveScale | 100 |
PerspectiveUpright | 0 |
PerspectiveVertical | 0 |
PerspectiveX | 0.00 |
PerspectiveY | 0.00 |
PostCropVignetteAmount | 0 |
ProcessVersion | 10.0 |
ProfileDescription | sRGB IEC61966-2.1 |
RawFileName | |
RedHue | 0 |
RedSaturation | 0 |
Saturation (1) | 0 |
Saturation | Normal |
SaturationAdjustmentAqua | 0 |
SaturationAdjustmentBlue | 0 |
SaturationAdjustmentGreen | 0 |
SaturationAdjustmentMagenta | -82 |
SaturationAdjustmentOrange | +27 |
SaturationAdjustmentPurple | -100 |
SaturationAdjustmentRed | 0 |
SaturationAdjustmentYellow | -16 |
ScaleFactor35efl | 1.0 |
SceneCaptureType | Standard |
Shadows2012 | 0 |
ShadowTint | 0 |
SharpenDetail | 25 |
SharpenEdgeMasking | 0 |
SharpenRadius | +1.0 |
Sharpness (1) | 0 |
Sharpness | Normal |
ShutterSpeed | 1/80 |
ShutterSpeedValue | 1/80 |
Software | Adobe Photoshop Lightroom Classic 7.5 (Windows) |
SplitToningBalance | 0 |
SplitToningHighlightHue | 0 |
SplitToningHighlightSaturation | 0 |
SplitToningShadowHue | 0 |
SplitToningShadowSaturation | 0 |
ToneCurve | 0, 0, 255, 255 |
ToneCurveBlue | 0, 0, 255, 255 |
ToneCurveGreen | 0, 0, 255, 255 |
ToneCurveName | Linear |
ToneCurveName2012 | Linear |
ToneCurvePV2012 | 0, 0, 255, 255 |
ToneCurvePV2012Blue | 0, 0, 255, 255 |
ToneCurvePV2012Green | 0, 0, 255, 255 |
ToneCurvePV2012Red | 0, 0, 255, 255 |
ToneCurveRed | 0, 0, 255, 255 |
ToneMapStrength | 0 |
Version | 10.5 |
Vibrance | -7 |
VignetteAmount | 0 |
VignetteCorrectionAlreadyApplied | True |
WhiteBalance (1) | As Shot |
WhiteBalance | Auto |
Whites2012 | 0 |