Felt | Verdi |
AlreadyApplied | True |
Aperture | 11.0 |
ApertureValue | 11.0 |
ApproximateFocusDistance | 4294967295 |
Artist | Vidar Lennart Fredheim |
AutoLateralCA | 0 |
BitsPerSample | 8 |
Blacks2012 | -10 |
BlueHue | 0 |
BlueSaturation | 0 |
By-line | Vidar Lennart Fredheim |
CameraProfile | Adobe Standard |
CFAPattern | [Red,Green][Green,Blue] |
CircleOfConfusion | 0.030 mm |
Clarity2012 | +31 |
ColorComponents | 3 |
ColorNoiseReduction | 25 |
ColorNoiseReductionDetail | 50 |
ColorNoiseReductionSmoothness | 50 |
ColorSpace | sRGB |
ColorTemperature | 5550 |
ColorTransform | YCbCr |
Contrast | Normal |
Contrast2012 | +43 |
ConvertToGrayscale | False |
Copyright | Vidar Lennart Fredheim |
CopyrightNotice | Vidar Lennart Fredheim |
CreateDate (1) | 2017:07:20 17:11:11.051 |
CreateDate | 2017:07:20 17:11:11 |
Creator | Vidar Lennart Fredheim |
CreatorTool | Adobe Photoshop Lightroom Classic 8.0 (Windows) |
CropAngle | 0.326101 |
CropBottom | 0.985014 |
CropConstrainToWarp | 0 |
CropLeft | 0.018954 |
CropRight | 0.941554 |
CropTop | 0.261666 |
CustomRendered | Normal |
DateCreated (1) | 2017:07:20 |
DateCreated | 2017:07:20 17:09:45.72 |
DateTimeOriginal | 2017:07:20 17:11:11 |
DefringeGreenAmount | 0 |
DefringeGreenHueHi | 60 |
DefringeGreenHueLo | 40 |
DefringePurpleAmount | 0 |
DefringePurpleHueHi | 70 |
DefringePurpleHueLo | 30 |
Dehaze | 0 |
DigitalZoomRatio | 1 |
DistortionCorrectionAlreadyApplied | True |
DOF | inf (21.86 m - inf) |
Exposure2012 | 0.00 |
ExposureCompensation | 0 |
ExposureMode | Manual |
ExposureProgram | Manual |
ExposureTime | 1/160 |
Flash | Off, Did not fire |
FNumber | 11.0 |
FocalLength | 85.0 mm |
FocalLength35efl | 85.0 mm (35 mm equivalent: 85.0 mm) |
FocalLengthIn35mmFormat | 85 mm |
Format | image/jpeg |
FOV | 23.9 deg |
GainControl | None |
GPSAltitude | 50 m |
GPSLatitude (1) | 61 deg 57' 42.04" |
GPSLatitude | 61 deg 57' 42.04" N |
GPSLatitudeRef | North |
GPSLongitude (1) | 6 deg 30' 3.40" |
GPSLongitude | 6 deg 30' 3.40" E |
GPSLongitudeRef | East |
GPSPosition | 61 deg 57' 42.04" N, 6 deg 30' 3.40" E |
GPSVersionID | 2.2.0.0 |
GrainAmount | 0 |
GreenHue | 0 |
GreenSaturation | 0 |
HasCrop | True |
HasSettings | True |
Highlights2012 | -86 |
HueAdjustmentAqua | 0 |
HueAdjustmentBlue | 0 |
HueAdjustmentGreen | 0 |
HueAdjustmentMagenta | 0 |
HueAdjustmentOrange | 0 |
HueAdjustmentPurple | 0 |
HueAdjustmentRed | 0 |
HueAdjustmentYellow | 0 |
HyperfocalDistance | 21.86 m |
ImageHeight | 678 |
ImageNumber | 16858 |
ImageSize | 2048x678 |
ImageWidth | 2048 |
IsMergedPanorama | True |
ISO | 100 |
Keywords | 2017, Hornindalsvatnet, Juli, Sogn og Fjordane, hornindal, panorama |
LateralChromaticAberrationCorrectionAlreadyApplied | True |
Lens | TAMRON SP 85mm F1.8 Di VC USD F016N |
LensID (1) | 229 |
LensID | Tamron SP 85mm f/1.8 Di VC USD (F016) |
LensInfo | 85mm f/1.8 |
LensManualDistortionAmount | 0 |
LensModel | TAMRON SP 85mm F1.8 Di VC USD F016N |
LensProfileEnable | 0 |
LensProfileSetup | LensDefaults |
LightSource | Unknown |
LightValue | 14.2 |
LookName | |
LuminanceAdjustmentAqua | 0 |
LuminanceAdjustmentBlue | -16 |
LuminanceAdjustmentGreen | -31 |
LuminanceAdjustmentMagenta | 0 |
LuminanceAdjustmentOrange | -29 |
LuminanceAdjustmentPurple | 0 |
LuminanceAdjustmentRed | 0 |
LuminanceAdjustmentYellow | -31 |
LuminanceSmoothing | 0 |
Make | NIKON CORPORATION |
MaxApertureValue | 1.7 |
Megapixels | 1.4 |
MeteringMode | Multi-segment |
Model | NIKON D750 |
ModifyDate (1) | 2018:11:28 19:01:41+01:00 |
ModifyDate | 2018:11:28 19:01:41 |
OverrideLookVignette | False |
ParametricDarks | 0 |
ParametricHighlights | 0 |
ParametricHighlightSplit | 75 |
ParametricLights | 0 |
ParametricMidtoneSplit | 50 |
ParametricShadows | 0 |
ParametricShadowSplit | 25 |
PerspectiveAspect | 0 |
PerspectiveHorizontal | 0 |
PerspectiveRotate | 0.0 |
PerspectiveScale | 100 |
PerspectiveUpright | 0 |
PerspectiveVertical | 0 |
PerspectiveX | 0.00 |
PerspectiveY | 0.00 |
PostCropVignetteAmount | 0 |
ProcessVersion | 6.7 |
ProfileDescription | sRGB IEC61966-2.1 |
Rating | 1 |
RawFileName | |
RedHue | 0 |
RedSaturation | 0 |
Rights | Vidar Lennart Fredheim |
Saturation (1) | 0 |
Saturation | Normal |
SaturationAdjustmentAqua | 0 |
SaturationAdjustmentBlue | +47 |
SaturationAdjustmentGreen | +40 |
SaturationAdjustmentMagenta | 0 |
SaturationAdjustmentOrange | +36 |
SaturationAdjustmentPurple | 0 |
SaturationAdjustmentRed | 0 |
SaturationAdjustmentYellow | +27 |
ScaleFactor35efl | 1.0 |
SceneCaptureType | Standard |
SceneType | Directly photographed |
SensingMethod | One-chip color area |
SensitivityType | Recommended Exposure Index |
SerialNumber | 6074507 |
Shadows2012 | +100 |
ShadowTint | 0 |
SharpenDetail | 55 |
SharpenEdgeMasking | 64 |
SharpenRadius | +1.5 |
Sharpness (1) | 30 |
Sharpness | Normal |
ShutterSpeed | 1/160 |
ShutterSpeedValue | 1/160 |
Software | Adobe Photoshop Lightroom Classic 8.0 (Windows) |
SplitToningBalance | 0 |
SplitToningHighlightHue | 0 |
SplitToningHighlightSaturation | 0 |
SplitToningShadowHue | 0 |
SplitToningShadowSaturation | 0 |
Subject | 2017, Hornindalsvatnet, Juli, Sogn og Fjordane, hornindal, panorama |
SubjectDistanceRange | Unknown |
Tint | +8 |
ToneCurve | 0, 0, 255, 255 |
ToneCurveBlue | 0, 0, 255, 255 |
ToneCurveGreen | 0, 0, 255, 255 |
ToneCurveName | Linear |
ToneCurveName2012 | Linear |
ToneCurvePV2012 | 0, 0, 255, 255 |
ToneCurvePV2012Blue | 0, 0, 255, 255 |
ToneCurvePV2012Green | 0, 0, 255, 255 |
ToneCurvePV2012Red | 0, 0, 255, 255 |
ToneCurveRed | 0, 0, 255, 255 |
ToneMapStrength | 0 |
Transformation | Spherical |
Version | 11.0 |
Vibrance | +33 |
VignetteAmount | 0 |
VignetteCorrectionAlreadyApplied | True |
VirtualFocalLength | 0.591413 |
VirtualImageXCenter | 0.456812 |
VirtualImageYCenter | 0.132832 |
WhiteBalance (1) | As Shot |
WhiteBalance | Auto |
Whites2012 | +12 |