Felt | Verdi |
AlreadyApplied | True |
Aperture | 8.0 |
ApertureValue | 8.0 |
AutoLateralCA | 0 |
BitsPerSample | 8 |
Blacks2012 | +4 |
BlueHue | 0 |
BlueSaturation | 0 |
CameraProfile | Adobe Standard |
CircGradBasedCorrActive | true |
CircGradBasedCorrAmount | 1.000000 |
CircGradBasedCorrBrightness | 0.000000 |
CircGradBasedCorrClarity2012 (14) | 0.162790 |
CircGradBasedCorrClarity2012 | 0.004650 |
CircGradBasedCorrContrast2012 | 0.000000 |
CircGradBasedCorrCorrectionRangeMaskColorAmount | 0.500000 |
CircGradBasedCorrCorrectionRangeMaskDepthFeather | 0.500000 |
CircGradBasedCorrCorrectionRangeMaskDepthMax | 1.000000 |
CircGradBasedCorrCorrectionRangeMaskDepthMin | 0.000000 |
CircGradBasedCorrCorrectionRangeMaskLumFeather | 0.500000 |
CircGradBasedCorrCorrectionRangeMaskLumMax | 1.000000 |
CircGradBasedCorrCorrectionRangeMaskLumMin | 0.000000 |
CircGradBasedCorrCorrectionRangeMaskType | 0 |
CircGradBasedCorrCorrectionRangeMaskVersion | +2 |
CircGradBasedCorrDefringe | 0.000000 |
CircGradBasedCorrExposure2012 (14) | 0.041750 |
CircGradBasedCorrExposure2012 (16) | 0.209250 |
CircGradBasedCorrExposure2012 (17) | 0.032500 |
CircGradBasedCorrExposure2012 (2) | 0.097750 |
CircGradBasedCorrExposure2012 | 0.000000 |
CircGradBasedCorrHighlights2012 (11) | 0.000000 |
CircGradBasedCorrHighlights2012 (14) | 0.172090 |
CircGradBasedCorrHighlights2012 | 0.432560 |
CircGradBasedCorrHue | 0.000000 |
CircGradBasedCorrLocalBlacks2012 | 0.000000 |
CircGradBasedCorrLocalDehaze | 0.000000 |
CircGradBasedCorrLocalTexture | 0.000000 |
CircGradBasedCorrLocalWhites2012 (18) | 0.320930 |
CircGradBasedCorrLocalWhites2012 | 0.000000 |
CircGradBasedCorrLuminanceNoise | 0.000000 |
CircGradBasedCorrMaskAngle (10) | 0.000000 |
CircGradBasedCorrMaskAngle (15) | -10.194200 |
CircGradBasedCorrMaskAngle (16) | -5.516860 |
CircGradBasedCorrMaskAngle | -0.853370 |
CircGradBasedCorrMaskBottom (1) | 0.310924 |
CircGradBasedCorrMaskBottom (10) | 0.463542 |
CircGradBasedCorrMaskBottom (13) | 0.433449 |
CircGradBasedCorrMaskBottom (14) | 0.472801 |
CircGradBasedCorrMaskBottom (15) | 0.537734 |
CircGradBasedCorrMaskBottom (16) | 0.597328 |
CircGradBasedCorrMaskBottom (17) | 0.382523 |
CircGradBasedCorrMaskBottom (18) | 0.861110 |
CircGradBasedCorrMaskBottom (19) | 0.928240 |
CircGradBasedCorrMaskBottom (2) | 0.427657 |
CircGradBasedCorrMaskBottom (3) | 0.427946 |
CircGradBasedCorrMaskBottom (4) | 0.417240 |
CircGradBasedCorrMaskBottom (5) | 0.694444 |
CircGradBasedCorrMaskBottom (6) | 0.383680 |
CircGradBasedCorrMaskBottom (7) | 0.403356 |
CircGradBasedCorrMaskBottom (8) | 0.409144 |
CircGradBasedCorrMaskBottom (9) | 0.385996 |
CircGradBasedCorrMaskBottom | 0.696214 |
CircGradBasedCorrMaskFeather | +50 |
CircGradBasedCorrMaskFlipped | true |
CircGradBasedCorrMaskLeft (1) | 0.906629 |
CircGradBasedCorrMaskLeft (11) | 0.506557 |
CircGradBasedCorrMaskLeft (12) | 0.051310 |
CircGradBasedCorrMaskLeft (13) | 0.448686 |
CircGradBasedCorrMaskLeft (14) | 0.562885 |
CircGradBasedCorrMaskLeft (15) | 0.368171 |
CircGradBasedCorrMaskLeft (16) | 0.008282 |
CircGradBasedCorrMaskLeft (17) | 0.455631 |
CircGradBasedCorrMaskLeft (18) | 0.384260 |
CircGradBasedCorrMaskLeft (19) | 0.273149 |
CircGradBasedCorrMaskLeft (2) | 0.803374 |
CircGradBasedCorrMaskLeft (3) | 0.878605 |
CircGradBasedCorrMaskLeft (4) | 0.929724 |
CircGradBasedCorrMaskLeft (5) | 0.090663 |
CircGradBasedCorrMaskLeft (6) | 0.077545 |
CircGradBasedCorrMaskLeft (7) | 0.352236 |
CircGradBasedCorrMaskLeft (8) | 0.415507 |
CircGradBasedCorrMaskLeft (9) | 0.417822 |
CircGradBasedCorrMaskLeft | 0.478296 |
CircGradBasedCorrMaskMidpoint | +50 |
CircGradBasedCorrMaskRight (1) | 0.934640 |
CircGradBasedCorrMaskRight (10) | 0.542438 |
CircGradBasedCorrMaskRight (12) | 0.087191 |
CircGradBasedCorrMaskRight (13) | 0.478395 |
CircGradBasedCorrMaskRight (14) | 0.717592 |
CircGradBasedCorrMaskRight (15) | 0.532676 |
CircGradBasedCorrMaskRight (16) | 0.224355 |
CircGradBasedCorrMaskRight (17) | 0.465278 |
CircGradBasedCorrMaskRight (18) | 0.515432 |
CircGradBasedCorrMaskRight (19) | 0.408951 |
CircGradBasedCorrMaskRight (2) | 0.821985 |
CircGradBasedCorrMaskRight (3) | 0.884870 |
CircGradBasedCorrMaskRight (4) | 0.934831 |
CircGradBasedCorrMaskRight (5) | 0.209876 |
CircGradBasedCorrMaskRight (6) | 0.182870 |
CircGradBasedCorrMaskRight (7) | 0.398919 |
CircGradBasedCorrMaskRight (8) | 0.451388 |
CircGradBasedCorrMaskRight (9) | 0.453703 |
CircGradBasedCorrMaskRight | 0.527878 |
CircGradBasedCorrMaskRoundness | 0 |
CircGradBasedCorrMaskTop (1) | 0.280112 |
CircGradBasedCorrMaskTop (11) | 0.384839 |
CircGradBasedCorrMaskTop (13) | 0.394098 |
CircGradBasedCorrMaskTop (15) | 0.542127 |
CircGradBasedCorrMaskTop (16) | 0.570495 |
CircGradBasedCorrMaskTop (17) | 0.373264 |
CircGradBasedCorrMaskTop (18) | 0.569445 |
CircGradBasedCorrMaskTop (19) | 0.615741 |
CircGradBasedCorrMaskTop (2) | 0.412679 |
CircGradBasedCorrMaskTop (3) | 0.420492 |
CircGradBasedCorrMaskTop (4) | 0.410944 |
CircGradBasedCorrMaskTop (5) | 0.599537 |
CircGradBasedCorrMaskTop (6) | 0.219329 |
CircGradBasedCorrMaskTop (7) | 0.306135 |
CircGradBasedCorrMaskTop (8) | 0.330441 |
CircGradBasedCorrMaskTop (9) | 0.307293 |
CircGradBasedCorrMaskTop | 0.521377 |
CircGradBasedCorrMaskValue | 1.000000 |
CircGradBasedCorrMaskVersion | +2 |
CircGradBasedCorrMaskWhat | Mask/CircularGradient |
CircGradBasedCorrMoire | 0.000000 |
CircGradBasedCorrSaturation (31) | 0.125580 |
CircGradBasedCorrSaturation | 0.000000 |
CircGradBasedCorrShadows2012 | 0.000000 |
CircGradBasedCorrSharpness | 0.000000 |
CircGradBasedCorrTemperature (1) | 0.125580 |
CircGradBasedCorrTemperature (15) | 0.413950 |
CircGradBasedCorrTemperature (16) | 0.265120 |
CircGradBasedCorrTemperature | 0.000000 |
CircGradBasedCorrTint (16) | 0.311630 |
CircGradBasedCorrTint (6) | 0.227910 |
CircGradBasedCorrTint | 0.000000 |
CircGradBasedCorrWhat | Correction |
CircleOfConfusion | 0.019 mm |
Clarity2012 | +8 |
ColorComponents | 3 |
ColorNoiseReduction | 25 |
ColorNoiseReductionDetail | 50 |
ColorNoiseReductionSmoothness | 50 |
ColorSpace | sRGB |
ColorTemperature | 5491 |
ColorTransform | YCbCr |
Contrast2012 | +6 |
ConvertToGrayscale | False |
CreateDate (1) | 2019:11:12 17:10:24.15 |
CreateDate | 2019:11:12 17:10:24 |
CreatorTool | Adobe Photoshop Lightroom Classic 9.0 (Windows) |
CropAngle | 0.77422 |
CropBottom | 1 |
CropConstrainToWarp | 0 |
CropLeft | 0.014349 |
CropRight | 0.985651 |
CropTop | 0 |
CustomRendered | Normal |
DateCreated (1) | 2019:11:12 |
DateCreated | 2019:11:12 17:10:24.15 |
DateTimeOriginal | 2019:11:12 17:10:24 |
DefringeGreenAmount | 0 |
DefringeGreenHueHi | 60 |
DefringeGreenHueLo | 40 |
DefringePurpleAmount | 0 |
DefringePurpleHueHi | 70 |
DefringePurpleHueLo | 30 |
Dehaze | +23 |
Exposure2012 | +0.05 |
ExposureCompensation | 0 |
ExposureMode | Manual |
ExposureProgram | Manual |
ExposureTime | 20 |
Firmware | 1.0.2 |
Flash | Off, Did not fire |
FlashCompensation | 0 |
FNumber | 8.0 |
FocalLength | 18.0 mm |
FocalLength35efl | 18.0 mm (35 mm equivalent: 28.3 mm) |
Format | image/jpeg |
FOV | 64.9 deg |
GrainAmount | 0 |
GreenHue | 0 |
GreenSaturation | 0 |
HasCrop | True |
HasSettings | True |
Highlights2012 | -38 |
HueAdjustmentAqua | 0 |
HueAdjustmentBlue | 0 |
HueAdjustmentGreen | 0 |
HueAdjustmentMagenta | 0 |
HueAdjustmentOrange | 0 |
HueAdjustmentPurple | 0 |
HueAdjustmentRed | 0 |
HueAdjustmentYellow | 0 |
HyperfocalDistance | 2.12 m |
ImageHeight | 3387 |
ImageNumber | 0 |
ImageSize | 5080x3387 |
ImageWidth | 5080 |
ISO | 200 |
Lens | TAMRON 18-200mm F/3.5-6.3 DiII A14E |
LensID (1) | 153 |
LensID | Tamron AF 18-200mm f/3.5-6.3 XR Di II LD Aspherical [IF] Macro (A14) |
LensInfo | 18-200mm f/? |
LensManualDistortionAmount | 0 |
LensModel | TAMRON 18-200mm F/3.5-6.3 DiII A14E |
LensProfileEnable | 0 |
LensProfileSetup | LensDefaults |
LensSerialNumber | 0000000000 |
LightValue | 0.7 |
LookAmount | 1.000000 |
LookGroup | Profiles |
LookName | Adobe Color |
LookParametersCameraProfile | Adobe Standard |
LookParametersConvertToGrayscale | False |
LookParametersLookTable | E1095149FDB39D7A057BAB208837E2E1 |
LookParametersProcessVersion | 11.0 |
LookParametersToneCurvePV2012 | 0, 0, 22, 16, 40, 35, 127, 127, 224, 230, 240, 246, 255, 255 |
LookParametersToneCurvePV2012Blue | 0, 0, 255, 255 |
LookParametersToneCurvePV2012Green | 0, 0, 255, 255 |
LookParametersToneCurvePV2012Red | 0, 0, 255, 255 |
LookParametersVersion | 12.0 |
LookSupportsAmount | false |
LookSupportsMonochrome | false |
LookSupportsOutputReferred | false |
LuminanceAdjustmentAqua | 0 |
LuminanceAdjustmentBlue | 0 |
LuminanceAdjustmentGreen | 0 |
LuminanceAdjustmentMagenta | 0 |
LuminanceAdjustmentOrange | 0 |
LuminanceAdjustmentPurple | 0 |
LuminanceAdjustmentRed | 0 |
LuminanceAdjustmentYellow | 0 |
LuminanceSmoothing | 0 |
Make | Canon |
MaxApertureValue | 3.5 |
Megapixels | 17.2 |
MeteringMode | Multi-segment |
Model | Canon EOS 600D |
ModifyDate (1) | 2019:11:14 16:52:30+01:00 |
ModifyDate | 2019:11:14 16:52:30 |
OverrideLookVignette | False |
ParametricDarks | +8 |
ParametricHighlights | 0 |
ParametricHighlightSplit | 75 |
ParametricLights | 0 |
ParametricMidtoneSplit | 50 |
ParametricShadows | 0 |
ParametricShadowSplit | 25 |
PerspectiveAspect | 0 |
PerspectiveHorizontal | 0 |
PerspectiveRotate | 0.0 |
PerspectiveScale | 100 |
PerspectiveUpright | 0 |
PerspectiveVertical | 0 |
PerspectiveX | 0.00 |
PerspectiveY | 0.00 |
PostCropVignetteAmount | 0 |
PreservedFileName | IMG_9224.CR2 |
ProcessVersion | 11.0 |
ProfileDescription | sRGB IEC61966-2.1 |
RawFileName | IMG_9224.CR2 |
RecommendedExposureIndex | 200 |
RedHue | 0 |
RedSaturation | 0 |
Saturation | +20 |
SaturationAdjustmentAqua | 0 |
SaturationAdjustmentBlue | 0 |
SaturationAdjustmentGreen | 0 |
SaturationAdjustmentMagenta | 0 |
SaturationAdjustmentOrange | 0 |
SaturationAdjustmentPurple | 0 |
SaturationAdjustmentRed | 0 |
SaturationAdjustmentYellow | 0 |
ScaleFactor35efl | 1.6 |
SceneCaptureType | Standard |
SensitivityType | Recommended Exposure Index |
SerialNumber | 293076051982 |
Shadows2012 | +23 |
ShadowTint | 0 |
SharpenDetail | 25 |
SharpenEdgeMasking | 0 |
SharpenRadius | +1.0 |
Sharpness | 40 |
ShutterSpeed | 20 |
ShutterSpeedValue | 20 |
Software | Adobe Photoshop Lightroom Classic 9.0 (Windows) |
SplitToningBalance | 0 |
SplitToningHighlightHue | 0 |
SplitToningHighlightSaturation | 0 |
SplitToningShadowHue | 0 |
SplitToningShadowSaturation | 0 |
Texture | +8 |
Tint | +3 |
ToneCurve | 0, 0, 255, 255 |
ToneCurveBlue | 0, 0, 255, 255 |
ToneCurveGreen | 0, 0, 255, 255 |
ToneCurveName | Linear |
ToneCurveName2012 | Linear |
ToneCurvePV2012 | 0, 0, 255, 255 |
ToneCurvePV2012Blue | 0, 0, 255, 255 |
ToneCurvePV2012Green | 0, 0, 255, 255 |
ToneCurvePV2012Red | 0, 0, 255, 255 |
ToneCurveRed | 0, 0, 255, 255 |
ToneMapStrength | 0 |
Version | 12.0 |
Vibrance | +13 |
VignetteAmount | 0 |
WhiteBalance (1) | Custom |
WhiteBalance | Auto |
Whites2012 | +4 |