Felt | Verdi |
AlreadyApplied | True |
Aperture | 7.1 |
ApertureValue | 7.1 |
Artist | Vidar M. Jacobsen |
BitsPerSample | 8 |
BlueHue | 0 |
BlueSaturation | 0 |
Brightness | +64 |
BrightnessValue | 6.62 |
By-line | Vidar M. Jacobsen |
CameraProfile | Adobe Standard |
CameraSerialNumber | 2125849 |
ChromaticAberrationB | 0 |
ChromaticAberrationR | 0 |
CircleOfConfusion | 0.020 mm |
Clarity | 0 |
ColorComponents | 3 |
ColorMode | RGB |
ColorNoiseReduction | 25 |
ColorNoiseReductionDetail | 50 |
ColorSpace | sRGB |
ColorTemperature | 7500 |
ColorTransform | YCbCr |
Contrast (2) | +49 |
Contrast | Normal |
ConvertToGrayscale | False |
CreateDate (1) | 2020:05:02 13:14:13+02:00 |
CreateDate | 2020:05:02 13:14:13 |
Creator | Vidar M. Jacobsen |
CreatorTool | DSLR-A300 v1.00 |
CustomRendered | Normal |
DateAcquired | 2020:05:02 16:16:43.456 |
DateTimeDigitized | 2020:05:02 13:14:13+02:00 |
DateTimeOriginal (1) | 2020:05:02 13:14:13+02:00 |
DateTimeOriginal | 2020:05:02 13:14:13 |
Defringe | 0 |
ExifImageHeight | 2656 |
ExifImageWidth | 3984 |
Exposure | 0.00 |
ExposureCompensation | 0 |
ExposureMode | Manual |
ExposureProgram | Manual |
ExposureTime | 1/400 |
FillLight | 12 |
Flash | Off, Did not fire |
FlashFired | False |
FlashFunction | False |
FlashMode | Off |
FlashRedEyeMode | False |
FlashReturn | No return detection |
FNumber | 7.1 |
FocalLength | 55.0 mm |
FocalLength35efl | 55.0 mm (35 mm equivalent: 82.0 mm) |
FocalLengthIn35mmFormat | 82 mm |
Format | image/jpeg |
FOV | 24.8 deg |
GrainAmount | 0 |
GreenHue | 0 |
GreenSaturation | 0 |
HasCrop | False |
HasSettings | True |
HighlightRecovery | 78 |
HueAdjustmentAqua | 0 |
HueAdjustmentBlue | 0 |
HueAdjustmentGreen | 0 |
HueAdjustmentMagenta | 0 |
HueAdjustmentOrange | 0 |
HueAdjustmentPurple | 0 |
HueAdjustmentRed | 0 |
HueAdjustmentYellow | 0 |
HyperfocalDistance | 21.14 m |
ICCProfileName | sRGB IEC61966-2.1 |
ImageHeight | 2656 |
ImageSize | 3984x2656 |
ImageWidth | 3984 |
ISO | 400 |
Keywords | Drammen, St.Olavsgate, Forfall, Svart/Hvitt |
LastKeywordIPTC | Drammen, St.Olavsgate, Forfall, Svart/Hvitt |
LastKeywordXMP | Drammen, St.Olavsgate, Forfall, Svart/Hvitt |
Lens | DT 55-200mm F4.0-5.6 |
LensID (1) | 49 |
LensID | Sony DT 55-200mm F4-5.6 (SAL55200) |
LensInfo | 55-200mm f/40-56 |
LensManualDistortionAmount | 0 |
LensManufacturer | Sony |
LensModel | DT 55-200mm 4-5,6 |
LensProfileEnable | 0 |
LensProfileSetup | LensDefaults |
LightSource | Unknown |
LightValue | 12.3 |
LuminanceAdjustmentAqua | 0 |
LuminanceAdjustmentBlue | 0 |
LuminanceAdjustmentGreen | 0 |
LuminanceAdjustmentMagenta | 0 |
LuminanceAdjustmentOrange | 0 |
LuminanceAdjustmentPurple | 0 |
LuminanceAdjustmentRed | 0 |
LuminanceAdjustmentYellow | 0 |
LuminanceNoiseReductionContrast | 0 |
LuminanceNoiseReductionDetail | 50 |
LuminanceSmoothing | 10 |
Make | SONY |
MaxApertureValue | 4.0 |
Megapixels | 10.6 |
MeteringMode | Multi-segment |
Model | DSLR-A300 |
ModifyDate (1) | 2020:05:02 15:20:32+02:00 |
ModifyDate | 2020:05:02 15:20:32 |
Orientation | Horizontal (normal) |
ParametricDarks | 0 |
ParametricHighlights | 0 |
ParametricHighlightSplit | 75 |
ParametricLights | 0 |
ParametricMidtoneSplit | 50 |
ParametricShadows | 0 |
ParametricShadowSplit | 25 |
PerspectiveHorizontal | 0 |
PerspectiveRotate | 0.0 |
PerspectiveScale | 100 |
PerspectiveVertical | 0 |
PostCropVignetteAmount | 0 |
ProcessVersion | 5.7 |
ProfileDescription | sRGB IEC61966-2.1 |
Rating | 0 |
RawFileName | Sony K040 046 Forfall.ARW |
RedHue | 0 |
RedSaturation | 0 |
Saturation (2) | -18 |
Saturation | Normal |
SaturationAdjustmentAqua | 0 |
SaturationAdjustmentBlue | 0 |
SaturationAdjustmentGreen | 0 |
SaturationAdjustmentMagenta | 0 |
SaturationAdjustmentOrange | 0 |
SaturationAdjustmentPurple | 0 |
SaturationAdjustmentRed | 0 |
SaturationAdjustmentYellow | 0 |
ScaleFactor35efl | 1.5 |
SceneCaptureType | Standard |
SceneType | Directly photographed |
Shadows | 26 |
ShadowTint | 0 |
SharpenDetail | 34 |
SharpenEdgeMasking | 38 |
SharpenRadius | +1.2 |
Sharpness (2) | 55 |
Sharpness | Normal |
ShutterSpeed | 1/400 |
ShutterSpeedValue | 1/400 |
SidecarForExtension | ARW |
Software | Adobe Photoshop Elements 9.0 Windows |
SplitToningBalance | 0 |
SplitToningHighlightHue | 0 |
SplitToningHighlightSaturation | 0 |
SplitToningShadowHue | 0 |
SplitToningShadowSaturation | 0 |
Subject | Drammen, St.Olavsgate, Forfall, Svart/Hvitt |
Tint | +10 |
ToneCurve | 0, 0, 32, 22, 64, 56, 128, 128, 192, 196, 255, 255 |
ToneCurveName | Medium Contrast |
URL_List | |
Version | 6.1 |
Vibrance | +33 |
VignetteAmount | 0 |
WhiteBalance (2) | Shade |
WhiteBalance | Auto |
XPAuthor | Vidar M. Jacobsen |
XPKeywords | Drammen;St.Olavsgate;Forfall;Svart/Hvitt |