Felt | Verdi |
AlreadyApplied | True |
Aperture | 4.0 |
ApertureValue | 4.0 |
ApproximateFocusDistance | 4294967295 |
Artist | Kurt Evensen |
AutoLateralCA | 0 |
BitsPerSample | 8 |
Blacks2012 | 0 |
BlueHue | 0 |
BlueSaturation | 0 |
By-line | Kurt Evensen |
CameraProfile | Embedded |
City | Tjøme |
Clarity2012 | 0 |
ColorComponents | 3 |
ColorNoiseReduction | 0 |
ColorSpace | sRGB |
ColorTransform | YCbCr |
Contrast2012 | 0 |
ConvertToGrayscale | False |
Copyright | Kurt Evensen |
CopyrightFlag | True |
CopyrightNotice | Kurt Evensen |
Country | Norway |
Country-PrimaryLocationCode | NO |
Country-PrimaryLocationName | Norway |
CountryCode | NO |
CreateDate | 2020:07:05 21:32:43 |
Creator | Kurt Evensen |
CreatorTool | Adobe Photoshop Lightroom Classic 9.3 (Macintosh) |
CustomRendered | Normal |
DateCreated (1) | 2020:07:05 |
DateCreated | 2020:07:05 21:32:43.016 |
DateTimeOriginal | 2020:07:05 21:32:43 |
DefringeGreenAmount | 0 |
DefringeGreenHueHi | 60 |
DefringeGreenHueLo | 40 |
DefringePurpleAmount | 0 |
DefringePurpleHueHi | 70 |
DefringePurpleHueLo | 30 |
Dehaze | 0 |
DistortionCorrectionAlreadyApplied | True |
Exposure2012 | 0.00 |
ExposureCompensation | 0 |
ExposureMode | Manual |
ExposureProgram | Manual |
ExposureTime | 30 |
Firmware | 1.1.3 |
Flash | Off, Did not fire |
FlashCompensation | 0 |
FNumber | 4.0 |
FocalLength | 17.0 mm |
FocalLength35efl | 17.0 mm |
Format | image/jpeg |
GPSAltitude (1) | 62.5 m |
GPSAltitude | 62.5 m Above Sea Level |
GPSAltitudeRef | Above Sea Level |
GPSDateStamp | 2020:07:05 |
GPSDateTime | 2020:07:05 19:31:54.819Z |
GPSDOP | 18.8 |
GPSLatitude (1) | 59 deg 4' 14.66" |
GPSLatitude | 59 deg 4' 14.66" N |
GPSLatitudeRef | North |
GPSLongitude (1) | 10 deg 23' 38.70" |
GPSLongitude | 10 deg 23' 38.70" E |
GPSLongitudeRef | East |
GPSMapDatum | WGS-84 |
GPSMeasureMode | 3-Dimensional Measurement |
GPSPosition | 59 deg 4' 14.66" N, 10 deg 23' 38.70" E |
GPSSatellites | 12 |
GPSStatus | Measurement Active |
GPSTimeStamp | 19:31:54.819 |
GPSVersionID | 2.3.0.0 |
GrainAmount | 0 |
GreenHue | 0 |
GreenSaturation | 0 |
HasCrop | False |
HasSettings | True |
Highlights2012 | 0 |
HueAdjustmentAqua | 0 |
HueAdjustmentBlue | 0 |
HueAdjustmentGreen | 0 |
HueAdjustmentMagenta | 0 |
HueAdjustmentOrange | 0 |
HueAdjustmentPurple | 0 |
HueAdjustmentRed | 0 |
HueAdjustmentYellow | 0 |
ImageHeight | 1814 |
ImageNumber | 0 |
ImageSize | 5441x1814 |
ImageWidth | 5441 |
IncrementalTemperature | 0 |
IncrementalTint | 0 |
ISO | 100 |
Keywords | LE, Norway, Vestfold, beach, landscape, long exposure, longexposure, nature, panorama, rocky beach, sea, seascape, shore, sky, storm, summer, sunset, water, wet rocks, wind |
LateralChromaticAberrationCorrectionAlreadyApplied | True |
Lens | EF17-40mm f/4L USM |
LensID (1) | 231 |
LensID | Canon EF 17-40mm f/4L USM |
LensInfo | 17-40mm f/? |
LensManualDistortionAmount | 0 |
LensModel | EF17-40mm f/4L USM |
LensProfileEnable | 0 |
LensProfileSetup | LensDefaults |
LensSerialNumber | 0000000000 |
LightValue | -0.9 |
LookName | |
LuminanceAdjustmentAqua | 0 |
LuminanceAdjustmentBlue | 0 |
LuminanceAdjustmentGreen | 0 |
LuminanceAdjustmentMagenta | 0 |
LuminanceAdjustmentOrange | 0 |
LuminanceAdjustmentPurple | 0 |
LuminanceAdjustmentRed | 0 |
LuminanceAdjustmentYellow | 0 |
LuminanceSmoothing | 0 |
Make | Canon |
Marked | True |
MaxApertureValue | 4.0 |
Megapixels | 9.9 |
MeteringMode | Multi-segment |
Model | Canon EOS 6D |
ModifyDate (1) | 2020:07:10 01:13:16+02:00 |
ModifyDate | 2020:07:10 01:13:16 |
ObjectName | Sometimes Darkness Can Show You the Light |
OverrideLookVignette | False |
ParametricDarks | 0 |
ParametricHighlights | 0 |
ParametricHighlightSplit | 75 |
ParametricLights | 0 |
ParametricMidtoneSplit | 50 |
ParametricShadows | 0 |
ParametricShadowSplit | 25 |
PerspectiveAspect | 0 |
PerspectiveHorizontal | 0 |
PerspectiveRotate | 0.0 |
PerspectiveScale | 100 |
PerspectiveUpright | 0 |
PerspectiveVertical | 0 |
PerspectiveX | 0.00 |
PerspectiveY | 0.00 |
PostCropVignetteAmount | 0 |
PreservedFileName | IMG_4552.CR2 |
ProcessVersion | 11.0 |
ProfileDescription | sRGB IEC61966-2.1 |
Province-State | Vestfold |
Rating | 3 |
RawFileName | |
RecommendedExposureIndex | 100 |
RedHue | 0 |
RedSaturation | 0 |
Rights | Kurt Evensen |
Saturation | 0 |
SaturationAdjustmentAqua | 0 |
SaturationAdjustmentBlue | 0 |
SaturationAdjustmentGreen | 0 |
SaturationAdjustmentMagenta | 0 |
SaturationAdjustmentOrange | 0 |
SaturationAdjustmentPurple | 0 |
SaturationAdjustmentRed | 0 |
SaturationAdjustmentYellow | 0 |
SceneCaptureType | Standard |
SensitivityType | Recommended Exposure Index |
SerialNumber | 022022000574 |
Shadows2012 | 0 |
ShadowTint | 0 |
SharpenDetail | 25 |
SharpenEdgeMasking | 0 |
SharpenRadius | +1.0 |
Sharpness | 0 |
ShutterSpeed | 30 |
ShutterSpeedValue | 30 |
Software | Adobe Photoshop Lightroom Classic 9.3 (Macintosh) |
SplitToningBalance | 0 |
SplitToningHighlightHue | 0 |
SplitToningHighlightSaturation | 0 |
SplitToningShadowHue | 0 |
SplitToningShadowSaturation | 0 |
State | Vestfold |
Subject | LE, Norway, Vestfold, beach, landscape, long exposure, longexposure, nature, panorama, rocky beach, sea, seascape, shore, sky, storm, summer, sunset, water, wet rocks, wind |
Texture | 0 |
Title | Sometimes Darkness Can Show You the Light |
ToneCurve | 0, 0, 255, 255 |
ToneCurveBlue | 0, 0, 255, 255 |
ToneCurveGreen | 0, 0, 255, 255 |
ToneCurveName | Linear |
ToneCurveName2012 | Linear |
ToneCurvePV2012 | 0, 0, 255, 255 |
ToneCurvePV2012Blue | 0, 0, 255, 255 |
ToneCurvePV2012Green | 0, 0, 255, 255 |
ToneCurvePV2012Red | 0, 0, 255, 255 |
ToneCurveRed | 0, 0, 255, 255 |
ToneMapStrength | 0 |
Version | 12.3 |
Vibrance | -9 |
VignetteAmount | 0 |
VignetteCorrectionAlreadyApplied | True |
WhiteBalance (1) | As Shot |
WhiteBalance | Auto |
Whites2012 | 0 |