Felt | Verdi |
AlreadyApplied | True |
Aperture | 8.0 |
ApertureValue | 8.0 |
ApproximateFocusDistance | 28.2 |
AutoLateralCA | 1 |
BitsPerSample | 8 |
Blacks2012 | +18 |
BlueHue | 0 |
BlueSaturation | 0 |
CameraProfile | Adobe Standard |
CFAPattern | [Red,Green][Green,Blue] |
CircGradBasedCorrActive | true |
CircGradBasedCorrAmount | 1.000000 |
CircGradBasedCorrBrightness | 0.000000 |
CircGradBasedCorrClarity2012 (1) | 0.094020 |
CircGradBasedCorrClarity2012 | 0.000000 |
CircGradBasedCorrContrast2012 (1) | 0.247860 |
CircGradBasedCorrContrast2012 (2) | 0.076920 |
CircGradBasedCorrContrast2012 | 0.000000 |
CircGradBasedCorrCorrectionRangeMaskColorAmount | 0.500000 |
CircGradBasedCorrCorrectionRangeMaskDepthFeather | 0.500000 |
CircGradBasedCorrCorrectionRangeMaskDepthMax | 1.000000 |
CircGradBasedCorrCorrectionRangeMaskDepthMin | 0.000000 |
CircGradBasedCorrCorrectionRangeMaskLumFeather | 0.500000 |
CircGradBasedCorrCorrectionRangeMaskLumMax | 1.000000 |
CircGradBasedCorrCorrectionRangeMaskLumMin | 0.000000 |
CircGradBasedCorrCorrectionRangeMaskType | 0 |
CircGradBasedCorrCorrectionRangeMaskVersion | +2 |
CircGradBasedCorrDefringe | 0.000000 |
CircGradBasedCorrExposure2012 (1) | -0.025750 |
CircGradBasedCorrExposure2012 | 0.000000 |
CircGradBasedCorrHighlights2012 | 0.000000 |
CircGradBasedCorrHue (1) | 72.000000 |
CircGradBasedCorrHue | 0.000000 |
CircGradBasedCorrLocalBlacks2012 (1) | 0.000000 |
CircGradBasedCorrLocalBlacks2012 | 0.111110 |
CircGradBasedCorrLocalDehaze | 0.000000 |
CircGradBasedCorrLocalHue | 0.000000 |
CircGradBasedCorrLocalTexture | 0.000000 |
CircGradBasedCorrLocalWhites2012 | 0.000000 |
CircGradBasedCorrLuminanceNoise | 0.000000 |
CircGradBasedCorrMaskAngle (1) | 1.268790 |
CircGradBasedCorrMaskAngle (2) | 0.771734 |
CircGradBasedCorrMaskAngle | 26.941100 |
CircGradBasedCorrMaskBottom (1) | 0.947025 |
CircGradBasedCorrMaskBottom (2) | 0.716775 |
CircGradBasedCorrMaskBottom | 0.505424 |
CircGradBasedCorrMaskFeather (1) | +100 |
CircGradBasedCorrMaskFeather | +50 |
CircGradBasedCorrMaskFlipped | true |
CircGradBasedCorrMaskLeft (1) | -0.570028 |
CircGradBasedCorrMaskLeft (2) | 0.049174 |
CircGradBasedCorrMaskLeft | 0.380121 |
CircGradBasedCorrMaskMidpoint | +50 |
CircGradBasedCorrMaskRight (1) | 0.968919 |
CircGradBasedCorrMaskRight (2) | 0.169712 |
CircGradBasedCorrMaskRight | 0.399242 |
CircGradBasedCorrMaskRoundness | 0 |
CircGradBasedCorrMaskTop (1) | 0.309295 |
CircGradBasedCorrMaskTop (2) | 0.637377 |
CircGradBasedCorrMaskTop | 0.470090 |
CircGradBasedCorrMaskValue | 1.000000 |
CircGradBasedCorrMaskVersion | +2 |
CircGradBasedCorrMaskWhat | Mask/CircularGradient |
CircGradBasedCorrMoire | 0.000000 |
CircGradBasedCorrSaturation (1) | 0.196580 |
CircGradBasedCorrSaturation | 0.000000 |
CircGradBasedCorrShadows2012 | 0.000000 |
CircGradBasedCorrSharpness (1) | 0.264960 |
CircGradBasedCorrSharpness | 0.000000 |
CircGradBasedCorrTemperature (1) | -0.042740 |
CircGradBasedCorrTemperature (2) | 0.161110 |
CircGradBasedCorrTemperature | 0.249490 |
CircGradBasedCorrTint | 0.000000 |
CircGradBasedCorrWhat | Correction |
CircleOfConfusion | 0.020 mm |
Clarity2012 | +5 |
ColorComponents | 3 |
ColorNoiseReduction | 25 |
ColorNoiseReductionDetail | 50 |
ColorNoiseReductionSmoothness | 50 |
ColorSpace | sRGB |
ColorTemperature | 5913 |
ColorTransform | YCbCr |
Contrast | Normal |
Contrast2012 | -11 |
ConvertToGrayscale | False |
CreateDate (1) | 2020:09:22 17:15:40.90 |
CreateDate | 2020:09:22 17:15:40 |
CreatorTool | Adobe Photoshop Lightroom Classic 9.4 (Windows) |
CropAngle | 0.771734 |
CropBottom | 0.993737 |
CropConstrainToWarp | 0 |
CropLeft | 0.04295 |
CropRight | 0.979579 |
CropTop | 0.023841 |
CustomRendered | Normal |
DateCreated (1) | 2020:09:22 |
DateCreated | 2020:09:22 17:15:40.90 |
DateTimeOriginal | 2020:09:22 17:15:40 |
DefringeGreenAmount | 0 |
DefringeGreenHueHi | 60 |
DefringeGreenHueLo | 40 |
DefringePurpleAmount | 0 |
DefringePurpleHueHi | 70 |
DefringePurpleHueLo | 30 |
Dehaze | +15 |
DigitalZoomRatio | 1 |
DistortionCorrectionAlreadyApplied | True |
DOF | 337.58 m (14.69 - 352.27 m) |
Exposure2012 | +0.10 |
ExposureCompensation | 0 |
ExposureMode | Manual |
ExposureProgram | Manual |
ExposureTime | 1/125 |
Flash | Off, Did not fire |
FNumber | 8.0 |
FocalLength | 70.0 mm |
FocalLength35efl | 70.0 mm (35 mm equivalent: 105.0 mm) |
FocalLengthIn35mmFormat | 105 mm |
Format | image/jpeg |
FOV | 19.5 deg |
GainControl | None |
GrainAmount | 0 |
GreenHue | 0 |
GreenSaturation | 0 |
HasCrop | True |
HasSettings | True |
Highlights2012 | -100 |
HueAdjustmentAqua | 0 |
HueAdjustmentBlue | 0 |
HueAdjustmentGreen | 0 |
HueAdjustmentMagenta | 0 |
HueAdjustmentOrange | 0 |
HueAdjustmentPurple | 0 |
HueAdjustmentRed | 0 |
HueAdjustmentYellow | 0 |
HyperfocalDistance | 30.58 m |
ImageHeight | 1200 |
ImageNumber | 36964 |
ImageSize | 1801x1200 |
ImageWidth | 1801 |
ISO | 100 |
LateralChromaticAberrationCorrectionAlreadyApplied | True |
Lens | TAMRON SP 70-300mm F4-5.6 Di VC USD A005N |
LensID (1) | 241 |
LensID | Tamron SP 70-300mm f/4-5.6 Di VC USD (A005) |
LensInfo | 70-300mm f/4-5.6 |
LensManualDistortionAmount | 0 |
LensModel | TAMRON SP 70-300mm F4-5.6 Di VC USD A005N |
LensProfileChromaticAberrationScale | 100 |
LensProfileDistortionScale | 100 |
LensProfileEnable | 1 |
LensProfileFilename | NIKON CORPORATION (TAMRON SP 70-300mm F4-5.6 Di VC USD A005N) - RAW.lcp |
LensProfileIsEmbedded | False |
LensProfileName | Adobe (TAMRON SP 70-300mm F4-5.6 Di VC USD A005N) |
LensProfileSetup | LensDefaults |
LensProfileVignettingScale | 100 |
LightSource | Unknown |
LightValue | 13.0 |
LookName | |
LuminanceAdjustmentAqua | 0 |
LuminanceAdjustmentBlue | 0 |
LuminanceAdjustmentGreen | 0 |
LuminanceAdjustmentMagenta | 0 |
LuminanceAdjustmentOrange | 0 |
LuminanceAdjustmentPurple | 0 |
LuminanceAdjustmentRed | 0 |
LuminanceAdjustmentYellow | 0 |
LuminanceNoiseReductionContrast | 5 |
LuminanceNoiseReductionDetail | 50 |
LuminanceSmoothing | 10 |
Make | NIKON CORPORATION |
MaxApertureValue | 4.0 |
Megapixels | 2.2 |
MeteringMode | Multi-segment |
Model | NIKON D7000 |
ModifyDate (1) | 2020:09:25 11:22:33+02:00 |
ModifyDate | 2020:09:25 11:22:33 |
OverrideLookVignette | True |
ParametricDarks | 0 |
ParametricHighlights | 0 |
ParametricHighlightSplit | 75 |
ParametricLights | 0 |
ParametricMidtoneSplit | 50 |
ParametricShadows | 0 |
ParametricShadowSplit | 25 |
PerspectiveAspect | 0 |
PerspectiveHorizontal | 0 |
PerspectiveRotate | 0.0 |
PerspectiveScale | 100 |
PerspectiveUpright | 0 |
PerspectiveVertical | 0 |
PerspectiveX | 0.00 |
PerspectiveY | 0.00 |
PostCropVignetteAmount | -32 |
PostCropVignetteFeather | 69 |
PostCropVignetteHighlightContrast | 0 |
PostCropVignetteMidpoint | 30 |
PostCropVignetteRoundness | +12 |
PostCropVignetteStyle | 1 |
PreservedFileName | DSC_6838.NEF |
ProcessVersion | 11.0 |
ProfileDescription | sRGB IEC61966-2.1 |
RawFileName | DSC_6838.NEF |
RedHue | 0 |
RedSaturation | 0 |
Saturation (1) | +16 |
Saturation | Normal |
SaturationAdjustmentAqua | 0 |
SaturationAdjustmentBlue | 0 |
SaturationAdjustmentGreen | 0 |
SaturationAdjustmentMagenta | 0 |
SaturationAdjustmentOrange | 0 |
SaturationAdjustmentPurple | 0 |
SaturationAdjustmentRed | 0 |
SaturationAdjustmentYellow | 0 |
ScaleFactor35efl | 1.5 |
SceneCaptureType | Standard |
SceneType | Directly photographed |
SensingMethod | One-chip color area |
SensitivityType | Recommended Exposure Index |
SerialNumber | 6116324 |
Shadows2012 | +62 |
ShadowTint | 0 |
SharpenDetail | 25 |
SharpenEdgeMasking | 14 |
SharpenRadius | +1.0 |
Sharpness (1) | 30 |
Sharpness | Normal |
ShutterSpeed | 1/125 |
ShutterSpeedValue | 1/125 |
Software | Adobe Photoshop Lightroom Classic 9.4 (Windows) |
SplitToningBalance | 0 |
SplitToningHighlightHue | 0 |
SplitToningHighlightSaturation | 0 |
SplitToningShadowHue | 0 |
SplitToningShadowSaturation | 0 |
SubjectDistanceRange | Unknown |
Texture | +15 |
Tint | +10 |
ToneCurve | 0, 0, 255, 255 |
ToneCurveBlue | 0, 0, 255, 255 |
ToneCurveGreen | 0, 0, 255, 255 |
ToneCurveName | Linear |
ToneCurveName2012 | Custom |
ToneCurvePV2012 | 0, 15, 47, 33, 161, 141, 196, 191, 255, 255 |
ToneCurvePV2012Blue | 0, 17, 255, 255 |
ToneCurvePV2012Green | 0, 0, 255, 255 |
ToneCurvePV2012Red | 0, 0, 255, 255 |
ToneCurveRed | 0, 0, 255, 255 |
ToneMapStrength | 0 |
Version | 12.4 |
Vibrance | +57 |
VignetteAmount | 0 |
VignetteCorrectionAlreadyApplied | True |
WhiteBalance (1) | Custom |
WhiteBalance | Auto |
Whites2012 | +71 |