Felt | Verdi |
AlreadyApplied | True |
Aperture | 6.3 |
ApertureValue | 6.3 |
AutoLateralCA | 0 |
AutoWhiteVersion | 134348800 |
BitsPerSample | 8 |
Blacks2012 | +24 |
BlueHue | 0 |
BlueSaturation | 0 |
CameraProfile (1) | Camera Standard |
CameraProfile | Adobe Standard v2 |
CFAPattern | [Red,Green][Green,Blue] |
CircGradBasedCorrActive | true |
CircGradBasedCorrAmount | 1.000000 |
CircGradBasedCorrBrightness | 0.000000 |
CircGradBasedCorrClarity2012 (1) | 0.714290 |
CircGradBasedCorrClarity2012 (2) | 0.214290 |
CircGradBasedCorrClarity2012 | 0.000000 |
CircGradBasedCorrContrast2012 (1) | 0.357140 |
CircGradBasedCorrContrast2012 (2) | 0.238100 |
CircGradBasedCorrContrast2012 | 0.047620 |
CircGradBasedCorrDefringe | 0.000000 |
CircGradBasedCorrExposure2012 (1) | 0.309500 |
CircGradBasedCorrExposure2012 (2) | -0.428500 |
CircGradBasedCorrExposure2012 | 0.238000 |
CircGradBasedCorrHighlights2012 (1) | 0.119050 |
CircGradBasedCorrHighlights2012 (2) | -0.119050 |
CircGradBasedCorrHighlights2012 | 0.642860 |
CircGradBasedCorrHue | 26.747601 |
CircGradBasedCorrLocalBlacks2012 | 0.000000 |
CircGradBasedCorrLocalDehaze | 0.000000 |
CircGradBasedCorrLocalWhites2012 | 0.000000 |
CircGradBasedCorrLuminanceNoise | 0.000000 |
CircGradBasedCorrMaskAngle (1) | 4.668840 |
CircGradBasedCorrMaskAngle | 4.074090 |
CircGradBasedCorrMaskBottom (1) | 0.760820 |
CircGradBasedCorrMaskBottom (2) | 0.767220 |
CircGradBasedCorrMaskBottom | 0.465922 |
CircGradBasedCorrMaskFeather (1) | +85 |
CircGradBasedCorrMaskFeather | +100 |
CircGradBasedCorrMaskFlipped (2) | false |
CircGradBasedCorrMaskFlipped | true |
CircGradBasedCorrMaskLeft (1) | -0.051689 |
CircGradBasedCorrMaskLeft (2) | -0.060415 |
CircGradBasedCorrMaskLeft | 0.070472 |
CircGradBasedCorrMaskMidpoint | +50 |
CircGradBasedCorrMaskRight (1) | 1.652790 |
CircGradBasedCorrMaskRight (2) | 1.643220 |
CircGradBasedCorrMaskRight | 0.533267 |
CircGradBasedCorrMaskRoundness | 0 |
CircGradBasedCorrMaskTop (1) | 0.166278 |
CircGradBasedCorrMaskTop (2) | 0.157126 |
CircGradBasedCorrMaskTop | 0.306552 |
CircGradBasedCorrMaskValue | 1.000000 |
CircGradBasedCorrMaskVersion | +2 |
CircGradBasedCorrMaskWhat | Mask/CircularGradient |
CircGradBasedCorrMoire | 0.000000 |
CircGradBasedCorrSaturation (1) | 0.238100 |
CircGradBasedCorrSaturation | 0.000000 |
CircGradBasedCorrShadows2012 (1) | 0.928570 |
CircGradBasedCorrShadows2012 (2) | -0.166670 |
CircGradBasedCorrShadows2012 | 0.357140 |
CircGradBasedCorrSharpness (2) | 0.880950 |
CircGradBasedCorrSharpness | 0.000000 |
CircGradBasedCorrTemperature (2) | 0.166670 |
CircGradBasedCorrTemperature | 0.000000 |
CircGradBasedCorrTint | 0.000000 |
CircGradBasedCorrWhat | Correction |
CircleOfConfusion | 0.030 mm |
Clarity2012 | 0 |
ColorComponents | 3 |
ColorNoiseReduction (1) | 9 |
ColorNoiseReduction | 25 |
ColorNoiseReductionDetail | 50 |
ColorNoiseReductionSmoothness | 50 |
ColorSpace | Uncalibrated |
ColorTemperature | 6000 |
ColorTransform | YCbCr |
Contrast | Normal |
Contrast2012 | 0 |
ConvertToGrayscale | False |
CreateDate (1) | 2021:09:14 17:22:08.60Z |
CreateDate | 2021:09:14 17:22:08 |
CreatorTool | Adobe Photoshop Lightroom 6.14 (Windows) |
CropAngle | 0 |
CropBottom | 0.938256 |
CropConstrainToWarp | 0 |
CropLeft | 0.067289 |
CropRight | 0.992523 |
CropTop | 0.011182 |
CustomRendered | Custom |
DateCreated (1) | 2021:09:14 |
DateCreated | 2021:09:14 17:22:08.60Z |
DateTimeOriginal | 2021:09:14 17:22:08 |
DefringeGreenAmount | 0 |
DefringeGreenHueHi | 60 |
DefringeGreenHueLo | 40 |
DefringePurpleAmount | 0 |
DefringePurpleHueHi | 70 |
DefringePurpleHueLo | 30 |
Dehaze | 0 |
DistortionCorrectionAlreadyApplied | True |
Exposure2012 (1) | 0.67 |
Exposure2012 | 0.00 |
ExposureCompensation | 0 |
ExposureMode | Auto |
ExposureProgram | Aperture-priority AE |
ExposureTime | 1/15 |
Flash | No Flash |
FNumber | 6.3 |
FocalLength | 27.0 mm |
FocalLength35efl | 27.0 mm (35 mm equivalent: 27.0 mm) |
FocalLengthIn35mmFormat | 27 mm |
Format | image/jpeg |
FOV | 67.4 deg |
GainControl | None |
GrainAmount | 0 |
GreenHue | 0 |
GreenSaturation | 0 |
HasCrop | True |
HasSettings | True |
Highlights2012 (1) | -35 |
Highlights2012 | -26 |
HueAdjustmentAqua | 0 |
HueAdjustmentBlue | 0 |
HueAdjustmentGreen | 0 |
HueAdjustmentMagenta | 0 |
HueAdjustmentOrange | 0 |
HueAdjustmentPurple | 0 |
HueAdjustmentRed | 0 |
HueAdjustmentYellow | 0 |
HyperfocalDistance | 3.85 m |
ImageHeight | 2500 |
ImageNumber | 5676 |
ImageSize | 1667x2500 |
ImageWidth | 1667 |
ISO | 400 |
LateralChromaticAberrationCorrectionAlreadyApplied | True |
Lens | NIKKOR Z 24-70mm f/4 S |
LensInfo | 24-70mm f/4 |
LensMake | NIKON |
LensManualDistortionAmount | 0 |
LensModel | NIKKOR Z 24-70mm f/4 S |
LensProfileEnable | 0 |
LensProfileSetup | LensDefaults |
LensSerialNumber | 20148614 |
LightSource | Unknown |
LightValue | 7.2 |
LuminanceAdjustmentAqua | 0 |
LuminanceAdjustmentBlue | 0 |
LuminanceAdjustmentGreen | 0 |
LuminanceAdjustmentMagenta | 0 |
LuminanceAdjustmentOrange | 0 |
LuminanceAdjustmentPurple | 0 |
LuminanceAdjustmentRed | 0 |
LuminanceAdjustmentYellow | 0 |
LuminanceNoiseReductionContrast | 0 |
LuminanceNoiseReductionDetail | 75 |
LuminanceSmoothing (1) | 18 |
LuminanceSmoothing | 0 |
Make | NIKON CORPORATION |
Megapixels | 4.2 |
MeteringMode | Multi-segment |
Model | NIKON Z 6 |
ModifyDate (1) | 2021:09:18 22:54:27+02:00 |
ModifyDate | 2021:09:18 22:54:27 |
PaintCorrectionActive | true |
PaintCorrectionAmount | 1.000000 |
PaintCorrectionBrightness | 0.000000 |
PaintCorrectionClarity2012 (4) | 0.000000 |
PaintCorrectionClarity2012 (6) | 0.285710 |
PaintCorrectionClarity2012 | -0.095240 |
PaintCorrectionContrast2012 (1) | 0.333330 |
PaintCorrectionContrast2012 (2) | 0.071430 |
PaintCorrectionContrast2012 (3) | 0.452380 |
PaintCorrectionContrast2012 (4) | 0.428570 |
PaintCorrectionContrast2012 (6) | 0.166670 |
PaintCorrectionContrast2012 | 0.000000 |
PaintCorrectionDefringe | 0.000000 |
PaintCorrectionExposure2012 (1) | -0.262000 |
PaintCorrectionExposure2012 (2) | -0.285750 |
PaintCorrectionExposure2012 (3) | -0.023750 |
PaintCorrectionExposure2012 (5) | -0.119000 |
PaintCorrectionExposure2012 (6) | 0.119000 |
PaintCorrectionExposure2012 (7) | -0.381000 |
PaintCorrectionExposure2012 (8) | 0.000000 |
PaintCorrectionExposure2012 | -0.214250 |
PaintCorrectionHighlights2012 (5) | -0.357140 |
PaintCorrectionHighlights2012 (7) | 0.428570 |
PaintCorrectionHighlights2012 (8) | 0.000000 |
PaintCorrectionHighlights2012 | 0.071430 |
PaintCorrectionHue | 26.747601 |
PaintCorrectionLocalBlacks2012 | 0.000000 |
PaintCorrectionLocalDehaze | 0.000000 |
PaintCorrectionLocalWhites2012 | 0.000000 |
PaintCorrectionLuminanceNoise | 0.000000 |
PaintCorrectionMaskCenterWeight (10) | 0.013708 |
PaintCorrectionMaskCenterWeight | 0.000000 |
PaintCorrectionMaskFlow (12) | 0.701000 |
PaintCorrectionMaskFlow (5) | 1.000000 |
PaintCorrectionMaskFlow | 0.574000 |
PaintCorrectionMaskRadius (1) | 0.149604 |
PaintCorrectionMaskRadius (10) | 0.020945 |
PaintCorrectionMaskRadius (12) | 0.047659 |
PaintCorrectionMaskRadius (14) | 0.049383 |
PaintCorrectionMaskRadius (2) | 0.138589 |
PaintCorrectionMaskRadius (22) | 0.073290 |
PaintCorrectionMaskRadius (4) | 0.117070 |
PaintCorrectionMaskRadius (6) | 0.096235 |
PaintCorrectionMaskRadius | 0.127744 |
PaintCorrectionMaskValue (12) | 0.000000 |
PaintCorrectionMaskValue (4) | 0.477000 |
PaintCorrectionMaskValue | 0.570000 |
PaintCorrectionMaskWhat | Mask/Paint |
PaintCorrectionMoire | 0.000000 |
PaintCorrectionSaturation | 0.000000 |
PaintCorrectionShadows2012 (1) | 0.023810 |
PaintCorrectionShadows2012 (2) | 0.000000 |
PaintCorrectionShadows2012 (3) | -0.714290 |
PaintCorrectionShadows2012 (4) | 0.333330 |
PaintCorrectionShadows2012 (6) | -0.476190 |
PaintCorrectionShadows2012 (7) | 0.357140 |
PaintCorrectionShadows2012 (8) | 0.214290 |
PaintCorrectionShadows2012 | -0.119050 |
PaintCorrectionSharpness | 0.000000 |
PaintCorrectionTemperature | 0.000000 |
PaintCorrectionTint | 0.000000 |
PaintCorrectionWhat | Correction |
ParametricDarks | 0 |
ParametricHighlights | 0 |
ParametricHighlightSplit | 75 |
ParametricLights | 0 |
ParametricMidtoneSplit | 50 |
ParametricShadows | 0 |
ParametricShadowSplit | 25 |
PerspectiveAspect | 0 |
PerspectiveHorizontal | 0 |
PerspectiveRotate | 0.0 |
PerspectiveScale | 100 |
PerspectiveUpright | 0 |
PerspectiveVertical | 0 |
PerspectiveX | 0.00 |
PerspectiveY | 0.00 |
PostCropVignetteAmount | -10 |
PostCropVignetteFeather | 50 |
PostCropVignetteHighlightContrast | 0 |
PostCropVignetteMidpoint | 50 |
PostCropVignetteRoundness | 0 |
PostCropVignetteStyle | 1 |
ProcessVersion | 6.7 |
ProfileDescription | Display P3 |
RecommendedExposureIndex | 400 |
RedHue | 0 |
RedSaturation | 0 |
Saturation (2) | 0 |
Saturation | Normal |
SaturationAdjustmentAqua | 0 |
SaturationAdjustmentBlue | 0 |
SaturationAdjustmentGreen | 0 |
SaturationAdjustmentMagenta | 0 |
SaturationAdjustmentOrange | 0 |
SaturationAdjustmentPurple | 0 |
SaturationAdjustmentRed | 0 |
SaturationAdjustmentYellow | 0 |
ScaleFactor35efl | 1.0 |
SceneCaptureType | Standard |
SceneType | Directly photographed |
SensingMethod | One-chip color area |
SensitivityType | Recommended Exposure Index |
SerialNumber | 6049662 |
Shadows2012 (1) | 10 |
Shadows2012 | 0 |
ShadowTint | 0 |
SharpenDetail | 25 |
SharpenEdgeMasking | 0 |
SharpenRadius (1) | 2.00 |
SharpenRadius | +1.0 |
Sharpness (1) | 40 |
Sharpness (2) | 79 |
Sharpness | Normal |
ShutterSpeed | 1/15 |
ShutterSpeedValue | 1/15 |
Software | Adobe Photoshop Lightroom 6.14 (Windows) |
SplitToningBalance | 0 |
SplitToningHighlightHue | 0 |
SplitToningHighlightSaturation | 0 |
SplitToningShadowHue | 0 |
SplitToningShadowSaturation | 0 |
SubjectDistanceRange | Unknown |
Tint | +10 |
ToneCurve | 0, 0, 255, 255 |
ToneCurveBlue | 0, 0, 255, 255 |
ToneCurveGreen | 0, 0, 255, 255 |
ToneCurveName | Linear |
ToneCurveName2012 | Custom |
ToneCurvePV2012 | 0, 0, 85, 74, 196, 195, 255, 255 |
ToneCurvePV2012Blue | 0, 0, 255, 255 |
ToneCurvePV2012Green | 0, 0, 255, 255 |
ToneCurvePV2012Red | 0, 0, 255, 255 |
ToneCurveRed | 0, 0, 255, 255 |
ToneMapStrength | 0 |
Version | 10.1 |
Vibrance | 0 |
VignetteAmount | 0 |
VignetteCorrectionAlreadyApplied | True |
WhiteBalance (1) | As Shot |
WhiteBalance | Auto |
Whites2012 | 0 |