Felt | Verdi |
AlreadyApplied | True |
Aperture | 9.0 |
ApertureValue | 9.0 |
AutoLateralCA | 0 |
AutoWhiteVersion | 134348800 |
BitsPerSample | 8 |
Blacks2012 | 0 |
BlueHue | 0 |
BlueSaturation | 0 |
CameraProfile | Embedded |
CircGradBasedCorrActive | true |
CircGradBasedCorrAmount | 1.000000 |
CircGradBasedCorrBrightness | 0.000000 |
CircGradBasedCorrClarity2012 | 0.214290 |
CircGradBasedCorrContrast2012 | 0.000000 |
CircGradBasedCorrDefringe | 0.000000 |
CircGradBasedCorrExposure2012 | 0.119000 |
CircGradBasedCorrHighlights2012 | -0.023810 |
CircGradBasedCorrHue | 26.747601 |
CircGradBasedCorrLocalBlacks2012 | 0.000000 |
CircGradBasedCorrLocalDehaze | 0.000000 |
CircGradBasedCorrLocalWhites2012 | 0.000000 |
CircGradBasedCorrLuminanceNoise | 0.000000 |
CircGradBasedCorrMaskAngle | -9.581130 |
CircGradBasedCorrMaskBottom | 1.221400 |
CircGradBasedCorrMaskFeather | +100 |
CircGradBasedCorrMaskFlipped | true |
CircGradBasedCorrMaskLeft | 0.368125 |
CircGradBasedCorrMaskMidpoint | +50 |
CircGradBasedCorrMaskRight | 1.017580 |
CircGradBasedCorrMaskRoundness | 0 |
CircGradBasedCorrMaskTop | 0.560879 |
CircGradBasedCorrMaskValue | 1.000000 |
CircGradBasedCorrMaskVersion | +2 |
CircGradBasedCorrMaskWhat | Mask/CircularGradient |
CircGradBasedCorrMoire | 0.000000 |
CircGradBasedCorrSaturation | 0.000000 |
CircGradBasedCorrShadows2012 | 0.500000 |
CircGradBasedCorrSharpness | 0.000000 |
CircGradBasedCorrTemperature | 0.452380 |
CircGradBasedCorrTint | 0.000000 |
CircGradBasedCorrWhat | Correction |
CircleOfConfusion | 0.030 mm |
Clarity2012 | 0 |
ColorComponents | 3 |
ColorNoiseReduction | 0 |
ColorSpace | Uncalibrated |
ColorTransform | YCbCr |
Contrast | Normal |
Contrast2012 | +10 |
ConvertToGrayscale | False |
CreateDate | 2021:10:02 14:06:12 |
CreatorTool | Adobe Photoshop Lightroom 6.14 (Windows) |
CropAngle | 0 |
CropBottom | 0.885496 |
CropConstrainToWarp | 0 |
CropLeft | 0.137405 |
CropRight | 1 |
CropTop | 0.022901 |
DateCreated (1) | 2021:10:02 |
DateCreated | 2021:10:02 14:06:12.058 |
DateTimeOriginal | 2021:10:02 14:06:12 |
DefringeGreenAmount | 0 |
DefringeGreenHueHi | 60 |
DefringeGreenHueLo | 40 |
DefringePurpleAmount | 0 |
DefringePurpleHueHi | 70 |
DefringePurpleHueLo | 30 |
Dehaze | 0 |
DistortionCorrectionAlreadyApplied | True |
Exposure2012 | 0.00 |
ExposureCompensation | 0 |
ExposureMode | Auto |
ExposureProgram | Aperture-priority AE |
ExposureTime | 1/125 |
Flash | No Flash |
FNumber | 9.0 |
FocalLength | 29.0 mm |
FocalLength35efl | 29.0 mm (35 mm equivalent: 29.0 mm) |
FocalLengthIn35mmFormat | 29 mm |
Format | image/jpeg |
FOV | 63.7 deg |
GainControl | None |
GradientBasedCorrActive | true |
GradientBasedCorrAmount | 1.000000 |
GradientBasedCorrBrightness | 0.000000 |
GradientBasedCorrClarity2012 | 0.119050 |
GradientBasedCorrContrast2012 | 0.000000 |
GradientBasedCorrDefringe | 0.000000 |
GradientBasedCorrExposure2012 (1) | -0.095250 |
GradientBasedCorrExposure2012 | -0.238000 |
GradientBasedCorrHighlights2012 | 0.000000 |
GradientBasedCorrHue | 26.747601 |
GradientBasedCorrLocalBlacks2012 | 0.000000 |
GradientBasedCorrLocalDehaze | 0.000000 |
GradientBasedCorrLocalWhites2012 | 0.000000 |
GradientBasedCorrLuminanceNoise | 0.000000 |
GradientBasedCorrMaskFullX (1) | 0.513883 |
GradientBasedCorrMaskFullX | 0.711393 |
GradientBasedCorrMaskFullY (1) | 0.642841 |
GradientBasedCorrMaskFullY | 0.854056 |
GradientBasedCorrMaskValue | 1.000000 |
GradientBasedCorrMaskWhat | Mask/Gradient |
GradientBasedCorrMaskZeroX (1) | 0.515825 |
GradientBasedCorrMaskZeroX | 0.689627 |
GradientBasedCorrMaskZeroY (1) | 0.475857 |
GradientBasedCorrMaskZeroY | 0.775052 |
GradientBasedCorrMoire | 0.000000 |
GradientBasedCorrSaturation (1) | 0.142860 |
GradientBasedCorrSaturation | 0.000000 |
GradientBasedCorrShadows2012 (1) | 0.166670 |
GradientBasedCorrShadows2012 | -0.071430 |
GradientBasedCorrSharpness | 0.000000 |
GradientBasedCorrTemperature (1) | 0.095240 |
GradientBasedCorrTemperature | 0.000000 |
GradientBasedCorrTint (1) | 0.166670 |
GradientBasedCorrTint | 0.000000 |
GradientBasedCorrWhat | Correction |
GrainAmount | 0 |
GreenHue | 0 |
GreenSaturation | 0 |
HasCrop | True |
HasSettings | True |
Highlights2012 | 0 |
HueAdjustmentAqua | 0 |
HueAdjustmentBlue | 0 |
HueAdjustmentGreen | 0 |
HueAdjustmentMagenta | 0 |
HueAdjustmentOrange | 0 |
HueAdjustmentPurple | 0 |
HueAdjustmentRed | 0 |
HueAdjustmentYellow | 0 |
HyperfocalDistance | 3.11 m |
ImageHeight | 4000 |
ImageNumber | 5740 |
ImageSize | 4000x4000 |
ImageWidth | 4000 |
IncrementalTemperature | 0 |
IncrementalTint | 0 |
ISO | 100 |
LateralChromaticAberrationCorrectionAlreadyApplied | True |
Lens | NIKKOR Z 24-70mm f/4 S |
LensInfo | 24-70mm f/4 |
LensManualDistortionAmount | 0 |
LensModel | NIKKOR Z 24-70mm f/4 S |
LensProfileEnable | 0 |
LensProfileSetup | LensDefaults |
LensSerialNumber | 20148614 |
LightSource | Unknown |
LightValue | 13.3 |
LuminanceAdjustmentAqua | 0 |
LuminanceAdjustmentBlue | 0 |
LuminanceAdjustmentGreen | 0 |
LuminanceAdjustmentMagenta | 0 |
LuminanceAdjustmentOrange | +9 |
LuminanceAdjustmentPurple | 0 |
LuminanceAdjustmentRed | 0 |
LuminanceAdjustmentYellow | +27 |
LuminanceSmoothing | 0 |
Make | NIKON CORPORATION |
Megapixels | 16.0 |
MeteringMode | Multi-segment |
Model | NIKON Z 6 |
ModifyDate (1) | 2021:10:05 10:18:35+02:00 |
ModifyDate | 2021:10:05 10:18:35 |
PaintCorrectionActive | true |
PaintCorrectionAmount | 1.000000 |
PaintCorrectionBrightness | 0.000000 |
PaintCorrectionClarity2012 (1) | 0.142860 |
PaintCorrectionClarity2012 (2) | 0.190480 |
PaintCorrectionClarity2012 (3) | 0.071430 |
PaintCorrectionClarity2012 | 0.119050 |
PaintCorrectionContrast2012 (1) | 0.261900 |
PaintCorrectionContrast2012 (2) | 0.000000 |
PaintCorrectionContrast2012 | 0.047620 |
PaintCorrectionDefringe | 0.000000 |
PaintCorrectionExposure2012 (1) | -0.214250 |
PaintCorrectionExposure2012 (2) | -0.095250 |
PaintCorrectionExposure2012 (3) | -0.238000 |
PaintCorrectionExposure2012 | 0.190500 |
PaintCorrectionHighlights2012 | 0.000000 |
PaintCorrectionHue | 26.747601 |
PaintCorrectionLocalBlacks2012 | 0.000000 |
PaintCorrectionLocalDehaze | 0.000000 |
PaintCorrectionLocalWhites2012 | 0.000000 |
PaintCorrectionLuminanceNoise | 0.000000 |
PaintCorrectionMaskCenterWeight | 0.000000 |
PaintCorrectionMaskFlow | 0.747000 |
PaintCorrectionMaskRadius (1) | 0.129206 |
PaintCorrectionMaskRadius (2) | 0.204437 |
PaintCorrectionMaskRadius (3) | 0.109144 |
PaintCorrectionMaskRadius (5) | 0.139476 |
PaintCorrectionMaskRadius | 0.080246 |
PaintCorrectionMaskValue | 0.733000 |
PaintCorrectionMaskWhat | Mask/Paint |
PaintCorrectionMoire | 0.000000 |
PaintCorrectionSaturation (3) | 0.214290 |
PaintCorrectionSaturation | 0.000000 |
PaintCorrectionShadows2012 (1) | -0.023810 |
PaintCorrectionShadows2012 | -0.071430 |
PaintCorrectionSharpness | 0.000000 |
PaintCorrectionTemperature (1) | 0.000000 |
PaintCorrectionTemperature (2) | 0.166670 |
PaintCorrectionTemperature (3) | 0.071430 |
PaintCorrectionTemperature | 0.238100 |
PaintCorrectionTint (2) | 0.023810 |
PaintCorrectionTint | 0.000000 |
PaintCorrectionWhat | Correction |
ParametricDarks | 0 |
ParametricHighlights | 0 |
ParametricHighlightSplit | 75 |
ParametricLights | 0 |
ParametricMidtoneSplit | 50 |
ParametricShadows | 0 |
ParametricShadowSplit | 25 |
PerspectiveAspect | 0 |
PerspectiveHorizontal | 0 |
PerspectiveRotate | 0.0 |
PerspectiveScale | 100 |
PerspectiveUpright | 0 |
PerspectiveVertical | 0 |
PerspectiveX | 0.00 |
PerspectiveY | 0.00 |
PhotographicSensitivity | 100 |
PostCropVignetteAmount | 0 |
ProcessVersion | 6.7 |
ProfileDescription | Display P3 |
RedHue | 0 |
RedSaturation | 0 |
Saturation (1) | 0 |
Saturation | Normal |
SaturationAdjustmentAqua | 0 |
SaturationAdjustmentBlue | 0 |
SaturationAdjustmentGreen | 0 |
SaturationAdjustmentMagenta | 0 |
SaturationAdjustmentOrange | +4 |
SaturationAdjustmentPurple | 0 |
SaturationAdjustmentRed | 0 |
SaturationAdjustmentYellow | 0 |
ScaleFactor35efl | 1.0 |
SceneCaptureType | Standard |
SceneType | Directly photographed |
SensingMethod | One-chip color area |
SerialNumber | 6049662 |
Shadows2012 | 0 |
ShadowTint | 0 |
SharpenDetail | 25 |
SharpenEdgeMasking | 24 |
SharpenRadius | +1.0 |
Sharpness (1) | 52 |
Sharpness | Normal |
ShutterSpeed | 1/125 |
ShutterSpeedValue | 1/125 |
Software | Adobe Photoshop Lightroom 6.14 (Windows) |
SplitToningBalance | 0 |
SplitToningHighlightHue | 0 |
SplitToningHighlightSaturation | 0 |
SplitToningShadowHue | 0 |
SplitToningShadowSaturation | 0 |
SubjectDistanceRange | Unknown |
ToneCurve | 0, 0, 255, 255 |
ToneCurveBlue | 0, 0, 255, 255 |
ToneCurveGreen | 0, 0, 255, 255 |
ToneCurveName | Linear |
ToneCurveName2012 | Custom |
ToneCurvePV2012 | 6, 12, 39, 53, 105, 117, 226, 219, 255, 255 |
ToneCurvePV2012Blue | 0, 0, 255, 255 |
ToneCurvePV2012Green | 0, 0, 255, 255 |
ToneCurvePV2012Red | 0, 0, 255, 255 |
ToneCurveRed | 0, 0, 255, 255 |
ToneMapStrength | 0 |
Version | 10.1 |
Vibrance | +19 |
VignetteAmount | 0 |
VignetteCorrectionAlreadyApplied | True |
WhiteBalance (1) | As Shot |
WhiteBalance | Auto |
Whites2012 | 0 |