Felt | Verdi |
AlreadyApplied | True |
Aperture | 2.8 |
ApertureValue | 2.8 |
AutoLateralCA | 0 |
AutoWhiteVersion | 134348800 |
BitsPerSample | 8 |
Blacks2012 | -11 |
BlueHue | 0 |
BlueSaturation | 0 |
BrightnessValue | 9.008886914 |
CameraProfile | Embedded |
CircleOfConfusion | 0.004 mm |
Clarity2012 | 0 |
ColorComponents | 3 |
ColorGradeBlending | 50 |
ColorGradeGlobalHue | 0 |
ColorGradeGlobalLum | 0 |
ColorGradeGlobalSat | 0 |
ColorGradeHighlightLum | 0 |
ColorGradeMidtoneHue | 0 |
ColorGradeMidtoneLum | 0 |
ColorGradeMidtoneSat | 0 |
ColorGradeShadowLum | 0 |
ColorNoiseReduction | 0 |
ColorSpace | Uncalibrated |
ColorTransform | YCbCr |
Contrast2012 | +6 |
ConvertToGrayscale | False |
CreateDate (1) | 2022:09:15 13:15:07.160-04:00 |
CreateDate | 2022:09:15 13:15:07 |
CreatorTool | Adobe Photoshop Camera Raw 14.5 (Macintosh) |
CropAngle | 0 |
CropBottom | 1 |
CropConstrainToWarp | 0 |
CropLeft | 0 |
CropRight | 1 |
CropTop | 0 |
DateCreated (1) | 2022:09:15 |
DateCreated | 2022:09:15 13:15:07.160-04:00 |
DateTimeOriginal | 2022:09:15 13:15:07 |
DefringeGreenAmount | 0 |
DefringeGreenHueHi | 60 |
DefringeGreenHueLo | 40 |
DefringePurpleAmount | 0 |
DefringePurpleHueHi | 70 |
DefringePurpleHueLo | 30 |
Dehaze | 0 |
Exposure2012 | -0.03 |
ExposureCompensation | 0 |
ExposureMode | Auto |
ExposureProgram | Program AE |
ExposureTime | 1/690 |
Flash | Off, Did not fire |
FNumber | 2.8 |
FocalLength | 9.0 mm |
FocalLength35efl | 9.0 mm (35 mm equivalent: 77.0 mm) |
FocalLengthIn35mmFormat | 77 mm |
Format | image/jpeg |
FOV | 26.3 deg |
GPSAltitude (1) | 51.54909893 m |
GPSAltitude | 51.5 m Above Sea Level |
GPSAltitudeRef | Above Sea Level |
GPSDestBearing | 257.3526612 |
GPSDestBearingRef | Magnetic North |
GPSHPositioningError | 25.96469401 m |
GPSImgDirection | 257.3526612 |
GPSImgDirectionRef | Magnetic North |
GPSLatitude (1) | 42 deg 21' 31.85" |
GPSLatitude | 42 deg 21' 31.85" N |
GPSLatitudeRef | North |
GPSLongitude (1) | 71 deg 3' 24.65" |
GPSLongitude | 71 deg 3' 24.65" W |
GPSLongitudeRef | West |
GPSPosition | 42 deg 21' 31.85" N, 71 deg 3' 24.65" W |
GPSSpeed | 0 |
GPSSpeedRef | km/h |
GrainAmount | 0 |
GreenHue | 0 |
GreenSaturation | 0 |
HasCrop | False |
HasSettings | True |
Highlights2012 | -6 |
HueAdjustmentAqua | 0 |
HueAdjustmentBlue | 0 |
HueAdjustmentGreen | 0 |
HueAdjustmentMagenta | 0 |
HueAdjustmentOrange | 0 |
HueAdjustmentPurple | 0 |
HueAdjustmentRed | 0 |
HueAdjustmentYellow | 0 |
HyperfocalDistance | 8.24 m |
ImageHeight | 2048 |
ImageSize | 1536x2048 |
ImageWidth | 1536 |
IncrementalTemperature | +11 |
IncrementalTint | -11 |
ISO | 32 |
Lens | iPhone 13 Pro Max back triple camera 9mm f/2.8 |
LensInfo (1) | 1.57000005246397-9mm f/1.5-2.8 |
LensInfo | 1.570000052-9mm f/1.5-2.8 |
LensMake | Apple |
LensManualDistortionAmount | 0 |
LensModel | iPhone 13 Pro Max back triple camera 9mm f/2.8 |
LensProfileEnable | 0 |
LightValue | 14.0 |
LuminanceAdjustmentAqua | 0 |
LuminanceAdjustmentBlue | 0 |
LuminanceAdjustmentGreen | 0 |
LuminanceAdjustmentMagenta | 0 |
LuminanceAdjustmentOrange | 0 |
LuminanceAdjustmentPurple | 0 |
LuminanceAdjustmentRed | 0 |
LuminanceAdjustmentYellow | 0 |
LuminanceSmoothing | 0 |
Make | Apple |
Megapixels | 3.1 |
MeteringMode | Multi-segment |
Model | iPhone 13 Pro Max |
ModifyDate (1) | 2022:09:16 21:02:21+02:00 |
ModifyDate | 2022:09:16 21:02:21 |
OverrideLookVignette | False |
ParametricDarks | 0 |
ParametricHighlights | 0 |
ParametricHighlightSplit | 75 |
ParametricLights | 0 |
ParametricMidtoneSplit | 50 |
ParametricShadows | 0 |
ParametricShadowSplit | 25 |
PerspectiveAspect | 0 |
PerspectiveHorizontal | 0 |
PerspectiveRotate | 0.0 |
PerspectiveScale | 100 |
PerspectiveUpright | 0 |
PerspectiveVertical | 0 |
PerspectiveX | 0.00 |
PerspectiveY | 0.00 |
PostCropVignetteAmount | 0 |
ProcessVersion | 11.0 |
ProfileDescription | Adobe RGB (1998) |
RawFileName | D5B01713-23AE-44C5-B14A-B477229AF371_1_102_a.jpeg |
RedHue | 0 |
RedSaturation | 0 |
Saturation | +1 |
SaturationAdjustmentAqua | 0 |
SaturationAdjustmentBlue | 0 |
SaturationAdjustmentGreen | 0 |
SaturationAdjustmentMagenta | 0 |
SaturationAdjustmentOrange | 0 |
SaturationAdjustmentPurple | 0 |
SaturationAdjustmentRed | 0 |
SaturationAdjustmentYellow | 0 |
ScaleFactor35efl | 8.6 |
SceneCaptureType | Standard |
SceneType | Directly photographed |
SensingMethod | One-chip color area |
Shadows2012 | +59 |
ShadowTint | 0 |
Sharpness | 0 |
ShutterSpeed | 1/690 |
ShutterSpeedValue | 1/690 |
Software | Adobe Photoshop Camera Raw 14.5 (Macintosh) |
SplitToningBalance | 0 |
SplitToningHighlightHue | 0 |
SplitToningHighlightSaturation | 0 |
SplitToningShadowHue | 0 |
SplitToningShadowSaturation | 0 |
SubjectArea | 2013 1500 2310 1327 |
Texture | 0 |
ToneCurveName2012 | Linear |
ToneCurvePV2012 | 0, 0, 255, 255 |
ToneCurvePV2012Blue | 0, 0, 255, 255 |
ToneCurvePV2012Green | 0, 0, 255, 255 |
ToneCurvePV2012Red | 0, 0, 255, 255 |
Version | 14.5 |
Vibrance | +11 |
VignetteAmount | 0 |
WhiteBalance | Auto |
Whites2012 | +1 |