Felt | Verdi |
AlreadyApplied | True |
Aperture | 7.1 |
ApertureValue | 7.1 |
Artist | Trym Kristiansen |
AutoLateralCA | 0 |
BitsPerSample | 8 |
Blacks2012 | -24 |
BlueHue | 0 |
BlueSaturation | 0 |
BrightnessValue | 8.071875 |
By-line | Trym Kristiansen |
CameraProfile | Adobe Standard |
CircleOfConfusion | 0.030 mm |
Clarity2012 | +15 |
ColorComponents | 3 |
ColorGradeBlending | 80 |
ColorGradeGlobalHue | 0 |
ColorGradeGlobalLum | 0 |
ColorGradeGlobalSat | 0 |
ColorGradeHighlightLum | +19 |
ColorGradeMidtoneHue | 336 |
ColorGradeMidtoneLum | +22 |
ColorGradeMidtoneSat | 6 |
ColorGradeShadowLum | -45 |
ColorNoiseReduction | 25 |
ColorNoiseReductionDetail | 50 |
ColorNoiseReductionSmoothness | 50 |
ColorSpace | sRGB |
ColorTemperature | 5250 |
ColorTransform | YCbCr |
Contrast | Normal |
Contrast2012 | +5 |
Copyright | Trym Kristiansen |
CopyrightNotice | Trym Kristiansen |
CreateDate (1) | 2022:10:11 17:11:45.869+01:00 |
CreateDate | 2022:10:11 17:11:45 |
Creator | Trym Kristiansen |
CreatorTool | Adobe Photoshop Lightroom Classic 11.5 (Windows) |
CropAngle | 0 |
CropBottom | 1 |
CropConstrainToWarp | 0 |
CropLeft | 0.157979 |
CropRight | 0.824646 |
CropTop | 0 |
CustomRendered | Normal |
DateCreated (1) | 2022:10:11 |
DateCreated | 2022:10:11 17:11:45.869+01:00 |
DateTimeOriginal | 2022:10:11 17:11:45 |
DefringeGreenAmount | 0 |
DefringeGreenHueHi | 60 |
DefringeGreenHueLo | 40 |
DefringePurpleAmount | 0 |
DefringePurpleHueHi | 70 |
DefringePurpleHueLo | 30 |
Dehaze | 0 |
DigitalZoomRatio | 1 |
DistortionCorrectionAlreadyApplied | True |
Exposure2012 | -0.41 |
ExposureCompensation | 0 |
ExposureMode | Manual |
ExposureProgram | Manual |
ExposureTime | 1/500 |
Flash | Off, Did not fire |
FNumber | 7.1 |
FocalLength | 14.0 mm |
FocalLength35efl | 14.0 mm (35 mm equivalent: 14.0 mm) |
FocalLengthIn35mmFormat | 14 mm |
Format | image/jpeg |
FOV | 104.3 deg |
GrainAmount | 0 |
GreenHue | 0 |
GreenSaturation | 0 |
HasCrop | True |
HasSettings | True |
Highlights2012 | -78 |
HueAdjustmentAqua | +10 |
HueAdjustmentBlue | -25 |
HueAdjustmentGreen | -75 |
HueAdjustmentMagenta | -20 |
HueAdjustmentOrange | -5 |
HueAdjustmentPurple | -70 |
HueAdjustmentRed | +5 |
HueAdjustmentYellow | -5 |
HyperfocalDistance | 0.92 m |
ImageHeight | 4672 |
ImageSize | 4672x4672 |
ImageWidth | 4672 |
ISO | 800 |
LateralChromaticAberrationCorrectionAlreadyApplied | True |
Lens | SAMYANG AF 14mm F2.8 |
LensDistortInfo | 33284/32768 -43863217/1073741824 -57196230/1073741824 66532980/1073741824 |
LensInfo | 14mm f/2.8 |
LensManualDistortionAmount | 0 |
LensModel | SAMYANG AF 14mm F2.8 |
LensProfileDistortionScale | 100 |
LensProfileEnable | 1 |
LensProfileFilename | SONY FE (Rokinon_Samyang AF 14mm F2.8 FE) - RAW.lcp |
LensProfileIsEmbedded | False |
LensProfileName | Adobe (Rokinon/Samyang AF 14mm F2.8 FE) |
LensProfileSetup | LensDefaults |
LensProfileVignettingScale | 100 |
LightSource | Unknown |
LightValue | 11.6 |
LookAmount | 1 |
LookGroup | Profiles |
LookName | Adobe Color |
LookParametersCameraProfile | Adobe Standard |
LookParametersConvertToGrayscale | False |
LookParametersLookTable | E1095149FDB39D7A057BAB208837E2E1 |
LookParametersProcessVersion | 11.0 |
LookParametersToneCurvePV2012 | 0, 0, 22, 16, 40, 35, 127, 127, 224, 230, 240, 246, 255, 255 |
LookParametersToneCurvePV2012Blue | 0, 0, 255, 255 |
LookParametersToneCurvePV2012Green | 0, 0, 255, 255 |
LookParametersToneCurvePV2012Red | 0, 0, 255, 255 |
LookParametersVersion | 14.5 |
LookSupportsAmount | false |
LookSupportsMonochrome | false |
LookSupportsOutputReferred | false |
LuminanceAdjustmentAqua | -35 |
LuminanceAdjustmentBlue | -10 |
LuminanceAdjustmentGreen | +5 |
LuminanceAdjustmentMagenta | +20 |
LuminanceAdjustmentOrange | -10 |
LuminanceAdjustmentPurple | +14 |
LuminanceAdjustmentRed | -10 |
LuminanceAdjustmentYellow | +5 |
LuminanceSmoothing | 0 |
Make | SONY |
MaxApertureValue | 2.8 |
Megapixels | 21.8 |
MeteringMode | Multi-segment |
Model | ILCE-7M4 |
ModifyDate (1) | 2022:10:13 20:19:30+02:00 |
ModifyDate | 2022:10:13 20:19:30 |
OverrideLookVignette | False |
ParametricDarks | 0 |
ParametricHighlights | 0 |
ParametricHighlightSplit | 75 |
ParametricLights | 0 |
ParametricMidtoneSplit | 50 |
ParametricShadows | 0 |
ParametricShadowSplit | 25 |
PerspectiveAspect | 0 |
PerspectiveHorizontal | 0 |
PerspectiveRotate | 0.0 |
PerspectiveScale | 100 |
PerspectiveUpright | 0 |
PerspectiveVertical | 0 |
PerspectiveX | 0.00 |
PerspectiveY | 0.00 |
PostCropVignetteAmount | 0 |
PreservedFileName | _DSC5270.ARW |
ProcessVersion | 11.0 |
ProfileDescription | sRGB IEC61966-2.1 |
RawFileName | _DSC5270.ARW |
RecommendedExposureIndex | 800 |
RedHue | 0 |
RedSaturation | 0 |
Rights | Trym Kristiansen |
Saturation (1) | 0 |
Saturation | Normal |
SaturationAdjustmentAqua | +35 |
SaturationAdjustmentBlue | +10 |
SaturationAdjustmentGreen | -15 |
SaturationAdjustmentMagenta | -10 |
SaturationAdjustmentOrange | +15 |
SaturationAdjustmentPurple | -15 |
SaturationAdjustmentRed | -10 |
SaturationAdjustmentYellow | +5 |
ScaleFactor35efl | 1.0 |
SceneCaptureType | Standard |
SceneType | Directly photographed |
SensitivityType | Recommended Exposure Index |
Shadows2012 | +55 |
ShadowTint | 0 |
SharpenDetail | 25 |
SharpenEdgeMasking | 0 |
SharpenRadius | +1.0 |
Sharpness (1) | 40 |
Sharpness | Normal |
ShutterSpeed | 1/500 |
ShutterSpeedValue | 1/500 |
Software | Adobe Photoshop Lightroom Classic 11.5 (Windows) |
SplitToningBalance | -30 |
SplitToningHighlightHue | 197 |
SplitToningHighlightSaturation | 11 |
SplitToningShadowHue | 27 |
SplitToningShadowSaturation | 2 |
Texture | +10 |
Tint | +13 |
ToneCurveName2012 | Custom |
ToneCurvePV2012 | 0, 0, 71, 56, 115, 120, 188, 194, 255, 255 |
ToneCurvePV2012Blue | 0, 0, 67, 55, 133, 127, 255, 255 |
ToneCurvePV2012Green | 0, 0, 61, 61, 123, 121, 187, 186, 255, 255 |
ToneCurvePV2012Red | 0, 0, 70, 72, 192, 192, 255, 255 |
Version | 14.5 |
Vibrance | +12 |
VignetteAmount | 0 |
VignetteCorrectionAlreadyApplied | True |
WhiteBalance (1) | As Shot |
WhiteBalance | Auto |
Whites2012 | -11 |