Felt | Verdi |
2023-02-24T12:19:23+01:00 File 2023_Life.psd saved
2023-02-24T12:32:50+01:00 File 2023_Life.psd saved
2023-02-24T15:19:39+01:00 File 2023_Life.psd opened
2023-02-24T15:24:36+01:00 File 2023_Life-4983.psd saved
AlreadyApplied | True |
Aperture | 9.0 |
ApertureValue | 9.0 |
ApproximateFocusDistance | 4294967295 |
Artist | Igor Kostin |
AutoLateralCA | 0 |
BitsPerSample | 8 |
Blacks2012 | +24 |
BlueHue | 0 |
BlueSaturation | 0 |
By-line | Igor Kostin |
CameraProfile | Embedded |
CircleOfConfusion | 0.009 mm |
Clarity2012 | +4 |
ColorComponents | 3 |
ColorGradeBlending | 50 |
ColorGradeGlobalHue | 0 |
ColorGradeGlobalLum | 0 |
ColorGradeGlobalSat | 0 |
ColorGradeHighlightLum | 0 |
ColorGradeMidtoneHue | 123 |
ColorGradeMidtoneLum | 0 |
ColorGradeMidtoneSat | 1 |
ColorGradeShadowLum | 0 |
ColorNoiseReduction | 0 |
ColorSpace | Uncalibrated |
ColorTransform | YCbCr |
Contrast2012 | 0 |
ConvertToGrayscale | False |
Copyright | All rights reserved |
CopyrightFlag | True |
CopyrightNotice | All rights reserved |
CreateDate (1) | 2023:01:27 21:01:39.55Z |
CreateDate | 2023:01:27 21:01:39 |
Creator | Igor Kostin |
CreatorCity | Bodø |
CreatorCountry | Norway |
CreatorTool | Adobe Photoshop Lightroom Classic 12.2 (Macintosh) |
CropAngle | 0 |
CropBottom | 1 |
CropConstrainToWarp | 0 |
CropLeft | 0 |
CropRight | 1 |
CropTop | 0 |
CustomRendered | Normal |
DateCreated (1) | 2023:01:27 |
DateCreated | 2023:01:27 21:01:39.055 |
DateTimeOriginal | 2023:01:27 21:01:39 |
DefringeGreenAmount | 0 |
DefringeGreenHueHi | 60 |
DefringeGreenHueLo | 40 |
DefringePurpleAmount | 0 |
DefringePurpleHueHi | 70 |
DefringePurpleHueLo | 30 |
Dehaze | 0 |
DistortionCorrectionAlreadyApplied | True |
DOF | inf (14.90 m - inf) |
Exposure2012 | 0.00 |
ExposureCompensation | 0 |
ExposureMode | Manual |
ExposureProgram | Manual |
ExposureTime | 1/125 |
Firmware | 1.7.0 |
Flash | No Flash |
FlashCompensation | 0 |
FNumber | 9.0 |
FocalLength | 35.0 mm |
FocalLength35efl | 35.0 mm (35 mm equivalent: 115.1 mm) |
Format | image/jpeg |
FOV | 17.8 deg |
GrainAmount | 0 |
GrayMixerBlue | +73 |
GrayMixerGreen | +79 |
GrayMixerMagenta | +22 |
GrayMixerOrange | +27 |
GrayMixerPurple | +9 |
GrayMixerRed | +46 |
GrayMixerYellow | +71 |
GreenHue | 0 |
GreenSaturation | 0 |
HasCrop | False |
HasSettings | True |
Highlights2012 | 0 |
HueAdjustmentAqua | +15 |
HueAdjustmentBlue | -18 |
HueAdjustmentGreen | +19 |
HueAdjustmentMagenta | -7 |
HueAdjustmentOrange | -6 |
HueAdjustmentPurple | -8 |
HueAdjustmentRed | +3 |
HueAdjustmentYellow | -26 |
HyperfocalDistance | 14.90 m |
ImageHeight | 1355 |
ImageNumber | 0 |
ImageSize | 2048x1355 |
ImageWidth | 2048 |
IncrementalTemperature | 0 |
IncrementalTint | 0 |
ISO | 100 |
Keywords | 2022, @igorkostin74, Bodø, Canon, CanonEOSR, Digital, Landscape, Natur, Nordland, Norge, Norway, Sørfold, exposure, travel |
LateralChromaticAberrationCorrectionAlreadyApplied | True |
Lens | RF35mm F1.8 MACRO IS STM |
LensID (1) | 61182 |
LensID | Canon RF 35mm F1.8 Macro IS STM |
LensInfo | 35mm f/? |
LensManualDistortionAmount | 0 |
LensModel | RF35mm F1.8 MACRO IS STM |
LensProfileEnable | 0 |
LensSerialNumber | 0000000000 |
LightValue | 13.3 |
LuminanceAdjustmentAqua | -7 |
LuminanceAdjustmentBlue | +11 |
LuminanceAdjustmentGreen | -17 |
LuminanceAdjustmentMagenta | +2 |
LuminanceAdjustmentOrange | 0 |
LuminanceAdjustmentPurple | +5 |
LuminanceAdjustmentRed | +14 |
LuminanceAdjustmentYellow | 0 |
LuminanceSmoothing | 0 |
Make | Canon |
Marked | True |
MaxApertureValue | 1.8 |
Megapixels | 2.8 |
MeteringMode | Multi-segment |
Model | Canon EOS R |
ModifyDate (1) | 2023:02:24 15:29:20+01:00 |
ModifyDate | 2023:02:24 15:29:20 |
OverrideLookVignette | False |
ParametricDarks | 0 |
ParametricHighlights | 0 |
ParametricHighlightSplit | 75 |
ParametricLights | 0 |
ParametricMidtoneSplit | 50 |
ParametricShadows | 0 |
ParametricShadowSplit | 25 |
PerspectiveAspect | 0 |
PerspectiveHorizontal | 0 |
PerspectiveRotate | 0.0 |
PerspectiveScale | 100 |
PerspectiveUpright | 0 |
PerspectiveVertical | 0 |
PerspectiveX | 0.00 |
PerspectiveY | 0.00 |
PostCropVignetteAmount | 0 |
PreservedFileName | _Q3A9346.CR3 |
ProcessVersion | 11.0 |
ProfileDescription | Display P3 |
Rating | 5 |
RawFileName | 2023_Life-4983.psd |
RecommendedExposureIndex | 100 |
RedHue | 0 |
RedSaturation | 0 |
Rights | All rights reserved |
Saturation | +1 |
SaturationAdjustmentAqua | +4 |
SaturationAdjustmentBlue | +1 |
SaturationAdjustmentGreen | +6 |
SaturationAdjustmentMagenta | +4 |
SaturationAdjustmentOrange | -15 |
SaturationAdjustmentPurple | +3 |
SaturationAdjustmentRed | 0 |
SaturationAdjustmentYellow | +7 |
ScaleFactor35efl | 3.3 |
SceneCaptureType | Standard |
SensitivityType | Recommended Exposure Index |
SerialNumber | 032021005303 |
Shadows2012 | 0 |
ShadowTint | 0 |
Sharpness | 0 |
ShutterSpeed | 1/125 |
ShutterSpeedValue | 1/125 |
Software | Adobe Photoshop Lightroom Classic 12.2 (Macintosh) |
SplitToningBalance | 0 |
SplitToningHighlightHue | 172 |
SplitToningHighlightSaturation | 13 |
SplitToningShadowHue | 13 |
SplitToningShadowSaturation | 41 |
Subject | 2022, @igorkostin74, Bodø, Canon, CanonEOSR, Digital, Landscape, Natur, Nordland, Norge, Norway, Sørfold, exposure, travel |
Texture | -31 |
ToneCurveName2012 | Custom |
ToneCurvePV2012 | 0, 0, 71, 71, 197, 201, 255, 255 |
ToneCurvePV2012Blue | 0, 0, 233, 220 |
ToneCurvePV2012Green | 0, 0, 129, 128, 240, 255 |
ToneCurvePV2012Red | 0, 0, 61, 60, 192, 193, 255, 255 |
UsageTerms | Please contact |
Version | 15.2 |
Vibrance | -21 |
VignetteAmount | 0 |
VignetteCorrectionAlreadyApplied | True |
WeightedFlatSubject | 2022, @igorkostin74, Bodø, Canon, CanonEOSR, Digital, Landscape, Natur, Nordland, Norge, Norway, Sørfold, exposure, travel |
WhiteBalance (1) | As Shot |
WhiteBalance | Auto |
Whites2012 | -8 |