Felt | Verdi |
2023-02-06T17:14:24+01:00 File 20230125_GranCa-021-4948.psd saved
2023-02-06T17:15:27+01:00 File 20230125_GranCa-021-4948.psd saved
2023-02-06T17:23:44+01:00 File 20230125_GranCa-021-4948.psd saved
2023-04-14T01:20:04+02:00 File 20230125_GranCa-021-4948.psd opened
2023-04-14T01:31:12+02:00 File 20230125_GranCa-021-4948.psd saved
2023-04-21T16:48:53+02:00 File 20230125_GranCa-021-4948.psd opened
2023-04-21T17:07:21+02:00 File 20230125_GranCa-021-4948.psd saved
2023-04-21T17:08:44+02:00 File 20230125_GranCa-021-4948.psd saved
2023-04-21T17:19:37+02:00 File 20230125_GranCa-021-4948.psd saved
2023-04-23T08:53:45+02:00 File 20230125_GranCa-021-4948.psd opened
2023-04-23T08:57:32+02:00 File 20230125_GranCa-021-4948.psd saved
AlreadyApplied | True |
Aperture | 9.0 |
ApertureValue | 9.0 |
ApproximateFocusDistance | 4294967295 |
Artist | Igor Kostin |
AutoLateralCA | 0 |
BitsPerSample | 8 |
Blacks2012 | -18 |
BlueHue | 0 |
BlueSaturation | 0 |
By-line | Igor Kostin |
CameraProfile | Embedded |
CircleOfConfusion | 0.009 mm |
Clarity2012 | +3 |
ColorComponents | 3 |
ColorGradeBlending | 56 |
ColorGradeGlobalHue | 0 |
ColorGradeGlobalLum | 0 |
ColorGradeGlobalSat | 0 |
ColorGradeHighlightLum | -22 |
ColorGradeMidtoneHue | 0 |
ColorGradeMidtoneLum | -53 |
ColorGradeMidtoneSat | 0 |
ColorGradeShadowLum | +33 |
ColorNoiseReduction | 25 |
ColorNoiseReductionDetail | 50 |
ColorNoiseReductionSmoothness | 50 |
ColorSpace | Uncalibrated |
ColorTransform | YCbCr |
Contrast2012 | +7 |
ConvertToGrayscale | False |
Copyright | All rights reserved |
CopyrightFlag | True |
CopyrightNotice | All rights reserved |
CreateDate | 2023:01:26 23:42:28 |
Creator | Igor Kostin |
CreatorCity | Bodø |
CreatorCountry | Norway |
CreatorTool | Adobe Photoshop Lightroom Classic 12.3 (Macintosh) |
CropAngle | 0 |
CropBottom | 1 |
CropConstrainToWarp | 0 |
CropLeft | 0 |
CropRight | 1 |
CropTop | 0 |
CustomRendered | Normal |
DateCreated (1) | 2023:01:26 |
DateCreated | 2023:01:26 23:42:28.022 |
DateTimeOriginal | 2023:01:26 23:42:28 |
DefringeGreenAmount | 0 |
DefringeGreenHueHi | 60 |
DefringeGreenHueLo | 40 |
DefringePurpleAmount | 0 |
DefringePurpleHueHi | 70 |
DefringePurpleHueLo | 30 |
Dehaze | +15 |
DistortionCorrectionAlreadyApplied | True |
DOF | inf (14.87 m - inf) |
Exposure2012 | -0.22 |
ExposureCompensation | 0 |
ExposureMode | Manual |
ExposureProgram | Manual |
ExposureTime | 1/400 |
Firmware | 1.7.0 |
Flash | No Flash |
FlashCompensation | 0 |
FNumber | 9.0 |
FocalLength | 35.0 mm |
FocalLength35efl | 35.0 mm (35 mm equivalent: 114.9 mm) |
Format | image/jpeg |
FOV | 17.8 deg |
GrainAmount | 0 |
GreenHue | 0 |
GreenSaturation | 0 |
HasCrop | False |
HasSettings | True |
Highlights2012 | -45 |
HueAdjustmentAqua | +8 |
HueAdjustmentBlue | +13 |
HueAdjustmentGreen | 0 |
HueAdjustmentMagenta | +3 |
HueAdjustmentOrange | 0 |
HueAdjustmentPurple | +8 |
HueAdjustmentRed | +11 |
HueAdjustmentYellow | -3 |
HyperfocalDistance | 14.87 m |
ImageHeight | 1365 |
ImageNumber | 0 |
ImageSize | 2048x1365 |
ImageWidth | 2048 |
IncrementalTemperature | 0 |
IncrementalTint | 0 |
ISO | 100 |
Keywords | 2022, @igorkostin74, Bodø, Canon, CanonEOSR, Digital, Landscape, Natur, Nordland, Norge, Norway, Sørfold, exposure, travel |
LateralChromaticAberrationCorrectionAlreadyApplied | True |
Lens | RF35mm F1.8 MACRO IS STM |
LensID (1) | 61182 |
LensID | Canon RF 35mm F1.8 Macro IS STM |
LensInfo | 35mm f/? |
LensManualDistortionAmount | 0 |
LensModel | RF35mm F1.8 MACRO IS STM |
LensProfileEnable | 0 |
LensSerialNumber | 0000000000 |
LightValue | 15.0 |
LuminanceAdjustmentAqua | -15 |
LuminanceAdjustmentBlue | -22 |
LuminanceAdjustmentGreen | -8 |
LuminanceAdjustmentMagenta | 0 |
LuminanceAdjustmentOrange | +7 |
LuminanceAdjustmentPurple | -11 |
LuminanceAdjustmentRed | 0 |
LuminanceAdjustmentYellow | +3 |
LuminanceSmoothing | 0 |
Make | Canon |
Marked | True |
MaxApertureValue | 1.8 |
Megapixels | 2.8 |
MeteringMode | Multi-segment |
Model | Canon EOS R |
ModifyDate (1) | 2023:04:23 09:09:54+02:00 |
ModifyDate | 2023:04:23 09:09:54 |
OverrideLookVignette | False |
ParametricDarks | 0 |
ParametricHighlights | 0 |
ParametricHighlightSplit | 75 |
ParametricLights | 0 |
ParametricMidtoneSplit | 50 |
ParametricShadows | 0 |
ParametricShadowSplit | 25 |
PerspectiveAspect | 0 |
PerspectiveHorizontal | 0 |
PerspectiveRotate | 0.0 |
PerspectiveScale | 100 |
PerspectiveUpright | 0 |
PerspectiveVertical | 0 |
PerspectiveX | 0.00 |
PerspectiveY | 0.00 |
PostCropVignetteAmount | 0 |
PreservedFileName | _Q3A9336.CR3 |
ProcessVersion | 11.0 |
ProfileDescription | Display P3 |
Rating | 5 |
RawFileName | 20230125_GranCa-021-4948-5070.tif |
RecommendedExposureIndex | 100 |
RedHue | 0 |
RedSaturation | 0 |
Rights | All rights reserved |
Saturation | +1 |
SaturationAdjustmentAqua | +7 |
SaturationAdjustmentBlue | +17 |
SaturationAdjustmentGreen | -11 |
SaturationAdjustmentMagenta | 0 |
SaturationAdjustmentOrange | -23 |
SaturationAdjustmentPurple | +7 |
SaturationAdjustmentRed | -10 |
SaturationAdjustmentYellow | -16 |
ScaleFactor35efl | 3.3 |
SceneCaptureType | Standard |
SensitivityType | Recommended Exposure Index |
SerialNumber | 032021005303 |
Shadows2012 | +22 |
ShadowTint | 0 |
SharpenDetail | 25 |
SharpenEdgeMasking | 80 |
SharpenRadius | +1.0 |
Sharpness | 30 |
ShutterSpeed | 1/400 |
ShutterSpeedValue | 1/400 |
Software | Adobe Photoshop Lightroom Classic 12.3 (Macintosh) |
SplitToningBalance | +23 |
SplitToningHighlightHue | 0 |
SplitToningHighlightSaturation | 0 |
SplitToningShadowHue | 0 |
SplitToningShadowSaturation | 0 |
Subject | 2022, @igorkostin74, Bodø, Canon, CanonEOSR, Digital, Landscape, Natur, Nordland, Norge, Norway, Sørfold, exposure, travel |
Texture | 0 |
ToneCurveName2012 | Custom |
ToneCurvePV2012 | 0, 0, 26, 22, 72, 78, 128, 138, 201, 204, 255, 255 |
ToneCurvePV2012Blue | 0, 0, 255, 255 |
ToneCurvePV2012Green | 0, 0, 255, 255 |
ToneCurvePV2012Red | 0, 0, 255, 255 |
UsageTerms | Please contact |
Version | 15.3 |
Vibrance | +10 |
VignetteAmount | 0 |
VignetteCorrectionAlreadyApplied | True |
WeightedFlatSubject | 2022, @igorkostin74, Bodø, Canon, CanonEOSR, Digital, Landscape, Natur, Nordland, Norge, Norway, Sørfold, exposure, travel |
WhiteBalance (1) | As Shot |
WhiteBalance | Auto |
Whites2012 | -4 |