Felt | Verdi |
AlreadyApplied | True |
Aperture | 8.0 |
ApertureValue | 8.0 |
ApproximateFocusDistance | 6.41 |
AutoLateralCA | 0 |
BitsPerSample (1) | 16 16 16 |
BitsPerSample | 8 |
Blacks2012 | -20 |
BlueHue | 0 |
BlueSaturation | 0 |
CameraProfile | Embedded |
CircleOfConfusion | 0.014 mm |
Clarity2012 | +16 |
ColorComponents | 3 |
ColorMode | RGB |
ColorNoiseReduction | 38 |
ColorNoiseReductionDetail | 50 |
ColorNoiseReductionSmoothness | 50 |
ColorSpace | Uncalibrated |
ColorTransform | YCbCr |
Contrast2012 | +20 |
ConvertToGrayscale | False |
CreateDate | 2024:02:10 13:31:04 |
CreatorTool | Adobe Photoshop Lightroom Classic 9.4 (Windows) |
CustomRendered | Normal |
DateCreated (1) | 2024:02:10 |
DateCreated | 2024:02:10 13:31:04.001 |
DateTimeOriginal | 2024:02:10 13:31:04 |
DefringeGreenAmount | 0 |
DefringeGreenHueHi | 60 |
DefringeGreenHueLo | 40 |
DefringePurpleAmount | 0 |
DefringePurpleHueHi | 70 |
DefringePurpleHueLo | 30 |
Dehaze | 0 |
DistortionCorrectionAlreadyApplied | True |
DOF | 0.02 m (6.40 - 6.42 m) |
ExifImageHeight | 2083 |
ExifImageWidth | 2925 |
Exposure2012 | 0.00 |
ExposureCompensation | 0 |
ExposureMode | Manual |
ExposureProgram | Manual |
ExposureTime | 1/1250 |
Firmware | 1.0.4 |
Flash | Off, Did not fire |
FlashCompensation | 0 |
FNumber | 8.0 |
FocalLength | 600.0 mm |
FocalLength35efl | 600.0 mm (35 mm equivalent: 1255.5 mm) |
Format | image/jpeg |
FOV | 1.6 deg |
GrainAmount | 0 |
GreenHue | 0 |
GreenSaturation | 0 |
HasCrop | False |
HasSettings | True |
Highlights2012 | -84 |
HueAdjustmentAqua | 0 |
HueAdjustmentBlue | 0 |
HueAdjustmentGreen | 0 |
HueAdjustmentMagenta | 0 |
HueAdjustmentOrange | 0 |
HueAdjustmentPurple | 0 |
HueAdjustmentRed | 0 |
HueAdjustmentYellow | 0 |
HyperfocalDistance | 3133.94 m |
ICCProfileName | Adobe RGB (1998) |
ImageHeight (1) | 1883 |
ImageHeight | 2083 |
ImageNumber | 0 |
ImageSize | 2925x2083 |
ImageWidth (1) | 2725 |
ImageWidth | 2925 |
IncrementalTemperature | 0 |
IncrementalTint | 0 |
ISO | 400 |
LateralChromaticAberrationCorrectionAlreadyApplied | True |
Lens | TAMRON SP 150-600mm F/5-6.3 Di VC USD A011 |
LensID (1) | 213 |
LensID | Tamron SP 150-600mm f/5-6.3 Di VC USD (A011) |
LensInfo | 150-600mm f/? |
LensManualDistortionAmount | 0 |
LensModel | TAMRON SP 150-600mm F/5-6.3 Di VC USD A011 |
LensProfileEnable | 0 |
LensProfileSetup | LensDefaults |
LensSerialNumber | 0000000000 |
LightValue | 14.3 |
LuminanceAdjustmentAqua | 0 |
LuminanceAdjustmentBlue | 0 |
LuminanceAdjustmentGreen | 0 |
LuminanceAdjustmentMagenta | 0 |
LuminanceAdjustmentOrange | 0 |
LuminanceAdjustmentPurple | 0 |
LuminanceAdjustmentRed | 0 |
LuminanceAdjustmentYellow | 0 |
LuminanceNoiseReductionContrast | 25 |
LuminanceNoiseReductionDetail | 22 |
LuminanceSmoothing | 40 |
Make | Canon |
MaxApertureValue | 6.2 |
Megapixels | 6.1 |
MeteringMode | Multi-segment |
Model | Canon EOS 6D Mark II |
ModifyDate (1) | 2024:02:11 11:52:15+01:00 |
ModifyDate | 2024:02:11 11:52:15 |
Orientation | Horizontal (normal) |
OverrideLookVignette | True |
ParametricDarks | 0 |
ParametricHighlights | 0 |
ParametricHighlightSplit | 75 |
ParametricLights | 0 |
ParametricMidtoneSplit | 50 |
ParametricShadows | 0 |
ParametricShadowSplit | 25 |
PerspectiveAspect | 0 |
PerspectiveHorizontal | 0 |
PerspectiveRotate | 0.0 |
PerspectiveScale | 100 |
PerspectiveUpright | 0 |
PerspectiveVertical | 0 |
PerspectiveX | 0.00 |
PerspectiveY | 0.00 |
PhotometricInterpretation | RGB |
PlanarConfiguration | Chunky |
PostCropVignetteAmount | -14 |
PostCropVignetteFeather | 50 |
PostCropVignetteHighlightContrast | 0 |
PostCropVignetteMidpoint | 50 |
PostCropVignetteRoundness | 0 |
PostCropVignetteStyle | 1 |
PreservedFileName | zoomlinsefugl2024-3.tif |
ProcessVersion | 11.0 |
ProfileDescription | Adobe RGB (1998) |
RawFileName | |
RecommendedExposureIndex | 400 |
RedHue | 0 |
RedSaturation | 0 |
SamplesPerPixel | 3 |
Saturation | 0 |
SaturationAdjustmentAqua | 0 |
SaturationAdjustmentBlue | 0 |
SaturationAdjustmentGreen | 0 |
SaturationAdjustmentMagenta | 0 |
SaturationAdjustmentOrange | 0 |
SaturationAdjustmentPurple | 0 |
SaturationAdjustmentRed | 0 |
SaturationAdjustmentYellow | 0 |
ScaleFactor35efl | 2.1 |
SceneCaptureType | Standard |
SensitivityType | Recommended Exposure Index |
SerialNumber | 302052002458 |
Shadows2012 | +37 |
ShadowTint | 0 |
SharpenDetail | 39 |
SharpenEdgeMasking | 50 |
SharpenRadius | +1.5 |
Sharpness | 13 |
ShutterSpeed | 1/1250 |
ShutterSpeedValue | 1/1250 |
Software | Adobe Photoshop CC 2019 (Windows) |
SplitToningBalance | 0 |
SplitToningHighlightHue | 0 |
SplitToningHighlightSaturation | 0 |
SplitToningShadowHue | 0 |
SplitToningShadowSaturation | 0 |
Texture | 0 |
ToneCurve | 0, 0, 255, 255 |
ToneCurveBlue | 0, 0, 255, 255 |
ToneCurveGreen | 0, 0, 255, 255 |
ToneCurveName | Linear |
ToneCurveName2012 | Linear |
ToneCurvePV2012 | 0, 0, 255, 255 |
ToneCurvePV2012Blue | 0, 0, 255, 255 |
ToneCurvePV2012Green | 0, 0, 255, 255 |
ToneCurvePV2012Red | 0, 0, 255, 255 |
ToneCurveRed | 0, 0, 255, 255 |
ToneMapStrength | 0 |
URL_List | |
Version | 12.4 |
Vibrance | +5 |
VignetteAmount | 0 |
VignetteCorrectionAlreadyApplied | True |
WhiteBalance (1) | As Shot |
WhiteBalance | Manual |
Whites2012 | +40 |