Felt | Verdi |
AlreadyApplied | True |
Aperture | 6.3 |
ApertureValue | 6.3 |
Artist | Geir Helge Solevåg |
BitsPerSample | 8 |
BlueHue | 0 |
BlueSaturation | 0 |
Brightness | +50 |
By-line | Geir Helge Solevåg |
CameraProfile | ACR 2.4 |
ChromaticAberrationB | 0 |
ChromaticAberrationR | 0 |
CircleOfConfusion | 0.030 mm |
ColorComponents | 3 |
ColorMode | RGB |
ColorNoiseReduction | 25 |
ColorSpace | sRGB |
ColorTemperature | 4471 |
Contrast | +25 |
ConvertToGrayscale | False |
Copyright | Geir Helge Solevåg |
CopyrightFlag | False |
CopyrightNotice | Geir Helge Solevåg |
CreateDate (1) | 2007:05:20 12:29:07+02:00 |
CreateDate | 2007:04:22 18:23:08 |
Creator | Geir Helge Solevåg |
CreatorTool | Adobe Photoshop CS2 Windows |
CropAngle | 0 |
CropBottom | 1 |
CropHeight | 2336 |
CropLeft | 0.028777 |
CropRight | 0.77458 |
CropTop | 0 |
CropUnit | pixels |
CropWidth | 2613 |
CustomRendered | Normal |
DateTimeDigitized | 2007:04:22 18:23:08+02:00 |
DateTimeOriginal (1) | 2007:04:22 18:23:08+02:00 |
DateTimeOriginal | 2007:04:22 18:23:08 |
ExifImageHeight | 727 |
ExifImageWidth | 650 |
Exposure | +0.24 |
ExposureCompensation | 0 |
ExposureMode | Auto |
ExposureProgram | Aperture-priority AE |
ExposureTime | 1/320 |
FillLight | 0 |
Firmware | 1.0.5 |
Flash | Off, Did not fire |
FlashCompensation | 0 |
FlashFired | False |
FlashFunction | False |
FlashMode | Off |
FlashRedEyeMode | False |
FlashReturn | No return detection |
FNumber | 6.3 |
FocalLength | 420.0 mm |
FocalLength35efl | 420.0 mm (35 mm equivalent: 423.0 mm) |
Format | image/jpeg |
FOV | 4.9 deg |
GreenHue | 0 |
GreenSaturation | 0 |
HasCrop | True |
HasSettings | True |
HighlightRecovery | 16 |
HueAdjustmentAqua | 0 |
HueAdjustmentBlue | 0 |
HueAdjustmentGreen | 0 |
HueAdjustmentMagenta | 0 |
HueAdjustmentOrange | 0 |
HueAdjustmentPurple | 0 |
HueAdjustmentRed | 0 |
HueAdjustmentYellow | 0 |
HyperfocalDistance | 938.58 m |
ICCProfileName | sRGB IEC61966-2.1 |
ImageHeight (1) | 2613 |
ImageHeight | 727 |
ImageNumber | 104 |
ImageSize | 650x727 |
ImageWidth (1) | 2336 |
ImageWidth | 650 |
ISO | 400 |
Keywords | Dyr, Fauna, Fugler, Gråhegre, Vadere, myra |
Lens | 300.0 mm |
LensInfo | 300mm f/? |
LightValue | 11.6 |
Location | |
LuminanceAdjustmentAqua | 0 |
LuminanceAdjustmentBlue | 0 |
LuminanceAdjustmentGreen | 0 |
LuminanceAdjustmentMagenta | 0 |
LuminanceAdjustmentOrange | 0 |
LuminanceAdjustmentPurple | 0 |
LuminanceAdjustmentRed | 0 |
LuminanceAdjustmentYellow | 0 |
LuminanceSmoothing | 0 |
Make | Canon |
MaxApertureValue | 5.6 |
Megapixels | 0.473 |
MeteringMode | Average |
Model | Canon EOS 20D |
ModifyDate (1) | 2007:05:20 12:29:07+02:00 |
ModifyDate | 2007:05:20 12:29:07 |
Orientation | Horizontal (normal) |
OwnerName | unknown |
ParametricDarks | +32 |
ParametricHighlights | +1 |
ParametricHighlightSplit | 75 |
ParametricLights | +15 |
ParametricMidtoneSplit | 50 |
ParametricShadows | +18 |
ParametricShadowSplit | 25 |
PrivateRTKInfo | cHJpdmF0ZVJUS0luZm8gPSB7Cgl7CgkJZmxhdCA9IHsKCQkJIkdyw6VoZWdyZSIsCgkJCSJGYXVuYSIsCgkJCSJGdWdsZXIiLAoJCQkiVmFkZXJlIiwKCQkJIkR5ciIsCgkJfSwKCQlwYXRoID0gewoJCQkiRmF1bmEiLAoJCQkiRHlyIiwKCQkJIkZ1Z2xlciIsCgkJCSJWYWRlcmUiLAoJCQkiR3LDpWhlZ3JlIiwKCQl9LAoJCXByaW1hcnkgPSAiR3LDpWhlZ3JlIiwKCQl1dWlkID0gIjZDMTExODA3LUEwOTMtNDFDNC1BQjFBLTA3MjhENjYxQzkyNSIsCgl9LAoJewoJCWZsYXQgPSB7CgkJCSJteXJhIiwKCQl9LAoJCXBhdGggPSB7CgkJCSJteXJhIiwKCQl9LAoJCXByaW1hcnkgPSAibXlyYSIsCgkJdXVpZCA9ICI3M0U0RkM2Mi02RjAwLTRERDctODM0Qy04MTA1MjVBNDE0NDEiLAoJfSwKfQo= |
ProfileDescription | sRGB IEC61966-2.1 |
RedHue | 0 |
RedSaturation | 0 |
Rights | Geir Helge Solevåg |
Saturation | +29 |
SaturationAdjustmentAqua | 0 |
SaturationAdjustmentBlue | 0 |
SaturationAdjustmentGreen | 0 |
SaturationAdjustmentMagenta | 0 |
SaturationAdjustmentOrange | +15 |
SaturationAdjustmentPurple | 0 |
SaturationAdjustmentRed | 0 |
SaturationAdjustmentYellow | -11 |
ScaleFactor35efl | 1.0 |
SceneCaptureType | Standard |
SerialNumber | 630315951 |
Shadows | 5 |
ShadowTint | 0 |
Sharpness | 25 |
ShutterSpeed | 1/320 |
ShutterSpeedValue | 1/320 |
Software | Adobe Photoshop CS2 Windows |
SplitToningBalance | 0 |
SplitToningHighlightHue | 0 |
SplitToningHighlightSaturation | 0 |
SplitToningShadowHue | 0 |
SplitToningShadowSaturation | 0 |
Subject | Dyr, Fauna, Fugler, Gråhegre, Vadere, myra |
Tint | +5 |
Title |
ToneCurve | 0, 0, 32, 22, 64, 56, 128, 128, 192, 196, 255, 255 |
ToneCurveName | Medium Contrast |
URL_List | |
Version | 1.0 |
Vibrance | +20 |
VignetteAmount | 0 |
WhiteBalance (2) | Custom |
WhiteBalance | Auto |