Felt | Verdi |
AlreadyApplied | True |
Aperture | 16.0 |
ApertureValue | 16.0 |
BitsPerSample | 8 |
BlueHue | 0 |
BlueSaturation | 0 |
Brightness | +50 |
CameraProfile | ACR 3.7 |
CFAPattern | [Blue,Green][Green,Red] |
ChromaticAberrationB | 0 |
ChromaticAberrationR | -53 |
CircleOfConfusion | 0.020 mm |
Clarity | 34 |
ColorComponents | 3 |
ColorNoiseReduction | 25 |
ColorTemperature | 7500 |
Contrast (2) | +79 |
Contrast | Normal |
ConvertToGrayscale | False |
CreateDate | 2007:08:06 23:16:57 |
CreatorTool | Adobe Photoshop Lightroom |
CropAngle | -2.038136 |
CropBottom | 0.949196 |
CropHeight | 768 |
CropLeft | 0.014172 |
CropRight | 0.985828 |
CropTop | 0.050804 |
CropUnit | pixels |
CropWidth | 1155 |
CustomRendered | Custom |
DateTimeDigitized | 2007:08:06 23:16:57.50+02:00 |
DateTimeOriginal (1) | 2007:08:06 23:18:02.50+02:00 |
DateTimeOriginal | 2007:08:06 23:18:02 |
Defringe | 0 |
DigitalZoomRatio | 1 |
Exposure | 0.00 |
ExposureCompensation | -2/3 |
ExposureMode | Manual |
ExposureProgram | Manual |
ExposureTime | 30 |
FillLight | 0 |
Flash | No Flash |
FlashFired | False |
FlashFunction | False |
FlashMode | Unknown |
FlashRedEyeMode | False |
FlashReturn | No return detection |
FNumber | 16.0 |
FocalLength | 18.0 mm |
FocalLength35efl | 18.0 mm (35 mm equivalent: 27.0 mm) |
FocalLengthIn35mmFormat | 27 mm |
FOV | 67.4 deg |
GainControl | None |
GreenHue | 0 |
GreenSaturation | 0 |
HasCrop | True |
HasSettings | True |
HighlightRecovery | 0 |
HueAdjustmentAqua | 0 |
HueAdjustmentBlue | 0 |
HueAdjustmentGreen | 0 |
HueAdjustmentMagenta | +1 |
HueAdjustmentOrange | 0 |
HueAdjustmentPurple | 0 |
HueAdjustmentRed | -41 |
HueAdjustmentYellow | 0 |
HyperfocalDistance | 1.01 m |
ImageHeight | 768 |
ImageNumber | 3591 |
ImageSize | 1155x768 |
ImageWidth | 1155 |
ISO | 200 |
Lens | 18.0-200.0 mm f/3.5-5.6 |
LensInfo | 18-200mm f/3.5-5.6 |
LightSource | Unknown |
LightValue | 2.1 |
LuminanceAdjustmentAqua | 0 |
LuminanceAdjustmentBlue | 0 |
LuminanceAdjustmentGreen | 0 |
LuminanceAdjustmentMagenta | 0 |
LuminanceAdjustmentOrange | 0 |
LuminanceAdjustmentPurple | 0 |
LuminanceAdjustmentRed | 0 |
LuminanceAdjustmentYellow | 0 |
LuminanceSmoothing | 0 |
Make | NIKON CORPORATION |
MaxApertureValue | 3.5 |
Megapixels | 0.887 |
MeteringMode | Multi-segment |
Model | NIKON D40 |
ModifyDate (1) | 2007:08:28 17:13:21+02:00 |
ModifyDate | 2007:08:28 17:13:21 |
ParametricDarks | 0 |
ParametricHighlights | 0 |
ParametricHighlightSplit | 75 |
ParametricLights | 0 |
ParametricMidtoneSplit | 50 |
ParametricShadows | 0 |
ParametricShadowSplit | 25 |
ProfileDescription | sRGB IEC61966-2.1 |
RedHue | 0 |
RedSaturation | 0 |
Saturation (2) | +27 |
Saturation | High |
SaturationAdjustmentAqua | 0 |
SaturationAdjustmentBlue | 0 |
SaturationAdjustmentGreen | 0 |
SaturationAdjustmentMagenta | 0 |
SaturationAdjustmentOrange | +44 |
SaturationAdjustmentPurple | 0 |
SaturationAdjustmentRed | +11 |
SaturationAdjustmentYellow | 0 |
ScaleFactor35efl | 1.5 |
SceneCaptureType | Standard |
SceneType | Directly photographed |
SensingMethod | One-chip color area |
Shadows | 5 |
ShadowTint | 0 |
SharpenDetail | 25 |
SharpenEdgeMasking | 0 |
SharpenRadius | +1.0 |
Sharpness (2) | 14 |
Sharpness | Normal |
ShutterSpeed | 30 |
ShutterSpeedValue | 30 |
Software | Ver.1.10 |
SplitToningBalance | 0 |
SplitToningHighlightHue | 0 |
SplitToningHighlightSaturation | 0 |
SplitToningShadowHue | 0 |
SplitToningShadowSaturation | 0 |
SubjectDistanceRange | Unknown |
TimeZoneOffset | 2 2 |
Tint | +17 |
ToneCurve | 0, 0, 32, 22, 64, 56, 128, 128, 192, 196, 255, 255 |
ToneCurveName | Medium Contrast |
UserComment | Thor Stusvig 99259886 |
Version | 1.0 |
Vibrance | +34 |
VignetteAmount | 0 |
WhiteBalance | Auto |