Felt | Verdi |
2007-01-01T21:02:36+01:00 File _DSC0982-Edit tagging ved freia i lag ok .psd opened
2007-01-01T21:08:56+01:00 File G:\Edit pics 16\_DSC0982-Edit tagging ved freia Tiff nr 3 anndrre forsøk ok ok.tif saved
2007-01-01T21:12:06+01:00 File _DSC0982-Edit tagging ved freia Tiff nr 3 anndrre forsøk ok ok.tif opened
2007-01-01T21:13:38+01:00 File G:\Edit pics 16\_DSC0982-Edit tagging ved freia Tiff nr 3 anndrre forsøk ok ok.tif saved
2007-01-01T21:17:11+01:00 File _DSC0982-Edit tagging ved freia Tiff nr 3 anndrre forsøk ok ok.tif opened
2007-01-01T21:17:43+01:00 File G:\Edit pics 16\nr 3 ok smugmug.jpg saved
2007-01-01T21:54:03+01:00 File nr 3 ok smugmug.jpg opened
2007-01-01T21:55:30+01:00 File G:\Edit pics 16\fotono vegg.jpg saved
2008-01-01T16:20:36+01:00 File G:\img 0135\_DSC0982-Edit tagging ved freia i lag ok .psd saved
AlreadyApplied | True |
Aperture | 5.6 |
ApertureValue | 5.6 |
Artist | Kjetil Kvien Madsen |
BitsPerSample (1) | 16, 16, 16 |
BitsPerSample (2) | 16 16 16 |
BitsPerSample | 8 |
BlueHue | 0 |
BlueSaturation | 0 |
Brightness | +50 |
By-line | Kjetil Kvien Madsen |
CameraProfile | ACR 4.3 |
CFAPattern | [Red,Green][Green,Blue] |
ChromaticAberrationB | 0 |
ChromaticAberrationR | 0 |
CircleOfConfusion | 0.020 mm |
Clarity | 100 |
ColorComponents | 3 |
ColorMode | RGB |
ColorNoiseReduction | 0 |
ColorSpace | sRGB |
ColorTemperature | 5903 |
Contrast (2) | +41 |
Contrast | Normal |
ConvertToGrayscale | False |
Copyright | Kjetil Kvien Madsen |
CopyrightFlag | False |
CopyrightNotice | Kjetil Kvien Madsen |
CreateDate (1) | 2007:01:01 21:55:30+01:00 |
CreateDate | 2008:01:01 13:47:51 |
Creator | Kjetil Kvien Madsen |
CreatorAddress | Oppsalstubben 6 |
CreatorCity | Oslo |
CreatorCountry | Norway |
CreatorPostalCode | 0685 |
CreatorTool | Adobe Photoshop CS3 Windows |
CreatorWorkEmail | kjetilkm@online.no |
CreatorWorkTelephone | +47 95 24 10 87 |
CreatorWorkURL | www.kkm.smugmug.com |
CropAngle | 0.628356 |
CropBottom | 0.997145 |
CropHeight | 2586 |
CropLeft | 0.006614 |
CropRight | 0.908024 |
CropTop | 0.074127 |
CropUnit | pixels |
CropWidth | 3894 |
CustomRendered | Normal |
DateTimeDigitized | 2008:01:01 13:47:51.17+01:00 |
DateTimeOriginal (1) | 2008:01:01 13:47:51.17+01:00 |
DateTimeOriginal | 2008:01:01 13:47:51 |
Defringe | 0 |
DigitalZoomRatio | 1 |
ExifImageHeight | 664 |
ExifImageWidth | 1000 |
Exposure | 0.00 |
ExposureCompensation | +2/3 |
ExposureMode | Auto |
ExposureProgram | Aperture-priority AE |
ExposureTime | 1/80 |
FillLight | 0 |
Flash | No Flash |
FlashFired | False |
FlashFunction | False |
FlashMode | Unknown |
FlashRedEyeMode | False |
FlashReturn | No return detection |
FNumber | 5.6 |
FocalLength | 24.0 mm |
FocalLength35efl | 24.0 mm (35 mm equivalent: 36.0 mm) |
FocalLengthIn35mmFormat | 36 mm |
Format | image/jpeg |
FOV | 53.1 deg |
GainControl | Low gain up |
GreenHue | 0 |
GreenSaturation | 0 |
HasCrop | True |
HasSettings | True |
HierarchicalSubject | landskap grafitti |
HighlightRecovery | 100 |
HueAdjustmentAqua | 0 |
HueAdjustmentBlue | 0 |
HueAdjustmentGreen | 0 |
HueAdjustmentMagenta | 0 |
HueAdjustmentOrange | 0 |
HueAdjustmentPurple | 0 |
HueAdjustmentRed | 0 |
HueAdjustmentYellow | 0 |
HyperfocalDistance | 5.13 m |
ICCProfileName | sRGB IEC61966-2.1 |
ImageHeight (1) | 2586 |
ImageHeight | 664 |
ImageNumber | 1148 |
ImageSize | 1000x664 |
ImageWidth (1) | 3894 |
ImageWidth | 1000 |
ISO | 400 |
Keywords | landskap grafitti |
Lens | 17.0-55.0 mm f/2.8 |
LensInfo | 17-55mm f/2.8 |
LightSource | Unknown |
LightValue | 9.3 |
LuminanceAdjustmentAqua | 0 |
LuminanceAdjustmentBlue | 0 |
LuminanceAdjustmentGreen | 0 |
LuminanceAdjustmentMagenta | 0 |
LuminanceAdjustmentOrange | 0 |
LuminanceAdjustmentPurple | 0 |
LuminanceAdjustmentRed | 0 |
LuminanceAdjustmentYellow | 0 |
LuminanceSmoothing | 0 |
Make | NIKON CORPORATION |
MaxApertureValue | 2.8 |
Megapixels | 0.664 |
MeteringMode | Multi-segment |
Model | NIKON D300 |
ModifyDate (1) | 2007:01:01 21:55:30+01:00 |
ModifyDate | 2007:01:01 21:55:30 |
Orientation | Horizontal (normal) |
ParametricDarks | 0 |
ParametricHighlights | 0 |
ParametricHighlightSplit | 75 |
ParametricLights | 0 |
ParametricMidtoneSplit | 50 |
ParametricShadows | 0 |
ParametricShadowSplit | 25 |
PhotometricInterpretation | RGB |
PlanarConfiguration | Chunky |
ProfileDescription | sRGB IEC61966-2.1 |
RedHue | 0 |
RedSaturation | 0 |
Rights | Kjetil Kvien Madsen |
SamplesPerPixel | 3 |
Saturation (2) | 0 |
Saturation | Normal |
SaturationAdjustmentAqua | 0 |
SaturationAdjustmentBlue | -33 |
SaturationAdjustmentGreen | +29 |
SaturationAdjustmentMagenta | -33 |
SaturationAdjustmentOrange | +2 |
SaturationAdjustmentPurple | +7 |
SaturationAdjustmentRed | +62 |
SaturationAdjustmentYellow | +5 |
ScaleFactor35efl | 1.5 |
SceneCaptureType | Standard |
SceneType | Directly photographed |
SensingMethod | One-chip color area |
Shadows | 5 |
ShadowTint | 0 |
SharpenDetail | 25 |
SharpenEdgeMasking | 0 |
SharpenRadius | +1.0 |
Sharpness (2) | 0 |
Sharpness | Soft |
ShutterSpeed | 1/80 |
ShutterSpeedValue | 1/80 |
Software | Adobe Photoshop CS3 Windows |
SplitToningBalance | 0 |
SplitToningHighlightHue | 0 |
SplitToningHighlightSaturation | 0 |
SplitToningShadowHue | 0 |
SplitToningShadowSaturation | 0 |
Subject | landskap grafitti |
SubjectDistanceRange | Unknown |
Tint | -6 |
ToneCurve | 0, 0, 32, 22, 64, 56, 128, 128, 192, 196, 255, 255 |
ToneCurveName | Medium Contrast |
URL_List | |
UsageTerms | copyright Kjetil Kvien Madsen |
UserComment | COPYRIGHT Kjetil Kvien Madsen |
Version | 1.0 |
Vibrance | 0 |
VignetteAmount | 0 |
WhiteBalance (2) | Custom |
WhiteBalance | Auto |