Felt | Verdi |
AlreadyApplied | True |
Aperture | 9.0 |
ApertureValue | 9.0 |
Artist | unknown |
BitsPerSample (1) | 8, 8, 8 |
BitsPerSample (2) | 8 8 8 |
BitsPerSample | 8 |
BlueHue | 0 |
BlueSaturation | 0 |
Brightness | +50 |
By-line | unknown |
CameraProfile | ACR 2.4 |
Caption-Abstract | Fototur pŒ sunde sammen med Stein Eric. Skulle fotografere etter teme "i strandsonen" for BioFoto-konkurranse |
ChromaticAberrationB | 0 |
ChromaticAberrationR | 0 |
CircleOfConfusion | 0.030 mm |
Clarity | 0 |
ColorComponents | 3 |
ColorMode | RGB |
ColorNoiseReduction | 25 |
ColorSpace | sRGB |
ColorTemperature | 4292 |
Contrast | +91 |
ConvertToGrayscale | False |
Copyright | Geir Helge Solevåg |
CopyrightFlag | False |
CopyrightNotice | Geir Helge SolevŒg |
CreateDate (1) | 2008:04:29 18:40:34+02:00 |
CreateDate | 2006:12:31 22:20:21 |
Creator | unknown |
CreatorTool | Adobe Photoshop CS3 Macintosh |
CropAngle | 0 |
CropBottom | 1 |
CropHeight | 2328 |
CropLeft | 0.0419 |
CropRight | 0.967177 |
CropTop | 0.003284 |
CropUnit | pixels |
CropWidth | 3242 |
CustomRendered | Normal |
DateTimeDigitized | 2006:12:31 22:20:21+01:00 |
DateTimeOriginal (1) | 2006:12:31 22:20:21+01:00 |
DateTimeOriginal | 2006:12:31 22:20:21 |
Defringe | 0 |
Description | Fototur på sunde sammen med Stein Eric. Skulle fotografere etter teme "i strandsonen" for BioFoto-konkurranse |
ExifImageHeight | 677 |
ExifImageWidth | 950 |
Exposure | -1.17 |
ExposureCompensation | +1 |
ExposureMode | Auto |
ExposureProgram | Aperture-priority AE |
ExposureTime | 2.5 |
FillLight | 20 |
Firmware | 1.0.5 |
Flash | Off, Did not fire |
FlashCompensation | 0 |
FlashFired | False |
FlashFunction | False |
FlashMode | Off |
FlashRedEyeMode | False |
FlashReturn | No return detection |
FNumber | 9.0 |
FocalLength | 10.0 mm |
FocalLength35efl | 10.0 mm (35 mm equivalent: 10.1 mm) |
Format | image/jpeg |
FOV | 121.5 deg |
GreenHue | 0 |
GreenSaturation | 0 |
HasCrop | True |
HasSettings | True |
HierarchicalSubject | A-D|bevegelse, Fjorder|hjørundfjorden, Steder|Storfjorden, Steder|Sula kommune, Steder|Sula kommune|sunde, bølger, lys |
HighlightRecovery | 0 |
HueAdjustmentAqua | 0 |
HueAdjustmentBlue | 0 |
HueAdjustmentGreen | 0 |
HueAdjustmentMagenta | 0 |
HueAdjustmentOrange | 0 |
HueAdjustmentPurple | 0 |
HueAdjustmentRed | 0 |
HueAdjustmentYellow | 0 |
HyperfocalDistance | 0.37 m |
ICCProfileName | sRGB IEC61966-2.1 |
ImageDescription | Fototur på sunde sammen med Stein Eric. Skulle fotografere etter teme "i strandsonen" for BioFoto-konkurranse |
ImageHeight | 677 |
ImageNumber | 95 |
ImageSize | 950x677 |
ImageWidth | 950 |
ISO | 100 |
Keywords | A-D, Fjorder, Steder, Storfjorden, Sula kommune, bevegelse, b¿lger, hj¿rundfjorden, lys, sunde |
Label | Red |
Lens | 10.0-22.0 mm |
LensInfo | 10-22mm f/? |
LightValue | 5.0 |
Location | Sunde |
LuminanceAdjustmentAqua | 0 |
LuminanceAdjustmentBlue | 0 |
LuminanceAdjustmentGreen | 0 |
LuminanceAdjustmentMagenta | 0 |
LuminanceAdjustmentOrange | 0 |
LuminanceAdjustmentPurple | 0 |
LuminanceAdjustmentRed | 0 |
LuminanceAdjustmentYellow | 0 |
LuminanceSmoothing | 0 |
Make | Canon |
Megapixels | 0.643 |
MeteringMode | Multi-segment |
Model | Canon EOS 20D |
ModifyDate (1) | 2008:04:29 18:40:34+02:00 |
ModifyDate | 2008:04:29 18:40:34 |
ObjectName | Mot Hj¿rundfjorden |
Orientation | Horizontal (normal) |
OwnerName | unknown |
ParametricDarks | +4 |
ParametricHighlights | +27 |
ParametricHighlightSplit | 75 |
ParametricLights | +38 |
ParametricMidtoneSplit | 50 |
ParametricShadows | -6 |
ParametricShadowSplit | 25 |
PhotometricInterpretation | RGB |
PlanarConfiguration | Planar |
ProfileDescription | sRGB IEC61966-2.1 |
RedHue | 0 |
RedSaturation | 0 |
Rights | Geir Helge Solevåg |
SamplesPerPixel | 3 |
Saturation | -75 |
SaturationAdjustmentAqua | 0 |
SaturationAdjustmentBlue | 0 |
SaturationAdjustmentGreen | 0 |
SaturationAdjustmentMagenta | 0 |
SaturationAdjustmentOrange | 0 |
SaturationAdjustmentPurple | 0 |
SaturationAdjustmentRed | 0 |
SaturationAdjustmentYellow | 0 |
ScaleFactor35efl | 1.0 |
SceneCaptureType | Standard |
SerialNumber | 630315951 |
Shadows | 6 |
ShadowTint | 0 |
SharpenDetail | 25 |
SharpenEdgeMasking | 0 |
SharpenRadius | +1.0 |
Sharpness | 25 |
ShutterSpeed | 2.5 |
ShutterSpeedValue | 2.5 |
Software | Adobe Photoshop CS3 Macintosh |
SplitToningBalance | 0 |
SplitToningHighlightHue | 0 |
SplitToningHighlightSaturation | 0 |
SplitToningShadowHue | 0 |
SplitToningShadowSaturation | 0 |
Sub-location | Sunde |
Subject | A-D, Fjorder, Steder, Storfjorden, Sula kommune, bevegelse, bølger, hjørundfjorden, lys, sunde |
Tint | -34 |
Title | Mot Hjørundfjorden |
ToneCurve | 0, 0, 32, 22, 64, 56, 128, 128, 192, 196, 255, 255 |
ToneCurveName | Medium Contrast |
URL_List | |
Version | 1.0 |
Vibrance | -42 |
VignetteAmount | -75 |
VignetteMidpoint | 47 |
WhiteBalance (2) | Custom |
WhiteBalance | Auto |