Felt | Verdi |
AlreadyApplied | True |
Aperture | 4.2 |
ApertureValue | 4.2 |
BitsPerSample | 8 |
BlueHue | 0 |
BlueSaturation | 0 |
Brightness | 0 |
CameraProfile | ACR 2.4 |
ChromaticAberrationB | 0 |
ChromaticAberrationR | 0 |
Clarity | 0 |
ColorComponents | 3 |
ColorMode | RGB |
ColorNoiseReduction | 0 |
ColorSpace (1) | Unknown (-1) |
ColorSpace | Uncalibrated |
Contrast | 0 |
ConvertToGrayscale | False |
CopyrightFlag | False |
CreateDate (1) | 2008:07:28 23:15:02+02:00 |
CreateDate | 2005:02:20 01:05:19 |
CreatorTool | Adobe Photoshop CS3 Macintosh |
DateTimeDigitized | 2005:02:20 01:05:19.80+01:00 |
DateTimeOriginal (1) | 2005:02:20 01:05:19.80+01:00 |
DateTimeOriginal | 2005:02:20 01:05:19 |
Defringe | 0 |
DerivedFrom | |
ExifImageHeight | 399 |
ExifImageWidth | 600 |
Exposure | -0.68 |
ExposureCompensation | 0 |
ExposureProgram | Not Defined |
ExposureTime | 1/160 |
FillLight | 0 |
Flash | No Flash |
FlashFired | False |
FlashFunction | False |
FlashMode | Unknown |
FlashRedEyeMode | False |
FlashReturn | No return detection |
FNumber | 4.2 |
FocalLength | 60.0 mm |
FocalLength35efl | 60.0 mm |
Format | image/jpeg |
GreenHue | 0 |
GreenSaturation | 0 |
HasCrop | False |
HasSettings | True |
HighlightRecovery | 0 |
HueAdjustmentAqua | 0 |
HueAdjustmentBlue | 0 |
HueAdjustmentGreen | 0 |
HueAdjustmentMagenta | 0 |
HueAdjustmentOrange | 0 |
HueAdjustmentPurple | 0 |
HueAdjustmentRed | 0 |
HueAdjustmentYellow | 0 |
ICCProfileName | Adobe RGB (1998) |
ImageHeight (1) | 2000 |
ImageHeight | 399 |
ImageNumber | 14376 |
ImageSize | 600x399 |
ImageWidth (1) | 3008 |
ImageWidth | 600 |
IncrementalTemperature | 0 |
IncrementalTint | 0 |
ISO | 400 |
Lens | 55.0-200.0 mm f/4.0-5.6 |
LensInfo | 55-200mm f/4-5.6 |
LightSource | Unknown |
LightValue | 9.5 |
LuminanceAdjustmentAqua | 0 |
LuminanceAdjustmentBlue | 0 |
LuminanceAdjustmentGreen | 0 |
LuminanceAdjustmentMagenta | 0 |
LuminanceAdjustmentOrange | 0 |
LuminanceAdjustmentPurple | 0 |
LuminanceAdjustmentRed | 0 |
LuminanceAdjustmentYellow | 0 |
LuminanceSmoothing | 0 |
Make | NIKON CORPORATION |
MaxApertureValue | 4.0 |
Megapixels | 0.239 |
MeteringMode | Multi-segment |
Model | NIKON D50 |
ModifyDate (1) | 2008:07:28 23:29:04+02:00 |
ModifyDate | 2008:07:28 23:29:04 |
Orientation | Horizontal (normal) |
ParametricDarks | -15 |
ParametricHighlights | +8 |
ParametricHighlightSplit | 75 |
ParametricLights | +15 |
ParametricMidtoneSplit | 50 |
ParametricShadows | -30 |
ParametricShadowSplit | 25 |
ProfileDescription | Adobe RGB (1998) |
RedHue | 0 |
RedSaturation | 0 |
Saturation | 0 |
SaturationAdjustmentAqua | 0 |
SaturationAdjustmentBlue | 0 |
SaturationAdjustmentGreen | 0 |
SaturationAdjustmentMagenta | 0 |
SaturationAdjustmentOrange | 0 |
SaturationAdjustmentPurple | 0 |
SaturationAdjustmentRed | 0 |
SaturationAdjustmentYellow | 0 |
SceneType | Directly photographed |
SensingMethod | One-chip color area |
Shadows | 0 |
ShadowTint | 0 |
SharpenDetail | 20 |
SharpenEdgeMasking | 70 |
SharpenRadius | +1.2 |
Sharpness | 35 |
ShutterSpeed | 1/160 |
ShutterSpeedValue | 1/160 |
Software | Adobe Photoshop CS3 Macintosh |
SplitToningBalance | 0 |
SplitToningHighlightHue | 0 |
SplitToningHighlightSaturation | 0 |
SplitToningShadowHue | 0 |
SplitToningShadowSaturation | 0 |
TimeZoneOffset | 1 2 |
ToneCurve | 0, 0, 32, 22, 64, 56, 128, 128, 192, 196, 255, 255 |
ToneCurveName | Medium Contrast |
URL_List | |
Version | 1.0 |
Vibrance | 0 |
VignetteAmount | 0 |
WhiteBalance | As Shot |