Felt | Verdi |
AlreadyApplied | True |
Aperture | 4.0 |
ApertureValue | 4.0 |
BitsPerSample | 8 |
BlueHue | 0 |
BlueSaturation | 0 |
Brightness | +50 |
CameraProfile | Adobe Standard |
ChromaticAberrationB | 0 |
ChromaticAberrationR | 0 |
CircleOfConfusion | 0.030 mm |
Clarity | +69 |
ColorComponents | 3 |
ColorMode | RGB |
ColorNoiseReduction | 13 |
ColorSpace | sRGB |
ColorTemperature | 3146 |
Contrast | +37 |
ConvertToGrayscale | False |
Copyright | Geir Helge Solevåg |
CopyrightFlag | True |
CopyrightNotice | Geir Helge SolevŒg |
CreateDate (1) | 2009:05:14 21:25:05+02:00 |
CreateDate | 2009:05:14 07:37:39 |
CreatorTool | Adobe Photoshop CS3 Macintosh |
CropAngle | 0 |
CropBottom | 1 |
CropHeight | 2912 |
CropLeft | 0.300341 |
CropRight | 1 |
CropTop | 0 |
CropUnit | pixels |
CropWidth | 3056 |
CustomRendered | Normal |
DateTimeDigitized | 2009:05:14 07:37:39+02:00 |
DateTimeOriginal (1) | 2009:05:14 07:37:39+02:00 |
DateTimeOriginal | 2009:05:14 07:37:39 |
Defringe | 0 |
ExifImageHeight | 735 |
ExifImageWidth | 700 |
Exposure | 0.00 |
ExposureCompensation | +2/3 |
ExposureMode | Auto |
ExposureProgram | Aperture-priority AE |
ExposureTime | 1/1600 |
FillLight | 18 |
Firmware | 1.1.1 |
Flash | Off, Did not fire |
FlashCompensation | 0 |
FlashFired | False |
FlashFunction | False |
FlashMode | Off |
FlashRedEyeMode | False |
FlashReturn | No return detection |
FNumber | 4.0 |
FocalLength | 85.0 mm |
FocalLength35efl | 85.0 mm (35 mm equivalent: 85.2 mm) |
Format | image/jpeg |
FOV | 23.9 deg |
GreenHue | 0 |
GreenSaturation | 0 |
HasCrop | True |
HasSettings | True |
HierarchicalSubject | STEDER|Europa|Norge|Møre og Romsdal|Sykkylven Kommune, STEDER|Europa|Norge|Møre og Romsdal|Sykkylven Kommune|Straumshorn |
HighlightRecovery | 0 |
HueAdjustmentAqua | 0 |
HueAdjustmentBlue | 0 |
HueAdjustmentGreen | 0 |
HueAdjustmentMagenta | 0 |
HueAdjustmentOrange | 0 |
HueAdjustmentPurple | 0 |
HueAdjustmentRed | 0 |
HueAdjustmentYellow | 0 |
HyperfocalDistance | 60.24 m |
ICCProfileName | sRGB IEC61966-2.1 |
ImageHeight (1) | 3056 |
ImageHeight | 735 |
ImageNumber | 1 |
ImageSize | 700x735 |
ImageWidth (1) | 2912 |
ImageWidth | 700 |
ISO | 100 |
Keywords | Europa, M¿re og Romsdal, Norge, STEDER, Straumshorn, Sykkylven Kommune |
Lens | EF85mm f/1.8 USM |
LensInfo | 85mm f/? |
LightValue | 14.6 |
LuminanceAdjustmentAqua | 0 |
LuminanceAdjustmentBlue | 0 |
LuminanceAdjustmentGreen | 0 |
LuminanceAdjustmentMagenta | 0 |
LuminanceAdjustmentOrange | 0 |
LuminanceAdjustmentPurple | 0 |
LuminanceAdjustmentRed | 0 |
LuminanceAdjustmentYellow | 0 |
LuminanceSmoothing | 0 |
Make | Canon |
Marked | True |
MaxApertureValue | 1.8 |
Megapixels | 0.514 |
MeteringMode | Multi-segment |
Model | Canon EOS 5D |
ModifyDate (1) | 2009:05:14 21:25:05+02:00 |
ModifyDate | 2009:05:14 21:25:05 |
Orientation | Horizontal (normal) |
ParametricDarks | -8 |
ParametricHighlights | +6 |
ParametricHighlightSplit | 75 |
ParametricLights | +48 |
ParametricMidtoneSplit | 50 |
ParametricShadows | -21 |
ParametricShadowSplit | 25 |
PostCropVignetteAmount | 0 |
ProfileDescription | sRGB IEC61966-2.1 |
RedHue | 0 |
RedSaturation | 0 |
Rights | Geir Helge Solevåg |
Saturation | -38 |
SaturationAdjustmentAqua | 0 |
SaturationAdjustmentBlue | -6 |
SaturationAdjustmentGreen | 0 |
SaturationAdjustmentMagenta | 0 |
SaturationAdjustmentOrange | 0 |
SaturationAdjustmentPurple | 0 |
SaturationAdjustmentRed | 0 |
SaturationAdjustmentYellow | 0 |
ScaleFactor35efl | 1.0 |
SceneCaptureType | Standard |
SerialNumber | 2631211041 |
Shadows | 50 |
ShadowTint | 0 |
SharpenDetail | 0 |
SharpenEdgeMasking | 0 |
SharpenRadius | +0.6 |
Sharpness | 142 |
ShutterSpeed | 1/1600 |
ShutterSpeedValue | 1/1600 |
Software | Adobe Photoshop CS3 Macintosh |
SplitToningBalance | +71 |
SplitToningHighlightHue | 274 |
SplitToningHighlightSaturation | 61 |
SplitToningShadowHue | 232 |
SplitToningShadowSaturation | 0 |
Subject | Europa, Møre og Romsdal, Norge, STEDER, Straumshorn, Sykkylven Kommune |
Tint | +9 |
ToneCurve | 0, 0, 32, 22, 64, 56, 128, 128, 192, 196, 255, 255 |
ToneCurveName | Medium Contrast |
URL_List | |
Version | 5.3 |
Vibrance | +48 |
VignetteAmount | 0 |
WhiteBalance (2) | Custom |
WhiteBalance | Auto |