Felt | Verdi |
AlreadyApplied | True |
Aperture | 4.5 |
ApertureValue | 4.5 |
BitsPerSample | 8 |
BlueHue | 0 |
BlueSaturation | 0 |
Brightness | +50 |
CameraProfile | Adobe Standard |
ChromaticAberrationB | 0 |
ChromaticAberrationR | 0 |
CircleOfConfusion | 0.030 mm |
Clarity | -13 |
ColorComponents | 3 |
ColorNoiseReduction | 25 |
ColorTemperature | 5438 |
Contrast | +47 |
ConvertToGrayscale | False |
Copyright | Geir Helge Solevag |
CopyrightFlag | True |
CopyrightNotice | Geir Helge SolevŒg |
CreateDate (1) | 2009:03:04 14:16:21+01:00 |
CreateDate | 2009:03:04 14:16:21 |
CreatorTool | Adobe Photoshop Lightroom |
CropAngle | -1.85291 |
CropBottom | 0.819669 |
CropHeight | 514 |
CropLeft | 0.337681 |
CropRight | 0.894998 |
CropTop | 0.285242 |
CropUnit | pixels |
CropWidth | 750 |
CustomRendered | Normal |
DateTimeDigitized | 2009:03:04 14:16:21+01:00 |
DateTimeOriginal (1) | 2009:03:04 14:16:21+01:00 |
DateTimeOriginal | 2009:03:04 14:16:21 |
Defringe | 0 |
ExifImageHeight | 750 |
ExifImageWidth | 514 |
Exposure | -2.42 |
ExposureCompensation | +2/3 |
ExposureMode | Auto |
ExposureProgram | Aperture-priority AE |
ExposureTime | 1/1600 |
FillLight | 15 |
Firmware | 1.1.1 |
Flash | Off, Did not fire |
FlashCompensation | 0 |
FlashFired | False |
FlashFunction | False |
FlashMode | Off |
FlashRedEyeMode | False |
FlashReturn | No return detection |
FNumber | 4.5 |
FocalLength | 200.0 mm |
FocalLength35efl | 200.0 mm (35 mm equivalent: 200.4 mm) |
FOV | 10.3 deg |
GreenHue | 0 |
GreenSaturation | 0 |
HasCrop | True |
HasSettings | True |
HighlightRecovery | 0 |
HueAdjustmentAqua | 0 |
HueAdjustmentBlue | 0 |
HueAdjustmentGreen | 0 |
HueAdjustmentMagenta | 0 |
HueAdjustmentOrange | 0 |
HueAdjustmentPurple | 0 |
HueAdjustmentRed | 0 |
HueAdjustmentYellow | 0 |
HyperfocalDistance | 296.45 m |
ImageHeight | 750 |
ImageNumber | 4 |
ImageSize | 514x750 |
ImageWidth | 514 |
ISO | 800 |
Keywords | Brusdalsvannet, Europa, Europe, M¿nster, M¿re og Romsdal, Norge, Norway, STEDER, is, striper, lesund kommune |
Lens | EF200mm f/2.8L USM |
LensInfo | 200mm f/? |
LightValue | 12.0 |
LuminanceAdjustmentAqua | 0 |
LuminanceAdjustmentBlue | 0 |
LuminanceAdjustmentGreen | 0 |
LuminanceAdjustmentMagenta | 0 |
LuminanceAdjustmentOrange | 0 |
LuminanceAdjustmentPurple | 0 |
LuminanceAdjustmentRed | 0 |
LuminanceAdjustmentYellow | 0 |
LuminanceSmoothing | 0 |
Make | Canon |
Marked | True |
MaxApertureValue | 2.8 |
Megapixels | 0.386 |
MeteringMode | Multi-segment |
Model | Canon EOS 5D |
ModifyDate (1) | 2009:05:20 20:38:42+02:00 |
ModifyDate | 2009:05:20 20:38:42 |
ParametricDarks | -21 |
ParametricHighlights | +65 |
ParametricHighlightSplit | 75 |
ParametricLights | +31 |
ParametricMidtoneSplit | 50 |
ParametricShadows | -13 |
ParametricShadowSplit | 25 |
PostCropVignetteAmount | 0 |
ProfileDescription | sRGB IEC61966-2.1 |
RedHue | 0 |
RedSaturation | 0 |
Rights | Geir Helge Solevåg |
Saturation | +46 |
SaturationAdjustmentAqua | 0 |
SaturationAdjustmentBlue | 0 |
SaturationAdjustmentGreen | 0 |
SaturationAdjustmentMagenta | 0 |
SaturationAdjustmentOrange | 0 |
SaturationAdjustmentPurple | 0 |
SaturationAdjustmentRed | 0 |
SaturationAdjustmentYellow | -4 |
ScaleFactor35efl | 1.0 |
SceneCaptureType | Standard |
SerialNumber | 2631211041 |
Shadows | 8 |
ShadowTint | 0 |
SharpenDetail | 14 |
SharpenEdgeMasking | 0 |
SharpenRadius | +0.6 |
Sharpness | 139 |
ShutterSpeed | 1/1600 |
ShutterSpeedValue | 1/1600 |
SplitToningBalance | +42 |
SplitToningHighlightHue | 41 |
SplitToningHighlightSaturation | 48 |
SplitToningShadowHue | 236 |
SplitToningShadowSaturation | 39 |
Subject | Brusdalsvannet, Europa, Europe, Mønster, Møre og Romsdal, Norge, Norway, STEDER, is, striper, Ålesund kommune |
Tint | +6 |
ToneCurve | 0, 0, 32, 22, 64, 56, 128, 128, 192, 196, 255, 255 |
ToneCurveName | Medium Contrast |
Version | 5.3 |
Vibrance | +19 |
VignetteAmount | -29 |
VignetteMidpoint | 26 |
WhiteBalance (2) | Custom |
WhiteBalance | Auto |