Felt | Verdi |
AlreadyApplied | True |
Aperture | 4.0 |
ApertureValue | 4.0 |
Artist | Thomas Skjaeveland |
BitsPerSample | 8 |
BlueHue | 0 |
BlueSaturation | 0 |
Brightness | 0 |
By-line | Thomas Skjaeveland |
CameraProfile | Beta |
CFAPattern | [Red,Green][Green,Blue] |
ChromaticAberrationB | 0 |
ChromaticAberrationR | 0 |
CircleOfConfusion | 0.030 mm |
Clarity | 0 |
ColorComponents | 1 |
ColorNoiseReduction | 25 |
ColorTemperature | 5000 |
Contrast (2) | +56 |
Contrast | Normal |
ConvertToGrayscale | True |
Copyright | Thomas Skjaeveland |
CopyrightNotice | Thomas Skjaeveland |
CreateDate (1) | 2009:05:31 10:42:48.90+02:00 |
CreateDate | 2009:05:31 10:42:48 |
Creator | Thomas Skjaeveland |
CreatorTool | Adobe Photoshop Lightroom |
CropAngle | 0 |
CropBottom | 0.762091 |
CropHeight | 1985 |
CropLeft | 0.277945 |
CropRight | 0.978811 |
CropTop | 0.061225 |
CropUnit | pixels |
CropWidth | 2983 |
CustomRendered | Normal |
DateTimeDigitized | 2009:05:31 10:42:48.90+02:00 |
DateTimeOriginal (1) | 2009:05:31 10:42:48.90+02:00 |
DateTimeOriginal | 2009:05:31 10:42:48 |
Defringe | 0 |
DigitalZoomRatio | 1 |
ExifImageHeight | 2983 |
ExifImageWidth | 1985 |
Exposure | -1.00 |
ExposureCompensation | +1/3 |
ExposureMode | Manual |
ExposureProgram | Manual |
ExposureTime | 1/125 |
FillLight | 34 |
Flash | No Flash |
FlashFired | False |
FlashFunction | False |
FlashMode | Unknown |
FlashRedEyeMode | False |
FlashReturn | No return detection |
FNumber | 4.0 |
FocalLength | 62.0 mm |
FocalLength35efl | 62.0 mm (35 mm equivalent: 62.0 mm) |
FocalLengthIn35mmFormat | 62 mm |
FOV | 32.4 deg |
GainControl | High gain up |
GrayMixerAqua | -18 |
GrayMixerBlue | +10 |
GrayMixerGreen | -28 |
GrayMixerMagenta | +3 |
GrayMixerOrange | -20 |
GrayMixerPurple | +16 |
GrayMixerRed | -11 |
GrayMixerYellow | -24 |
GreenHue | 0 |
GreenSaturation | 0 |
HasCrop | True |
HasSettings | True |
HighlightRecovery | 42 |
HyperfocalDistance | 31.98 m |
ImageHeight | 2983 |
ImageNumber | 5440 |
ImageSize | 1985x2983 |
ImageWidth | 1985 |
ISO | 1600 |
Keywords | Barcelona, firmatur 2009 |
Lens | 24.0-70.0 mm f/2.8 |
LensInfo | 24-70mm f/2.8 |
LightSource | Unknown |
LightValue | 7.0 |
LuminanceSmoothing | 83 |
Make | NIKON CORPORATION |
MaxApertureValue | 2.8 |
Megapixels | 5.9 |
MeteringMode | Spot |
Model | NIKON D700 |
ModifyDate (1) | 2009:06:15 15:56:45+02:00 |
ModifyDate | 2009:06:15 15:56:45 |
PaintCorrectionActive | true |
PaintCorrectionAmount | 1.000000 |
PaintCorrectionBrightness | 0.000000 |
PaintCorrectionClarity (1) | 0.804878 |
PaintCorrectionClarity (2) | 0.512195 |
PaintCorrectionClarity | 0.000000 |
PaintCorrectionContrast | 0.000000 |
PaintCorrectionExposure (1) | 0.000000 |
PaintCorrectionExposure (2) | 0.040650 |
PaintCorrectionExposure | 0.382114 |
PaintCorrectionHue | 230.000000 |
PaintCorrectionMaskCenterWeight | 0.170391 |
PaintCorrectionMaskFlow | 1.000000 |
PaintCorrectionMaskRadius (2) | 0.186478 |
PaintCorrectionMaskRadius (3) | 0.107406 |
PaintCorrectionMaskRadius (4) | 0.074832 |
PaintCorrectionMaskRadius | 0.022469 |
PaintCorrectionMaskValue | 1.000000 |
PaintCorrectionMaskWhat | Mask/Paint |
PaintCorrectionSaturation | 0.000000 |
PaintCorrectionSharpness (2) | 0.317073 |
PaintCorrectionSharpness | 0.000000 |
PaintCorrectionWhat | Correction |
ParametricDarks | +18 |
ParametricHighlights | +44 |
ParametricHighlightSplit | 75 |
ParametricLights | +59 |
ParametricMidtoneSplit | 50 |
ParametricShadows | -61 |
ParametricShadowSplit | 25 |
PostCropVignetteAmount | 0 |
ProfileDescription | sRGB IEC61966-2.1 |
Rating | 3 |
RedHue | 0 |
RedSaturation | 0 |
Rights | Thomas Skjaeveland |
Saturation | Normal |
ScaleFactor35efl | 1.0 |
SceneCaptureType | Standard |
SceneType | Directly photographed |
SensingMethod | One-chip color area |
SerialNumber | 2118713 |
Shadows | 100 |
ShadowTint | 0 |
SharpenDetail | 25 |
SharpenEdgeMasking | 72 |
SharpenRadius | +1.0 |
Sharpness (2) | 90 |
Sharpness | Normal |
ShutterSpeed | 1/125 |
ShutterSpeedValue | 1/125 |
Software | Ver.1.00 |
SplitToningBalance | 0 |
SplitToningHighlightHue | 0 |
SplitToningHighlightSaturation | 0 |
SplitToningShadowHue | 0 |
SplitToningShadowSaturation | 0 |
Subject | Barcelona, firmatur 2009 |
SubjectDistanceRange | Unknown |
Tint | -11 |
ToneCurve | 0, 0, 32, 22, 64, 56, 128, 128, 192, 196, 255, 255 |
ToneCurveName | Medium Contrast |
Version | 4.5 |
VignetteAmount | 0 |
WhiteBalance (2) | As Shot |
WhiteBalance | Auto |