Felt | Verdi |
AlreadyApplied | True |
BitsPerSample | 8 |
BlueHue | 0 |
BlueSaturation | 0 |
Brightness | 0 |
By-line | Arnold Hoddevik |
CameraProfile | Embedded |
ChromaticAberrationB | 0 |
ChromaticAberrationR | 0 |
Clarity | 0 |
ColorComponents | 3 |
ColorNoiseReduction | 0 |
Contrast | 0 |
ConvertToGrayscale | False |
CopyrightFlag | True |
Creator | Arnold Hoddevik |
CreatorAddress | Fylling |
CreatorCity | Skodje |
CreatorCountry | Norway |
CreatorPostalCode | 6260 |
CreatorTool | Adobe Photoshop Lightroom |
CreatorWorkEmail | skrue2ah@adsl.no |
CreatorWorkTelephone | +4770275621 |
CreatorWorkURL | www.evyogarnold.no |
Defringe | 0 |
ExifImageHeight | 768 |
ExifImageWidth | 1156 |
Exposure | +0.67 |
FillLight | 17 |
GradientBasedCorrActive | true |
GradientBasedCorrAmount | 1.000000 |
GradientBasedCorrBrightness (1) | 0.200000 |
GradientBasedCorrBrightness | 0.375000 |
GradientBasedCorrClarity | 0.000000 |
GradientBasedCorrContrast | -0.025000 |
GradientBasedCorrExposure (1) | 0.350000 |
GradientBasedCorrExposure | 0.375000 |
GradientBasedCorrHue (1) | 4.000000 |
GradientBasedCorrHue | 160.000000 |
GradientBasedCorrMaskFullX (1) | 0.475050 |
GradientBasedCorrMaskFullX | -0.006986 |
GradientBasedCorrMaskFullY (1) | -0.025526 |
GradientBasedCorrMaskFullY | 0.672673 |
GradientBasedCorrMaskValue | 1.000000 |
GradientBasedCorrMaskWhat | Mask/Gradient |
GradientBasedCorrMaskZeroX (1) | 0.475050 |
GradientBasedCorrMaskZeroX | 0.485030 |
GradientBasedCorrMaskZeroY (1) | 0.638138 |
GradientBasedCorrMaskZeroY | 0.672673 |
GradientBasedCorrSaturation (1) | 0.225000 |
GradientBasedCorrSaturation (2) | 0.430000 |
GradientBasedCorrSaturation | 0.230000 |
GradientBasedCorrSharpness | 0.000000 |
GradientBasedCorrWhat | Correction |
GreenHue | 0 |
GreenSaturation | 0 |
HasCrop | False |
HasSettings | True |
HighlightRecovery | 25 |
HueAdjustmentAqua | 0 |
HueAdjustmentBlue | 0 |
HueAdjustmentGreen | 0 |
HueAdjustmentMagenta | 0 |
HueAdjustmentOrange | 0 |
HueAdjustmentPurple | 0 |
HueAdjustmentRed | 0 |
HueAdjustmentYellow | 0 |
ImageHeight | 768 |
ImageSize | 1156x768 |
ImageWidth | 1156 |
IncrementalTemperature | 0 |
IncrementalTint | 0 |
Keywords | Startrails |
LuminanceAdjustmentAqua | 0 |
LuminanceAdjustmentBlue | 0 |
LuminanceAdjustmentGreen | 0 |
LuminanceAdjustmentMagenta | 0 |
LuminanceAdjustmentOrange | 0 |
LuminanceAdjustmentPurple | 0 |
LuminanceAdjustmentRed | 0 |
LuminanceAdjustmentYellow | 0 |
LuminanceSmoothing | 0 |
Marked | True |
Megapixels | 0.888 |
ModifyDate (1) | 2009:11:12 21:31:28+01:00 |
ModifyDate | 2009:11:12 21:31:28 |
PaintCorrectionActive | true |
PaintCorrectionAmount | 1.000000 |
PaintCorrectionBrightness (1) | -0.075000 |
PaintCorrectionBrightness | -0.100000 |
PaintCorrectionClarity | 0.000000 |
PaintCorrectionContrast (1) | -0.225000 |
PaintCorrectionContrast | -0.025000 |
PaintCorrectionExposure (1) | -0.175000 |
PaintCorrectionExposure | -0.225000 |
PaintCorrectionHue (1) | 186.000000 |
PaintCorrectionHue | 342.000000 |
PaintCorrectionMaskCenterWeight (4) | 0.218559 |
PaintCorrectionMaskCenterWeight | 0.124420 |
PaintCorrectionMaskFlow (4) | 0.500000 |
PaintCorrectionMaskFlow | 1.000000 |
PaintCorrectionMaskRadius (5) | 0.064677 |
PaintCorrectionMaskRadius (8) | 0.011482 |
PaintCorrectionMaskRadius | 0.080600 |
PaintCorrectionMaskValue (3) | 1.000000 |
PaintCorrectionMaskValue | 0.000000 |
PaintCorrectionMaskWhat | Mask/Paint |
PaintCorrectionSaturation (1) | 0.225000 |
PaintCorrectionSaturation (2) | 0.010000 |
PaintCorrectionSaturation | 0.070000 |
PaintCorrectionSharpness | 0.000000 |
PaintCorrectionWhat | Correction |
ParametricDarks | +14 |
ParametricHighlights | -36 |
ParametricHighlightSplit | 75 |
ParametricLights | +8 |
ParametricMidtoneSplit | 50 |
ParametricShadows | -17 |
ParametricShadowSplit | 25 |
PostCropVignetteAmount | 0 |
ProfileDescription | sRGB IEC61966-2.1 |
RedHue | 0 |
RedSaturation | 0 |
Saturation | 0 |
SaturationAdjustmentAqua | 0 |
SaturationAdjustmentBlue | 0 |
SaturationAdjustmentGreen | 0 |
SaturationAdjustmentMagenta | 0 |
SaturationAdjustmentOrange | 0 |
SaturationAdjustmentPurple | 0 |
SaturationAdjustmentRed | 0 |
SaturationAdjustmentYellow | 0 |
Shadows | 0 |
ShadowTint | 0 |
SharpenDetail | 25 |
SharpenEdgeMasking | 0 |
SharpenRadius | +1.0 |
Sharpness | 0 |
SplitToningBalance | 0 |
SplitToningHighlightHue | 0 |
SplitToningHighlightSaturation | 0 |
SplitToningShadowHue | 0 |
SplitToningShadowSaturation | 0 |
Subject | Startrails |
ToneCurve | 0, 0, 255, 255 |
ToneCurveName | Linear |
Version | 5.5 |
Vibrance | 0 |
VignetteAmount | 0 |
WhiteBalance | As Shot |