Felt | Verdi |
AlreadyApplied | True |
Aperture | 9.5 |
ApertureValue | 9.5 |
Artist | El-K |
BitsPerSample | 8 |
BlueHue | 0 |
BlueSaturation | 0 |
Brightness | +77 |
By-line | El-K |
CameraProfile | Embedded |
ChromaticAberrationB | 0 |
ChromaticAberrationR | 0 |
CircleOfConfusion | 0.020 mm |
Clarity | +100 |
ColorComponents | 3 |
ColorNoiseReduction | 25 |
ColorTemperature | 7150 |
Contrast (2) | +100 |
Contrast | Normal |
ConvertToGrayscale | True |
Copyright | LasseKristiansen |
CopyrightNotice | LasseKristiansen |
CreateDate (1) | 2010:03:24 17:38:40+01:00 |
CreateDate | 2010:03:24 17:38:40 |
Creator | El-K |
CreatorTool | Adobe Photoshop Lightroom |
CropAngle | 1.4077 |
CropBottom | 1 |
CropHeight | 2994 |
CropLeft | 0.025706 |
CropRight | 0.974294 |
CropTop | 0 |
CropUnit | pixels |
CropWidth | 4506 |
CustomRendered | Normal |
DateTimeDigitized | 2010:03:24 17:38:40+01:00 |
DateTimeOriginal (1) | 2010:03:24 17:38:40+01:00 |
DateTimeOriginal | 2010:03:24 17:38:40 |
Defringe | 0 |
ExifImageHeight | 2994 |
ExifImageWidth | 4506 |
Exposure | -3.16 |
ExposureCompensation | 0 |
ExposureMode | Manual |
ExposureProgram | Manual |
ExposureTime | 1/15 |
FillLight | 100 |
Flash | Off, Did not fire |
FlashFired | False |
FlashFunction | False |
FlashMode | Off |
FlashRedEyeMode | False |
FlashReturn | No return detection |
FNumber | 9.5 |
FocalLength | 18.0 mm |
FocalLength35efl | 18.0 mm (35 mm equivalent: 27.0 mm) |
FocalLengthIn35mmFormat | 27 mm |
FOV | 67.4 deg |
GradientBasedCorrActive | true |
GradientBasedCorrAmount | 1.000000 |
GradientBasedCorrBrightness | 0.283000 |
GradientBasedCorrClarity | 1.000000 |
GradientBasedCorrContrast | 0.350000 |
GradientBasedCorrExposure | 0.000000 |
GradientBasedCorrHue | 36.000000 |
GradientBasedCorrMaskFullX | 0.436608 |
GradientBasedCorrMaskFullY | 0.732031 |
GradientBasedCorrMaskValue | 1.000000 |
GradientBasedCorrMaskWhat | Mask/Gradient |
GradientBasedCorrMaskZeroX | 0.449842 |
GradientBasedCorrMaskZeroY | 0.491531 |
GradientBasedCorrSaturation (1) | 0.683000 |
GradientBasedCorrSaturation | 0.030000 |
GradientBasedCorrSharpness | 0.600000 |
GradientBasedCorrWhat | Correction |
GrayMixerAqua | -18 |
GrayMixerBlue | +9 |
GrayMixerGreen | -27 |
GrayMixerMagenta | +4 |
GrayMixerOrange | -19 |
GrayMixerPurple | +15 |
GrayMixerRed | -10 |
GrayMixerYellow | -23 |
GreenHue | 0 |
GreenSaturation | 0 |
HasCrop | True |
HasSettings | True |
HighlightRecovery | 0 |
HyperfocalDistance | 1.70 m |
ImageHeight | 2994 |
ImageSize | 4506x2994 |
ImageWidth | 4506 |
ISO | 100 |
Keywords | portrett |
LensID (1) | 7 218 |
LensID | smc PENTAX-DA 18-55mm F3.5-5.6 AL WR |
LightValue | 10.4 |
LuminanceSmoothing | 74 |
Make | PENTAX |
Megapixels | 13.5 |
MeteringMode | Spot |
Model | PENTAX K-7 |
ModifyDate (1) | 2010:03:25 12:45:32+01:00 |
ModifyDate | 2010:03:25 12:45:32 |
PaintCorrectionActive | true |
PaintCorrectionAmount | 1.000000 |
PaintCorrectionBrightness | 0.283000 |
PaintCorrectionClarity | 1.000000 |
PaintCorrectionContrast | -0.050000 |
PaintCorrectionExposure | 0.250000 |
PaintCorrectionHue | 36.000000 |
PaintCorrectionMaskCenterWeight | 0.062337 |
PaintCorrectionMaskFlow | 1.000000 |
PaintCorrectionMaskRadius | 0.032121 |
PaintCorrectionMaskValue | 1.000000 |
PaintCorrectionMaskWhat | Mask/Paint |
PaintCorrectionSaturation (1) | 0.683000 |
PaintCorrectionSaturation | 0.030000 |
PaintCorrectionSharpness | 0.600000 |
PaintCorrectionWhat | Correction |
ParametricDarks | 0 |
ParametricHighlights | 0 |
ParametricHighlightSplit | 75 |
ParametricLights | 0 |
ParametricMidtoneSplit | 50 |
ParametricShadows | 0 |
ParametricShadowSplit | 25 |
PostCropVignetteAmount | -100 |
PostCropVignetteFeather | 0 |
PostCropVignetteMidpoint | 0 |
PostCropVignetteRoundness | -100 |
ProfileDescription | sRGB IEC61966-2.1 |
RedHue | 0 |
RedSaturation | 0 |
Rights | LasseKristiansen |
Saturation | Low |
ScaleFactor35efl | 1.5 |
SceneCaptureType | Standard |
SensingMethod | One-chip color area |
Shadows | 6 |
ShadowTint | 0 |
SharpenDetail | 43 |
SharpenEdgeMasking | 45 |
SharpenRadius | +2.8 |
Sharpness (2) | 140 |
Sharpness | Hard |
ShutterSpeed | 1/15 |
ShutterSpeedValue | 1/15 |
Software | K-7 Ver 1.00 |
SplitToningBalance | 0 |
SplitToningHighlightHue | 0 |
SplitToningHighlightSaturation | 0 |
SplitToningShadowHue | 0 |
SplitToningShadowSaturation | 0 |
Subject | portrett |
SubjectDistanceRange | Distant |
Tint | +4 |
ToneCurve | 0, 0, 32, 22, 64, 56, 128, 128, 192, 196, 255, 255 |
ToneCurveName | Medium Contrast |
Version | 5.3 |
VignetteAmount | +35 |
VignetteMidpoint | 100 |
WhiteBalance (2) | As Shot |
WhiteBalance | Manual |