Felt | Verdi |
AlreadyApplied | True |
Aperture | 11.0 |
ApertureValue | 11.0 |
BitsPerSample | 8 |
BlueHue | -6 |
BlueSaturation | -14 |
Brightness | +50 |
CameraProfile | ACR 4.4 |
ChromaticAberrationB | 0 |
ChromaticAberrationR | 0 |
CircleOfConfusion | 0.019 mm |
Clarity | +43 |
ColorComponents | 3 |
ColorMode | RGB |
ColorNoiseReduction | 25 |
ColorSpace | Uncalibrated |
ColorTemperature | 5400 |
Contrast | +100 |
ConvertToGrayscale | False |
CreateDate (1) | 2009:05:19 18:55:47.00+02:00 |
CreateDate | 2009:05:19 18:55:47 |
CropAngle | 0 |
CropBottom | 1 |
CropLeft | 0 |
CropRight | 0.946945 |
CropTop | 0.285887 |
CustomRendered | Normal |
DateTimeDigitized | 2009:05:19 18:55:47.00+02:00 |
DateTimeOriginal (1) | 2009:05:19 18:55:47.00+02:00 |
DateTimeOriginal | 2009:05:19 18:55:47 |
Defringe | 0 |
ExifImageHeight | 494 |
ExifImageWidth | 982 |
Exposure | -1.90 |
ExposureCompensation | 0 |
ExposureMode | Manual |
ExposureProgram | Manual |
ExposureTime | 1/40 |
FillLight | 34 |
Firmware | 1.0.8 |
Flash | Off, Did not fire |
FlashCompensation | 0 |
FlashFired | False |
FlashFunction | False |
FlashMode | Off |
FlashRedEyeMode | False |
FlashReturn | No return detection |
FNumber | 11.0 |
FocalLength | 37.0 mm |
FocalLength35efl | 37.0 mm (35 mm equivalent: 59.9 mm) |
Format | image/jpeg |
FOV | 33.5 deg |
GreenHue | -4 |
GreenSaturation | -22 |
HasCrop | True |
HasSettings | True |
HighlightRecovery | 100 |
HueAdjustmentAqua | 0 |
HueAdjustmentBlue | 0 |
HueAdjustmentGreen | +3 |
HueAdjustmentMagenta | 0 |
HueAdjustmentOrange | 0 |
HueAdjustmentPurple | 0 |
HueAdjustmentRed | 0 |
HueAdjustmentYellow | -10 |
HyperfocalDistance | 6.71 m |
ICCProfileName | Adobe RGB (1998) |
ImageHeight (1) | 1851 |
ImageHeight | 494 |
ImageNumber | 0 |
ImageSize | 982x494 |
ImageWidth (1) | 3682 |
ImageWidth | 982 |
ISO | 100 |
Lens | 17-50mm |
LensInfo | 17-50mm f/? |
LightValue | 12.2 |
LuminanceAdjustmentAqua | 0 |
LuminanceAdjustmentBlue | 0 |
LuminanceAdjustmentGreen | 0 |
LuminanceAdjustmentMagenta | 0 |
LuminanceAdjustmentOrange | 0 |
LuminanceAdjustmentPurple | 0 |
LuminanceAdjustmentRed | 0 |
LuminanceAdjustmentYellow | 0 |
LuminanceSmoothing | 0 |
Make | Canon |
MaxApertureValue | 2.8 |
Megapixels | 0.485 |
MeteringMode | Spot |
Model | Canon EOS 40D |
ModifyDate (1) | 2010:04:03 15:16:08+02:00 |
ModifyDate | 2010:04:03 15:16:08 |
Orientation | Horizontal (normal) |
ParametricDarks | +21 |
ParametricHighlights | +35 |
ParametricHighlightSplit | 75 |
ParametricLights | +12 |
ParametricMidtoneSplit | 50 |
ParametricShadows | -10 |
ParametricShadowSplit | 25 |
PostCropVignetteAmount | 0 |
ProfileDescription | Adobe RGB (1998) |
RawFileName | IMG_3211.CR2 |
RedHue | +5 |
RedSaturation | -3 |
Saturation | +46 |
SaturationAdjustmentAqua | 0 |
SaturationAdjustmentBlue | -62 |
SaturationAdjustmentGreen | -4 |
SaturationAdjustmentMagenta | 0 |
SaturationAdjustmentOrange | 0 |
SaturationAdjustmentPurple | 0 |
SaturationAdjustmentRed | 0 |
SaturationAdjustmentYellow | -19 |
ScaleFactor35efl | 1.6 |
SceneCaptureType | Standard |
SerialNumber | 1230735049 |
Shadows | 13 |
ShadowTint | +8 |
SharpenDetail | 25 |
SharpenEdgeMasking | 0 |
SharpenRadius | +1.0 |
Sharpness | 25 |
ShutterSpeed | 1/40 |
ShutterSpeedValue | 1/40 |
Software | Adobe Photoshop CS4 Windows |
SplitToningBalance | 0 |
SplitToningHighlightHue | 0 |
SplitToningHighlightSaturation | 0 |
SplitToningShadowHue | 0 |
SplitToningShadowSaturation | 0 |
Tint | -7 |
ToneCurve | 0, 0, 32, 22, 64, 56, 128, 128, 192, 196, 255, 255 |
ToneCurveName | Medium Contrast |
URL_List | |
Version | 5.0 |
Vibrance | +62 |
VignetteAmount | -26 |
VignetteMidpoint | 26 |
WhiteBalance (2) | Custom |
WhiteBalance | Auto |