Felt | Verdi |
AlreadyApplied | True |
Aperture | 1.4 |
ApertureValue | 1.4 |
Artist | Hans K. Aspenberg |
BitsPerSample | 8 |
BlueHue | 0 |
BlueSaturation | 0 |
Brightness | +50 |
By-line | Hans K. Aspenberg |
CameraProfile | Camera Landscape |
ChromaticAberrationB | 0 |
ChromaticAberrationR | 0 |
CircleOfConfusion | 0.031 mm |
Clarity | +25 |
ColorComponents | 3 |
ColorMode | RGB |
ColorNoiseReduction | 25 |
ColorNoiseReductionDetail | 50 |
ColorSpace | sRGB |
ColorTemperature | 4600 |
Contrast | 0 |
ConvertToGrayscale | False |
Copyright | (c) Hans K. aspenberg |
CopyrightNotice | (c) Hans K. aspenberg |
CreateDate (1) | 2010:08:21 16:20:36.45+02:00 |
CreateDate | 2010:08:21 16:20:36 |
Creator | Hans K. Aspenberg |
CreatorTool | Adobe Photoshop Lightroom |
CropAngle | 0 |
CropBottom | 0.791956 |
CropConstrainToWarp | 0 |
CropHeight | 1073 |
CropLeft | 0.27634 |
CropRight | 0.671904 |
CropTop | 0.393898 |
CropUnit | pixels |
CropWidth | 1600 |
CustomRendered | Normal |
DateTimeDigitized | 2010:08:21 16:20:36.45+02:00 |
DateTimeOriginal (1) | 2010:08:21 16:20:36.45+02:00 |
DateTimeOriginal | 2010:08:21 16:20:36 |
Defringe | 0 |
ExifImageHeight | 687 |
ExifImageWidth | 1024 |
Exposure | 0.00 |
ExposureCompensation | +2/3 |
ExposureMode | Auto |
ExposureProgram | Aperture-priority AE |
ExposureTime | 1/500 |
FillLight | 0 |
Firmware | 2.0.7 |
Flash | Off, Did not fire |
FlashCompensation | 0 |
FlashFired | False |
FlashFunction | False |
FlashMode | Off |
FlashRedEyeMode | False |
FlashReturn | No return detection |
FNumber | 1.4 |
FocalLength | 55.0 mm |
FocalLength35efl | 55.0 mm (35 mm equivalent: 53.7 mm) |
Format | image/jpeg |
FOV | 37.1 deg |
GrainAmount | 0 |
GreenHue | 0 |
GreenSaturation | 0 |
HasCrop | True |
HasSettings | True |
HighlightRecovery | 0 |
HueAdjustmentAqua | 0 |
HueAdjustmentBlue | 0 |
HueAdjustmentGreen | 0 |
HueAdjustmentMagenta | 0 |
HueAdjustmentOrange | 0 |
HueAdjustmentPurple | 0 |
HueAdjustmentRed | 0 |
HueAdjustmentYellow | 0 |
HyperfocalDistance | 70.18 m |
ICCProfileName | sRGB IEC61966-2.1 |
ImageHeight (1) | 1073 |
ImageHeight | 687 |
ImageNumber | 0 |
ImageSize | 1024x687 |
ImageWidth (1) | 1600 |
ImageWidth | 1024 |
ISO | 200 |
Lens | 55-55mm |
LensID (1) | 40 |
LensID | Canon EF 28-80mm f/3.5-5.6 |
LensInfo | 55mm f/? |
LensManualDistortionAmount | 0 |
LensProfileEnable | 1 |
LensProfileSetup | LensDefaults |
LightValue | 8.9 |
LuminanceAdjustmentAqua | 0 |
LuminanceAdjustmentBlue | 0 |
LuminanceAdjustmentGreen | 0 |
LuminanceAdjustmentMagenta | 0 |
LuminanceAdjustmentOrange | 0 |
LuminanceAdjustmentPurple | 0 |
LuminanceAdjustmentRed | 0 |
LuminanceAdjustmentYellow | 0 |
LuminanceSmoothing | 0 |
Make | Canon |
MaxApertureValue | 1.4 |
Megapixels | 0.703 |
MeteringMode | Multi-segment |
Model | Canon EOS 5D Mark II |
ModifyDate (1) | 2010:08:25 10:07:54+02:00 |
ModifyDate | 2010:08:25 10:07:54 |
Orientation | Horizontal (normal) |
OwnerName | Hans K. Aspenberg |
ParametricDarks | -5 |
ParametricHighlights | 0 |
ParametricHighlightSplit | 75 |
ParametricLights | +5 |
ParametricMidtoneSplit | 50 |
ParametricShadows | 0 |
ParametricShadowSplit | 25 |
PerspectiveHorizontal | 0 |
PerspectiveRotate | 0.0 |
PerspectiveScale | 100 |
PerspectiveVertical | 0 |
PostCropVignetteAmount | 0 |
ProcessVersion | 5.7 |
ProfileDescription | sRGB IEC61966-2.1 |
Rating | 2 |
RedHue | 0 |
RedSaturation | 0 |
Rights | (c) Hans K. aspenberg |
Saturation | 0 |
SaturationAdjustmentAqua | 0 |
SaturationAdjustmentBlue | 0 |
SaturationAdjustmentGreen | 0 |
SaturationAdjustmentMagenta | 0 |
SaturationAdjustmentOrange | 0 |
SaturationAdjustmentPurple | 0 |
SaturationAdjustmentRed | 0 |
SaturationAdjustmentYellow | 0 |
ScaleFactor35efl | 1.0 |
SceneCaptureType | Standard |
SerialNumber | 1430808666 |
Shadows | 3 |
ShadowTint | 0 |
SharpenDetail | 50 |
SharpenEdgeMasking | 50 |
SharpenRadius | +0.5 |
Sharpness | 70 |
ShutterSpeed | 1/500 |
ShutterSpeedValue | 1/500 |
Software | Adobe Photoshop CS4 Windows |
SplitToningBalance | 0 |
SplitToningHighlightHue | 0 |
SplitToningHighlightSaturation | 0 |
SplitToningShadowHue | 0 |
SplitToningShadowSaturation | 0 |
Tint | +11 |
ToneCurve | 0, 0, 32, 22, 64, 56, 128, 128, 192, 196, 255, 255 |
ToneCurveName | Medium Contrast |
URL_List | |
Version | 6.1 |
Vibrance | +10 |
VignetteAmount | 0 |
WhiteBalance (2) | As Shot |
WhiteBalance | Auto |