Felt | Verdi |
AlreadyApplied | True |
Aperture | 2.0 |
ApertureValue | 2.0 |
BitsPerSample | 8 |
BlueHue | 0 |
BlueSaturation | 0 |
Brightness | +50 |
CameraProfile | Adobe Standard |
ChromaticAberrationB | 0 |
ChromaticAberrationR | 0 |
CircleOfConfusion | 0.019 mm |
Clarity | 0 |
ColorComponents | 3 |
ColorMode | RGB |
ColorNoiseReduction | 25 |
ColorSpace | Uncalibrated |
ColorTemperature | 2750 |
Contrast | +62 |
ConvertToGrayscale | False |
CreateDate (1) | 2010:10:27 22:08:28.68+02:00 |
CreateDate | 2010:10:27 22:08:28 |
CustomRendered | Normal |
DateTimeDigitized | 2010:10:27 22:08:28.68+02:00 |
DateTimeOriginal (1) | 2010:10:27 22:08:28.68+02:00 |
DateTimeOriginal | 2010:10:27 22:08:28 |
Defringe | 0 |
ExifImageHeight | 5184 |
ExifImageWidth | 3456 |
Exposure | +0.55 |
ExposureCompensation | 0 |
ExposureMode | Manual |
ExposureProgram | Manual |
ExposureTime | 1/125 |
FillLight | 0 |
Firmware | 1.1.0 |
Flash | Off, Did not fire |
FlashCompensation | 0 |
FlashFired | False |
FlashFunction | False |
FlashMode | Off |
FlashRedEyeMode | False |
FlashReturn | No return detection |
FNumber | 2.0 |
FocalLength | 35.0 mm |
FocalLength35efl | 35.0 mm (35 mm equivalent: 55.0 mm) |
Format | image/jpeg |
FOV | 36.3 deg |
GrainAmount | 0 |
GreenHue | 0 |
GreenSaturation | 0 |
HasCrop | False |
HasSettings | True |
HighlightRecovery | 100 |
HueAdjustmentAqua | 0 |
HueAdjustmentBlue | 0 |
HueAdjustmentGreen | 0 |
HueAdjustmentMagenta | 0 |
HueAdjustmentOrange | 0 |
HueAdjustmentPurple | 0 |
HueAdjustmentRed | 0 |
HueAdjustmentYellow | 0 |
HyperfocalDistance | 32.01 m |
ImageHeight | 5184 |
ImageNumber | 0 |
ImageSize | 3456x5184 |
ImageWidth | 3456 |
ISO | 2000 |
Lens | EF35mm f/2 |
LensID (1) | 11 |
LensID | Canon EF 35mm f/2 |
LensInfo | 35mm f/? |
LightValue | 4.6 |
LuminanceAdjustmentAqua | 0 |
LuminanceAdjustmentBlue | 0 |
LuminanceAdjustmentGreen | 0 |
LuminanceAdjustmentMagenta | 0 |
LuminanceAdjustmentOrange | 0 |
LuminanceAdjustmentPurple | 0 |
LuminanceAdjustmentRed | 0 |
LuminanceAdjustmentYellow | 0 |
LuminanceSmoothing | 0 |
Make | Canon |
MaxApertureValue | 2.0 |
Megapixels | 17.9 |
MeteringMode | Multi-segment |
Model | Canon EOS 7D |
ModifyDate (1) | 2010:10:29 04:52:35+02:00 |
ModifyDate | 2010:10:29 04:52:35 |
Orientation | Horizontal (normal) |
ParametricDarks | 0 |
ParametricHighlights | 0 |
ParametricHighlightSplit | 75 |
ParametricLights | 0 |
ParametricMidtoneSplit | 50 |
ParametricShadows | 0 |
ParametricShadowSplit | 25 |
PostCropVignetteAmount | 0 |
ProcessVersion | 5.0 |
Rating | 0 |
RawFileName | IMG_9247.CR2 |
RedHue | 0 |
RedSaturation | 0 |
Saturation | 0 |
SaturationAdjustmentAqua | 0 |
SaturationAdjustmentBlue | 0 |
SaturationAdjustmentGreen | 0 |
SaturationAdjustmentMagenta | 0 |
SaturationAdjustmentOrange | 0 |
SaturationAdjustmentPurple | 0 |
SaturationAdjustmentRed | 0 |
SaturationAdjustmentYellow | 0 |
ScaleFactor35efl | 1.6 |
SceneCaptureType | Standard |
SerialNumber | 530502826 |
Shadows | 5 |
ShadowTint | 0 |
SharpenDetail | 25 |
SharpenEdgeMasking | 0 |
SharpenRadius | +1.0 |
Sharpness | 25 |
ShutterSpeed | 1/125 |
ShutterSpeedValue | 1/125 |
Software | Adobe Photoshop CS4 Macintosh |
SplitToningBalance | 0 |
SplitToningHighlightHue | 0 |
SplitToningHighlightSaturation | 0 |
SplitToningShadowHue | 0 |
SplitToningShadowSaturation | 0 |
Tint | +5 |
ToneCurve | 0, 0, 32, 22, 64, 56, 128, 128, 192, 196, 255, 255 |
ToneCurveName | Medium Contrast |
URL_List | |
Version | 5.7 |
Vibrance | 0 |
VignetteAmount | 0 |
WhiteBalance (2) | Custom |
WhiteBalance | Manual |