Felt | Verdi |
AlreadyApplied | True |
Aperture | 4.0 |
ApertureValue | 4.0 |
Artist | Erlend Krumsvik |
BitsPerSample | 8 |
BlueHue | 0 |
BlueSaturation | 0 |
Brightness | +17 |
By-line | Erlend Krumsvik |
CameraProfile | Adobe Standard |
ChromaticAberrationB | 0 |
ChromaticAberrationR | 0 |
CircleOfConfusion | 0.027 mm |
City | McKinley Park |
Clarity | 0 |
ColorComponents | 3 |
ColorNoiseReduction | 25 |
ColorNoiseReductionDetail | 50 |
ColorSpace | Uncalibrated |
ColorTemperature | 6700 |
Contrast (2) | +17 |
Contrast | Normal |
ConvertToGrayscale | False |
Copyright | Naturlegvis/Erlend Krumsvik |
CopyrightFlag | True |
CopyrightNotice | Naturlegvis/Erlend Krumsvik |
Country | United States |
Country-PrimaryLocationName | United States |
CreateDate | 2010:09:06 21:07:30 |
Creator | Erlend Krumsvik |
CreatorAddress | Øvrevegen 19 |
CreatorCity | Volda |
CreatorCountry | Norway |
CreatorPostalCode | 6100 |
CreatorTool | Adobe Photoshop Lightroom |
CreatorWorkEmail | erlend@naturlegvis.no |
CustomRendered | Normal |
DateTimeDigitized | 2010:09:06 21:07:30.19+02:00 |
DateTimeOriginal | 2010:09:06 21:07:30 |
Defringe | 0 |
DOF | 6.99 m (68.58 - 75.56 m) |
ExifImageHeight | 683 |
ExifImageWidth | 1024 |
Exposure | +0.41 |
ExposureCompensation | 0 |
ExposureMode | Auto |
ExposureProgram | Aperture-priority AE |
ExposureTime | 1/125 |
FillLight | 7 |
Firmware | 1.0.6 |
Flash | Off, Did not fire |
FlashCompensation | 0 |
FlashFired | False |
FlashFunction | False |
FlashMode | Off |
FlashRedEyeMode | False |
FlashReturn | No return detection |
FNumber | 4.0 |
FocalLength | 400.0 mm |
FocalLength35efl | 400.0 mm (35 mm equivalent: 443.2 mm) |
FOV | 4.7 deg |
GeotateGRL | {d3b6a8e5-8889-474a-957c-f53c00e70472} |
GPSAltitude (1) | 591.665952890792 m |
GPSAltitude | 591.6 m Above Sea Level |
GPSAltitudeRef | Above Sea Level |
GPSDateStamp | 2010:09:07 |
GPSDateTime (1) | 2010:09:07 00:21:02 |
GPSDateTime | 2010:09:07 00:21:02Z |
GPSLatitude (1) | 63 deg 44' 45.57" N |
GPSLatitude | |
GPSLatitudeRef | North |
GPSLongitude (1) | 148 deg 53' 57.49" W |
GPSLongitude (2) | |
GPSLongitude | 0 deg 0' 0.00" E |
GPSLongitudeRef | West |
GPSMapDatum | WGS-84 |
GPSPosition | , 0 deg 0' 0.00" E |
GPSTimeStamp | 00:21:02 |
GPSVersionID | 2 2 0 0 |
GrainAmount | 0 |
GreenHue | 0 |
GreenSaturation | 0 |
HasCrop | False |
HasSettings | True |
HighlightRecovery | 25 |
HueAdjustmentAqua | 0 |
HueAdjustmentBlue | 0 |
HueAdjustmentGreen | 0 |
HueAdjustmentMagenta | 0 |
HueAdjustmentOrange | 0 |
HueAdjustmentPurple | 0 |
HueAdjustmentRed | 0 |
HueAdjustmentYellow | 0 |
HyperfocalDistance | 1475.22 m |
ImageHeight | 683 |
ImageNumber | 0 |
ImageSize | 1024x683 |
ImageWidth | 1024 |
ISO | 3200 |
Keywords | George Parks Hwy, AK-3, McKinley Park, Alaska, United States |
Lens | 400 |
LensID (1) | 191 |
LensID | Canon EF 400mm f/4 DO IS |
LensInfo | 400mm f/? |
LensManualDistortionAmount | 0 |
LensModel | 400 |
LensProfileEnable | 0 |
LensProfileSetup | LensDefaults |
LightValue | 6.0 |
Location | George Parks Hwy, AK-3 |
LuminanceAdjustmentAqua | 0 |
LuminanceAdjustmentBlue | 0 |
LuminanceAdjustmentGreen | 0 |
LuminanceAdjustmentMagenta | 0 |
LuminanceAdjustmentOrange | 0 |
LuminanceAdjustmentPurple | 0 |
LuminanceAdjustmentRed | 0 |
LuminanceAdjustmentYellow | 0 |
LuminanceSmoothing | 0 |
Make | Canon |
Marked | True |
MaxApertureValue | 4.0 |
Megapixels | 0.699 |
MeteringMode | Multi-segment |
Model | Canon EOS-1D Mark IV |
ModifyDate (1) | 2010:12:12 18:05:47+01:00 |
ModifyDate | 2010:12:12 18:05:47 |
OwnerName | |
ParametricDarks | 0 |
ParametricHighlights | 0 |
ParametricHighlightSplit | 75 |
ParametricLights | 0 |
ParametricMidtoneSplit | 50 |
ParametricShadows | 0 |
ParametricShadowSplit | 25 |
PerspectiveHorizontal | 0 |
PerspectiveRotate | 0.0 |
PerspectiveScale | 100 |
PerspectiveVertical | 0 |
PostCropVignetteAmount | 0 |
ProcessVersion | 5.7 |
ProfileDescription | sRGB IEC61966-2.1 |
Province-State | Alaska |
RedHue | 0 |
RedSaturation | 0 |
Rights | Naturlegvis/Erlend Krumsvik |
Saturation (2) | 0 |
Saturation | Normal |
SaturationAdjustmentAqua | 0 |
SaturationAdjustmentBlue | 0 |
SaturationAdjustmentGreen | 0 |
SaturationAdjustmentMagenta | 0 |
SaturationAdjustmentOrange | 0 |
SaturationAdjustmentPurple | 0 |
SaturationAdjustmentRed | 0 |
SaturationAdjustmentYellow | 0 |
ScaleFactor35efl | 1.1 |
SceneCaptureType | Standard |
SensitivityType | Unknown |
SerialNumber | 420300421 |
Shadows | 19 |
ShadowTint | 0 |
SharpenDetail | 25 |
SharpenEdgeMasking | 0 |
SharpenRadius | +1.0 |
Sharpness (2) | 64 |
Sharpness | Unknown (3) |
ShutterSpeed | 1/125 |
ShutterSpeedValue | 1/125 |
SplitToningBalance | 0 |
SplitToningHighlightHue | 0 |
SplitToningHighlightSaturation | 0 |
SplitToningShadowHue | 0 |
SplitToningShadowSaturation | 0 |
State | Alaska |
Sub-location | George Parks Hwy, AK-3 |
Subject | George Parks Hwy, AK-3, McKinley Park, Alaska, United States |
SubjectDistance | 71.9 m |
Tint | +17 |
ToneCurve | 0, 0, 32, 22, 64, 56, 128, 128, 192, 196, 255, 255 |
ToneCurveName | Medium Contrast |
UsageTerms | Opphavsretten tilhører fotografen, og bildene leveres med reproduksjonsrett for en gangs bruk om ikke annet er avtalt. |
UserComment | |
Version | 6.2 |
Vibrance | +31 |
VignetteAmount | 0 |
WhiteBalance (2) | As Shot |
WhiteBalance | Auto |