Felt | Verdi |
AlreadyApplied | True |
Aperture | 4.5 |
ApertureValue | 4.5 |
ApproximateFocusDistance | 3.55 |
Artist | Baard Einar Karlsen |
BitsPerSample | 8 |
BlueHue | +100 |
BlueSaturation | +100 |
Brightness | +50 |
By-line | Baard Einar Karlsen |
CameraProfile | Embedded |
ChromaticAberrationB | 0 |
ChromaticAberrationR | 0 |
CircleOfConfusion | 0.020 mm |
Clarity | +36 |
ColorComponents | 3 |
ColorNoiseReduction | 25 |
ColorNoiseReductionDetail | 50 |
Contrast (2) | +25 |
Contrast | Normal |
ConvertToGrayscale | False |
Copyright | Baard E Karlsen |
CopyrightNotice | Baard E Karlsen |
CreateDate (1) | 2011:01:09 11:26:47.42+01:00 |
CreateDate | 2011:01:09 11:26:47 |
Creator | Baard Einar Karlsen |
CreatorTool | Adobe Photoshop Lightroom 3.3 |
CropAngle | 0 |
CropBottom | 0.92126 |
CropConstrainToWarp | 0 |
CropHeight | 274 |
CropLeft | 0.023278 |
CropRight | 0.955383 |
CropTop | 0.110236 |
CropUnit | pixels |
CropWidth | 1280 |
CustomRendered | Normal |
DateCreated (1) | 2011:01:09 |
DateCreated | 2011:01:09 11:26:47.042 |
DateTimeDigitized | 2011:01:09 11:26:47.42+01:00 |
DateTimeOriginal (1) | 2011:01:09 11:26:47.42+01:00 |
DateTimeOriginal | 2011:01:09 11:26:47 |
Defringe | 0 |
DigitalZoomRatio | 1 |
DOF | 4.98 m (2.34 - 7.32 m) |
ExifImageHeight | 274 |
ExifImageWidth | 1280 |
Exposure | +0.41 |
ExposureCompensation | +4/3 |
ExposureMode | Manual |
ExposureProgram | Manual |
ExposureTime | 1/25 |
FillLight | 50 |
Flash | No Flash |
FlashFired | False |
FlashFunction | False |
FlashMode | Unknown |
FlashRedEyeMode | False |
FlashReturn | No return detection |
FNumber | 4.5 |
FocalLength | 25.0 mm |
FocalLength35efl | 25.0 mm (35 mm equivalent: 37.0 mm) |
FocalLengthIn35mmFormat | 37 mm |
Format | image/tiff |
FOV | 51.9 deg |
GainControl | Low gain up |
GradientBasedCorrActive | true |
GradientBasedCorrAmount | 1.000000 |
GradientBasedCorrBrightness | 0.000000 |
GradientBasedCorrClarity | 0.390000 |
GradientBasedCorrContrast | 0.390000 |
GradientBasedCorrExposure | -0.317000 |
GradientBasedCorrHue | 0.000000 |
GradientBasedCorrMaskFullX | 0.509031 |
GradientBasedCorrMaskFullY | 0.165099 |
GradientBasedCorrMaskValue | 1.000000 |
GradientBasedCorrMaskWhat | Mask/Gradient |
GradientBasedCorrMaskZeroX | 0.514587 |
GradientBasedCorrMaskZeroY | 0.694741 |
GradientBasedCorrSaturation (1) | 0.098000 |
GradientBasedCorrSaturation | 0.000000 |
GradientBasedCorrSharpness | 0.000000 |
GradientBasedCorrWhat | Correction |
GrainAmount | 0 |
GreenHue | -100 |
GreenSaturation | -100 |
HasCrop | True |
HasSettings | True |
HighlightRecovery | 100 |
HueAdjustmentAqua | 0 |
HueAdjustmentBlue | 0 |
HueAdjustmentGreen | 0 |
HueAdjustmentMagenta | 0 |
HueAdjustmentOrange | +29 |
HueAdjustmentPurple | 0 |
HueAdjustmentRed | +81 |
HueAdjustmentYellow | +5 |
HyperfocalDistance | 6.84 m |
ImageHeight | 274 |
ImageNumber | 6934 |
ImageSize | 1280x274 |
ImageWidth | 1280 |
IncrementalTemperature | -2 |
IncrementalTint | -11 |
ISO | 400 |
Lens | 16.0-85.0 mm f/3.5-5.6 |
LensID (1) | 153 |
LensID | AF-S DX VR Zoom-Nikkor 16-85mm f/3.5-5.6G ED |
LensInfo | 16-85mm f/3.5-5.6 |
LensManualDistortionAmount | 0 |
LensModel | 16.0-85.0 mm f/3.5-5.6 |
LensProfileEnable | 0 |
LensProfileSetup | LensDefaults |
LightSource | Unknown |
LightValue | 7.0 |
LuminanceAdjustmentAqua | -100 |
LuminanceAdjustmentBlue | 0 |
LuminanceAdjustmentGreen | +100 |
LuminanceAdjustmentMagenta | 0 |
LuminanceAdjustmentOrange | +100 |
LuminanceAdjustmentPurple | 0 |
LuminanceAdjustmentRed | +100 |
LuminanceAdjustmentYellow | +95 |
LuminanceNoiseReductionContrast | 0 |
LuminanceNoiseReductionDetail | 50 |
LuminanceSmoothing | 41 |
Make | NIKON CORPORATION |
MaxApertureValue | 4.0 |
Megapixels | 0.351 |
MeteringMode | Spot |
Model | NIKON D300S |
ModifyDate (1) | 2011:01:17 11:56:08+01:00 |
ModifyDate | 2011:01:17 11:56:08 |
ParametricDarks | 0 |
ParametricHighlights | -54 |
ParametricHighlightSplit | 75 |
ParametricLights | 0 |
ParametricMidtoneSplit | 50 |
ParametricShadows | 0 |
ParametricShadowSplit | 25 |
PerspectiveHorizontal | 0 |
PerspectiveRotate | 0.0 |
PerspectiveScale | 100 |
PerspectiveVertical | 0 |
PostCropVignetteAmount | +10 |
PostCropVignetteFeather | 50 |
PostCropVignetteMidpoint | 50 |
PostCropVignetteRoundness | 0 |
PostCropVignetteStyle | 1 |
ProcessVersion | 5.7 |
ProfileDescription | sRGB IEC61966-2.1 |
RedHue | +100 |
RedSaturation | -69 |
Rights | Baard E Karlsen |
Saturation (2) | -100 |
Saturation | Normal |
SaturationAdjustmentAqua | -100 |
SaturationAdjustmentBlue | -100 |
SaturationAdjustmentGreen | -100 |
SaturationAdjustmentMagenta | -100 |
SaturationAdjustmentOrange | -100 |
SaturationAdjustmentPurple | -100 |
SaturationAdjustmentRed | -100 |
SaturationAdjustmentYellow | -100 |
ScaleFactor35efl | 1.5 |
SceneCaptureType | Standard |
SceneType | Directly photographed |
SensingMethod | One-chip color area |
SensitivityType | Unknown |
SerialNumber | 6008021 |
Shadows | 15 |
ShadowTint | +100 |
SharpenDetail | 35 |
SharpenEdgeMasking | 0 |
SharpenRadius | +0.8 |
Sharpness (2) | 67 |
Sharpness | Normal |
ShutterSpeed | 1/25 |
ShutterSpeedValue | 1/25 |
Software | Ver.1.00 |
SplitToningBalance | 0 |
SplitToningHighlightHue | 47 |
SplitToningHighlightSaturation | 10 |
SplitToningShadowHue | 231 |
SplitToningShadowSaturation | 10 |
SubjectDistance | 3.55 m |
SubjectDistanceRange | Unknown |
ToneCurve | 0, 0, 255, 255 |
ToneCurveName | Linear |
Version | 6.3 |
Vibrance | -100 |
VignetteAmount | +26 |
VignetteMidpoint | 67 |
WhiteBalance (2) | Custom |
WhiteBalance | Auto |