Felt | Verdi |
AlreadyApplied | True |
Aperture | 5.6 |
ApertureValue | 5.6 |
BitsPerSample | 8 |
BlueHue | +21 |
BlueSaturation | +79 |
Brightness | +32 |
CameraProfile | Adobe Standard |
CFAPattern | [Blue,Green][Green,Red] |
ChromaticAberrationB | 0 |
ChromaticAberrationR | 0 |
CircleOfConfusion | 0.020 mm |
Clarity | +43 |
ColorComponents | 3 |
ColorNoiseReduction | 25 |
ColorTemperature | 6881 |
Contrast (2) | +9 |
Contrast | High |
ConvertToGrayscale | False |
CreateDate (1) | 2011:01:20 11:08:54.10+01:00 |
CreateDate | 2011:01:20 11:08:54 |
CreatorTool | Adobe Photoshop Lightroom |
CropAngle | 1.125 |
CropBottom | 0.997766 |
CropHeight | 1024 |
CropLeft | 0.110711 |
CropRight | 0.311546 |
CropTop | 0.37695 |
CropUnit | pixels |
CropWidth | 523 |
CustomRendered | Normal |
DateTimeDigitized | 2011:01:20 11:08:54.10+01:00 |
DateTimeOriginal (1) | 2011:01:20 11:08:54.10+01:00 |
DateTimeOriginal | 2011:01:20 11:08:54 |
Defringe | 0 |
DigitalZoomRatio | 1 |
DOF | inf (356.59 m - inf) |
ExifImageHeight | 1024 |
ExifImageWidth | 523 |
Exposure | +0.57 |
ExposureCompensation | 0 |
ExposureMode | Auto |
ExposureProgram | Aperture-priority AE |
ExposureTime | 1/160 |
FillLight | 20 |
Flash | No Flash |
FlashFired | False |
FlashFunction | False |
FlashMode | Unknown |
FlashRedEyeMode | False |
FlashReturn | No return detection |
FNumber | 5.6 |
FocalLength | 200.0 mm |
FocalLength35efl | 200.0 mm (35 mm equivalent: 300.0 mm) |
FocalLengthIn35mmFormat | 300 mm |
FOV | 6.9 deg |
GainControl | Low gain up |
GreenHue | 0 |
GreenSaturation | 0 |
HasCrop | True |
HasSettings | True |
HighlightRecovery | 29 |
HueAdjustmentAqua | 0 |
HueAdjustmentBlue | 0 |
HueAdjustmentGreen | 0 |
HueAdjustmentMagenta | 0 |
HueAdjustmentOrange | 0 |
HueAdjustmentPurple | 0 |
HueAdjustmentRed | 0 |
HueAdjustmentYellow | 0 |
HyperfocalDistance | 356.59 m |
ImageHeight | 1024 |
ImageNumber | 8357 |
ImageSize | 523x1024 |
ImageWidth | 523 |
ISO | 400 |
Lens | 55.0-200.0 mm f/4.0-5.6 |
LensID (1) | 144 |
LensID | AF-S DX VR Zoom-Nikkor 55-200mm f/4-5.6G IF-ED |
LensInfo | 55-200mm f/4-5.6 |
LightSource | Unknown |
LightValue | 10.3 |
LuminanceAdjustmentAqua | 0 |
LuminanceAdjustmentBlue | 0 |
LuminanceAdjustmentGreen | 0 |
LuminanceAdjustmentMagenta | 0 |
LuminanceAdjustmentOrange | 0 |
LuminanceAdjustmentPurple | 0 |
LuminanceAdjustmentRed | 0 |
LuminanceAdjustmentYellow | 0 |
LuminanceSmoothing | 0 |
Make | NIKON CORPORATION |
MaxApertureValue | 5.7 |
Megapixels | 0.536 |
MeteringMode | Multi-segment |
Model | NIKON D40 |
ModifyDate (1) | 2011:01:20 22:37:19+01:00 |
ModifyDate | 2011:01:20 22:37:19 |
ParametricDarks | +21 |
ParametricHighlights | 0 |
ParametricHighlightSplit | 75 |
ParametricLights | +100 |
ParametricMidtoneSplit | 50 |
ParametricShadows | +19 |
ParametricShadowSplit | 25 |
PostCropVignetteAmount | 0 |
ProfileDescription | sRGB IEC61966-2.1 |
RedHue | 0 |
RedSaturation | 0 |
Saturation (2) | 0 |
Saturation | High |
SaturationAdjustmentAqua | 0 |
SaturationAdjustmentBlue | 0 |
SaturationAdjustmentGreen | 0 |
SaturationAdjustmentMagenta | 0 |
SaturationAdjustmentOrange | 0 |
SaturationAdjustmentPurple | 0 |
SaturationAdjustmentRed | 0 |
SaturationAdjustmentYellow | 0 |
ScaleFactor35efl | 1.5 |
SceneCaptureType | Standard |
SceneType | Directly photographed |
SensingMethod | One-chip color area |
SerialNumber | 6211346 |
Shadows | 0 |
ShadowTint | 0 |
SharpenDetail | 25 |
SharpenEdgeMasking | 0 |
SharpenRadius | +1.0 |
Sharpness (2) | 48 |
Sharpness | Hard |
ShutterSpeed | 1/160 |
ShutterSpeedValue | 1/160 |
Software | Ver.1.10 |
SplitToningBalance | 0 |
SplitToningHighlightHue | 0 |
SplitToningHighlightSaturation | 0 |
SplitToningShadowHue | 0 |
SplitToningShadowSaturation | 0 |
SubjectDistance | 4294967295 m |
SubjectDistanceRange | Unknown |
Tint | -11 |
ToneCurve | 0, 0, 32, 22, 64, 56, 128, 128, 192, 196, 255, 255 |
ToneCurveName | Medium Contrast |
Version | 5.6 |
Vibrance | 0 |
VignetteAmount | 0 |
WhiteBalance (2) | Custom |
WhiteBalance | Auto |