Felt | Verdi |
AlreadyApplied | True |
Aperture | 4.0 |
ApertureValue | 4.0 |
ApproximateFocusDistance | 7.94 |
BitsPerSample | 8 |
BlueHue | +100 |
BlueSaturation | +100 |
Brightness | +50 |
CameraProfile | ACR 3.4 |
Caption-Abstract | OLYMPUS DIGITAL CAMERA |
CFAPattern | [Red,Green][Green,Blue] |
ChromaticAberrationB | 0 |
ChromaticAberrationR | 0 |
CircleOfConfusion | 0.015 mm |
Clarity | +26 |
ColorComponents | 3 |
ColorNoiseReduction | 25 |
ColorNoiseReductionDetail | 50 |
ColorTemperature | 4900 |
Contrast (1) | +100 |
Contrast | High |
ConvertToGrayscale | False |
CreateDate | 2011:09:09 14:17:25 |
CreatorTool | Adobe Photoshop Lightroom 3.4.1 |
CropAngle | 0 |
CropBottom | 0.886211 |
CropConstrainToWarp | 0 |
CropHeight | 2675 |
CropLeft | 0.000841 |
CropRight | 0.885421 |
CropTop | 0.00163 |
CropUnit | pixels |
CropWidth | 3567 |
CustomRendered | Normal |
DateCreated (1) | 2011:09:09 |
DateCreated | 2011:09:09 14:17:25 |
DateTimeOriginal | 2011:09:09 14:17:25 |
Defringe | 0 |
Description | OLYMPUS DIGITAL CAMERA |
DigitalZoomRatio | 1 |
DOF | 28.71 m (4.51 - 33.22 m) |
Exposure | +0.24 |
ExposureCompensation | -0.7 |
ExposureMode | Manual |
ExposureProgram | Program AE |
ExposureTime | 1/500 |
FillLight | 20 |
Flash | Auto, Did not fire |
FlashCompensation | 0 |
FNumber | 4.0 |
FocalLength | 25.0 mm |
FocalLength35efl | 25.0 mm (35 mm equivalent: 50.0 mm) |
FocalLengthIn35mmFormat | 50 mm |
FOV | 39.6 deg |
GainControl | High gain up |
GrainAmount | 0 |
GreenHue | -100 |
GreenSaturation | -100 |
HasCrop | True |
HasSettings | True |
HighlightRecovery | 100 |
HueAdjustmentAqua | 0 |
HueAdjustmentBlue | 0 |
HueAdjustmentGreen | 0 |
HueAdjustmentMagenta | 0 |
HueAdjustmentOrange | +29 |
HueAdjustmentPurple | 0 |
HueAdjustmentRed | +81 |
HueAdjustmentYellow | +5 |
HyperfocalDistance | 10.40 m |
ImageDescription | OLYMPUS DIGITAL CAMERA |
ImageHeight | 2675 |
ImageSize | 3567x2675 |
ImageWidth | 3567 |
ISO | 400 |
Lens | LEICA DG SUMMILUX 25/F1.4 |
LensInfo | 25mm f/1.4 |
LensManualDistortionAmount | 0 |
LensModel | LEICA DG SUMMILUX 25/F1.4 |
LensProfileEnable | 0 |
LensProfileSetup | LensDefaults |
LensSerialNumber | 11081100273 |
LightSource | Unknown |
LightValue | 11.0 |
LuminanceAdjustmentAqua | -100 |
LuminanceAdjustmentBlue | 0 |
LuminanceAdjustmentGreen | +100 |
LuminanceAdjustmentMagenta | 0 |
LuminanceAdjustmentOrange | +100 |
LuminanceAdjustmentPurple | 0 |
LuminanceAdjustmentRed | +100 |
LuminanceAdjustmentYellow | +95 |
LuminanceNoiseReductionContrast | 0 |
LuminanceNoiseReductionDetail | 50 |
LuminanceSmoothing | 15 |
Make | OLYMPUS IMAGING CORP. |
MaxApertureValue | 1.4 |
Megapixels | 9.5 |
MeteringMode | Multi-segment |
Model | E-P2 |
ModifyDate (1) | 2011:09:10 11:01:53+02:00 |
ModifyDate | 2011:09:10 11:01:53 |
ParametricDarks | +11 |
ParametricHighlights | 0 |
ParametricHighlightSplit | 75 |
ParametricLights | +39 |
ParametricMidtoneSplit | 50 |
ParametricShadows | +32 |
ParametricShadowSplit | 25 |
PerspectiveHorizontal | 0 |
PerspectiveRotate | 0.0 |
PerspectiveScale | 100 |
PerspectiveVertical | 0 |
PostCropVignetteAmount | 0 |
ProcessVersion | 5.7 |
ProfileDescription | Adobe RGB (1998) |
Rating | 5 |
RedHue | +100 |
RedSaturation | -69 |
Saturation (1) | -100 |
Saturation | Normal |
SaturationAdjustmentAqua | -100 |
SaturationAdjustmentBlue | -100 |
SaturationAdjustmentGreen | -100 |
SaturationAdjustmentMagenta | -100 |
SaturationAdjustmentOrange | -100 |
SaturationAdjustmentPurple | -100 |
SaturationAdjustmentRed | -100 |
SaturationAdjustmentYellow | -100 |
ScaleFactor35efl | 2.0 |
SceneCaptureType | Standard |
SerialNumber | H88511766 |
Shadows | 27 |
ShadowTint | +100 |
SharpenDetail | 25 |
SharpenEdgeMasking | 0 |
SharpenRadius | +1.0 |
Sharpness (1) | 39 |
Sharpness | Normal |
ShutterSpeed | 1/500 |
ShutterSpeedValue | 1/500 |
Software | Adobe Photoshop Lightroom 3.4.1 |
SplitToningBalance | 0 |
SplitToningHighlightHue | 47 |
SplitToningHighlightSaturation | 10 |
SplitToningShadowHue | 231 |
SplitToningShadowSaturation | 10 |
SubjectDistance | 7.94 m |
Tint | 0 |
ToneCurve | 0, 0, 32, 22, 64, 56, 128, 128, 192, 196, 255, 255 |
ToneCurveName | Medium Contrast |
Version | 6.4.1 |
Vibrance | -100 |
VignetteAmount | +26 |
VignetteMidpoint | 67 |
WhiteBalance (1) | Custom |
WhiteBalance | Auto |