Felt | Verdi |
AlreadyApplied | True |
Aperture | 13.0 |
ApertureValue | 13.0 |
ApproximateFocusDistance | 5.01 |
Artist | Per Börjeson |
BitsPerSample | 8 |
BlueHue | 0 |
BlueSaturation | 0 |
Brightness | 0 |
By-line | Per Börjeson |
CameraProfile | Embedded |
Caption-Abstract | An old farmhouse building outside Nannestad. |
ChromaticAberrationB | 0 |
ChromaticAberrationR | 0 |
CircleOfConfusion | 0.020 mm |
City | Nannestad |
Clarity | +17 |
ColorComponents | 3 |
ColorNoiseReduction | 0 |
Contrast (1) | 0 |
Contrast | Normal |
ConvertToGrayscale | False |
Copyright | Per Börjeson © 2011 |
CopyrightFlag | True |
CopyrightNotice | Per Börjeson © 2011 |
Country | Norway |
Country-PrimaryLocationCode | NO |
Country-PrimaryLocationName | Norway |
CountryCode | NO |
CreateDate (1) | 2011:04:13 17:49:13.17+02:00 |
CreateDate | 2011:04:13 17:49:13 |
Creator | Per Börjeson |
CreatorAddress | Hasselvegen 19 |
CreatorCity | Nannestad |
CreatorCountry | Norway |
CreatorPostalCode | N-2030 |
CreatorTool | Adobe Photoshop Lightroom 3.4.1 |
CreatorWorkEmail | per.borjeson@gmail.com |
CropAngle | 0 |
CropBottom | 0.850806 |
CropConstrainToWarp | 0 |
CropHeight | 1024 |
CropLeft | 0 |
CropRight | 1 |
CropTop | 0 |
CropUnit | pixels |
CropWidth | 799 |
CustomRendered | Normal |
DateCreated | 2011:04:13 |
DateTimeOriginal | 2011:04:13 17:49:13 |
Defringe | 0 |
Description | An old farmhouse building outside Nannestad. |
DigitalZoomRatio | 1 |
DOF | inf (1.61 m - inf) |
Exposure | 0.00 |
ExposureCompensation | +2 |
ExposureMode | Auto |
ExposureProgram | Aperture-priority AE |
ExposureTime | 0.3 |
FillLight | 0 |
Flash | No Flash |
FNumber | 13.0 |
FocalLength | 25.0 mm |
FocalLength35efl | 25.0 mm (35 mm equivalent: 37.0 mm) |
FocalLengthIn35mmFormat | 37 mm |
Format | application/vnd.adobe.photoshop |
FOV | 51.9 deg |
GainControl | None |
GradientBasedCorrActive | true |
GradientBasedCorrAmount | 1.000000 |
GradientBasedCorrBrightness (1) | -0.098000 |
GradientBasedCorrBrightness | 0.000000 |
GradientBasedCorrClarity | 0.000000 |
GradientBasedCorrContrast | 0.000000 |
GradientBasedCorrExposure (1) | -0.197000 |
GradientBasedCorrExposure | 0.000000 |
GradientBasedCorrHue (1) | 230.000000 |
GradientBasedCorrHue | 50.000000 |
GradientBasedCorrMaskFullX (1) | 0.500000 |
GradientBasedCorrMaskFullX | 0.551680 |
GradientBasedCorrMaskFullY (1) | 0.001715 |
GradientBasedCorrMaskFullY | 0.851664 |
GradientBasedCorrMaskValue | 1.000000 |
GradientBasedCorrMaskWhat | Mask/Gradient |
GradientBasedCorrMaskZeroX (1) | 0.500000 |
GradientBasedCorrMaskZeroX | 0.551680 |
GradientBasedCorrMaskZeroY (1) | 0.421115 |
GradientBasedCorrMaskZeroY | 0.669838 |
GradientBasedCorrSaturation (2) | 0.000000 |
GradientBasedCorrSaturation | 0.329000 |
GradientBasedCorrSharpness | 0.000000 |
GradientBasedCorrWhat | Correction |
GrainAmount | 0 |
GreenHue | 0 |
GreenSaturation | 0 |
HasCrop | True |
HasSettings | True |
HighlightRecovery | 6 |
HueAdjustmentAqua | 0 |
HueAdjustmentBlue | 0 |
HueAdjustmentGreen | 0 |
HueAdjustmentMagenta | 0 |
HueAdjustmentOrange | 0 |
HueAdjustmentPurple | 0 |
HueAdjustmentRed | 0 |
HueAdjustmentYellow | 0 |
HyperfocalDistance | 2.37 m |
ImageDescription | An old farmhouse building outside Nannestad. |
ImageHeight | 1024 |
ImageNumber | 1497 |
ImageSize | 799x1024 |
ImageWidth | 799 |
IncrementalTemperature | 0 |
IncrementalTint | 0 |
IntellectualGenre | Landscape |
ISO | 200 |
Lens | 16.0-85.0 mm f/3.5-5.6 |
LensID (1) | 153 |
LensID | AF-S DX VR Zoom-Nikkor 16-85mm f/3.5-5.6G ED |
LensInfo | 16-85mm f/3.5-5.6 |
LensManualDistortionAmount | 0 |
LensModel | 16.0-85.0 mm f/3.5-5.6 |
LensProfileEnable | 0 |
LensProfileSetup | LensDefaults |
LightSource | Unknown |
LightValue | 8.0 |
Location | Langset |
LuminanceAdjustmentAqua | 0 |
LuminanceAdjustmentBlue | 0 |
LuminanceAdjustmentGreen | 0 |
LuminanceAdjustmentMagenta | 0 |
LuminanceAdjustmentOrange | 0 |
LuminanceAdjustmentPurple | 0 |
LuminanceAdjustmentRed | 0 |
LuminanceAdjustmentYellow | 0 |
LuminanceSmoothing | 0 |
Make | NIKON CORPORATION |
Marked | True |
MaxApertureValue | 4.0 |
Megapixels | 0.818 |
MeteringMode | Multi-segment |
Model | NIKON D300S |
ModifyDate (1) | 2011:08:11 00:21:52+02:00 |
ModifyDate | 2011:08:11 00:21:52 |
ObjectName | The Abandoned House |
ParametricDarks | 0 |
ParametricHighlights | 0 |
ParametricHighlightSplit | 75 |
ParametricLights | 0 |
ParametricMidtoneSplit | 50 |
ParametricShadows | 0 |
ParametricShadowSplit | 25 |
PerspectiveHorizontal | 0 |
PerspectiveRotate | 0.0 |
PerspectiveScale | 100 |
PerspectiveVertical | 0 |
PostCropVignetteAmount | -20 |
PostCropVignetteFeather | 88 |
PostCropVignetteHighlightContrast | 0 |
PostCropVignetteMidpoint | 50 |
PostCropVignetteRoundness | 0 |
PostCropVignetteStyle | 1 |
ProcessVersion | 5.7 |
ProfileDescription | sRGB IEC61966-2.1 |
Province-State | Akershus |
RedHue | 0 |
RedSaturation | 0 |
Rights | Per Börjeson © 2011 |
Saturation (1) | 0 |
Saturation | Normal |
SaturationAdjustmentAqua | 0 |
SaturationAdjustmentBlue | 0 |
SaturationAdjustmentGreen | 0 |
SaturationAdjustmentMagenta | 0 |
SaturationAdjustmentOrange | 0 |
SaturationAdjustmentPurple | 0 |
SaturationAdjustmentRed | 0 |
SaturationAdjustmentYellow | 0 |
ScaleFactor35efl | 1.5 |
SceneCaptureType | Standard |
SceneType | Directly photographed |
SensingMethod | One-chip color area |
SerialNumber | 6065763 |
Shadows | 0 |
ShadowTint | 0 |
SharpenDetail | 25 |
SharpenEdgeMasking | 87 |
SharpenRadius | +1.0 |
Sharpness (1) | 15 |
Sharpness | Normal |
ShutterSpeed | 0.3 |
ShutterSpeedValue | 0.3 |
Software | Adobe Photoshop Lightroom 3.4.1 |
SplitToningBalance | 0 |
SplitToningHighlightHue | 0 |
SplitToningHighlightSaturation | 0 |
SplitToningShadowHue | 0 |
SplitToningShadowSaturation | 0 |
State | Akershus |
Sub-location | Langset |
SubjectDistance | 5.01 m |
SubjectDistanceRange | Unknown |
Title | The Abandoned House |
ToneCurve | 0, 0, 255, 255 |
ToneCurveName | Linear |
UsageTerms | All rights reserved |
Version | 6.4.1 |
Vibrance | 0 |
VignetteAmount | 0 |
WhiteBalance (1) | As Shot |
WhiteBalance | Auto |