Felt | Verdi |
AlreadyApplied | True |
Aperture | 8.0 |
ApertureValue | 8.0 |
ApproximateFocusDistance | 4294967295 |
Artist | Stian Olsen-Dahl |
BitsPerSample | 8 |
BlueHue | 0 |
BlueSaturation | 0 |
Brightness | +50 |
By-line | Stian Olsen-Dahl |
CameraProfile | Camera Standard |
ChromaticAberrationB | 0 |
ChromaticAberrationR | 0 |
CircleOfConfusion | 0.019 mm |
Clarity | +63 |
ColorComponents | 3 |
ColorNoiseReduction | 43 |
ColorNoiseReductionDetail | 50 |
ColorTemperature | 2230 |
Contrast | +25 |
ConvertToGrayscale | False |
Copyright | Copyright: Stian Olsen-Dahl |
CopyrightNotice | Copyright: Stian Olsen-Dahl |
CreateDate (1) | 2012:02:10 02:23:02.14 |
CreateDate | 2012:02:10 02:23:02 |
Creator | Stian Olsen-Dahl |
CreatorTool | Adobe Photoshop Lightroom 3.4.1 |
CropAngle | 0.343498 |
CropBottom | 0.896864 |
CropConstrainToWarp | 0 |
CropHeight | 2808 |
CropLeft | 0.113763 |
CropRight | 0.996458 |
CropTop | 0.002658 |
CropUnit | pixels |
CropWidth | 4211 |
CustomRendered | Normal |
DateCreated (1) | 2012:02:10 |
DateCreated | 2012:02:10 02:23:02.14 |
DateTimeOriginal | 2012:02:10 02:23:02 |
Defringe | 0 |
DOF | inf (2.14 m - inf) |
Exposure | 0.00 |
ExposureCompensation | 0 |
ExposureMode | Manual |
ExposureProgram | Manual |
ExposureTime | 57 |
FillLight | 49 |
Firmware | 1.1.1 |
Flash | Off, Did not fire |
FlashCompensation | 0 |
FNumber | 8.0 |
FocalLength | 18.0 mm |
FocalLength35efl | 18.0 mm (35 mm equivalent: 28.6 mm) |
FOV | 64.4 deg |
GradientBasedCorrActive | true |
GradientBasedCorrAmount | 1.000000 |
GradientBasedCorrBrightness | 0.000000 |
GradientBasedCorrClarity | 0.000000 |
GradientBasedCorrContrast | 0.683000 |
GradientBasedCorrExposure | -0.146000 |
GradientBasedCorrHue | 240.000000 |
GradientBasedCorrMaskFullX | 0.463192 |
GradientBasedCorrMaskFullY | 0.300221 |
GradientBasedCorrMaskValue | 1.000000 |
GradientBasedCorrMaskWhat | Mask/Gradient |
GradientBasedCorrMaskZeroX | 0.461050 |
GradientBasedCorrMaskZeroY | 0.506929 |
GradientBasedCorrSaturation (1) | -0.122000 |
GradientBasedCorrSaturation | 0.000000 |
GradientBasedCorrSharpness | 0.000000 |
GradientBasedCorrWhat | Correction |
GrainAmount | 0 |
GreenHue | 0 |
GreenSaturation | 0 |
HasCrop | True |
HasSettings | True |
HighlightRecovery | 26 |
HueAdjustmentAqua | 0 |
HueAdjustmentBlue | 0 |
HueAdjustmentGreen | 0 |
HueAdjustmentMagenta | 0 |
HueAdjustmentOrange | 0 |
HueAdjustmentPurple | 0 |
HueAdjustmentRed | 0 |
HueAdjustmentYellow | 0 |
HyperfocalDistance | 2.14 m |
ImageHeight | 2808 |
ImageNumber | 0 |
ImageSize | 4211x2808 |
ImageWidth | 4211 |
ISO | 100 |
Keywords | Natt, Norge, Norway, Porsgrunn, Vestfold |
Lens | EF-S18-55mm f/3.5-5.6 IS |
LensID (1) | 48 |
LensID | Canon EF-S 18-55mm f/3.5-5.6 IS |
LensInfo | 18-55mm f/? |
LensManualDistortionAmount | 0 |
LensModel | EF-S18-55mm f/3.5-5.6 IS |
LensProfileChromaticAberrationScale | 100 |
LensProfileDistortionScale | 100 |
LensProfileEnable | 1 |
LensProfileFilename | Canon EOS 50D (Canon EF-S 18-55mm f3.5-5.6 IS) - RAW.lcp |
LensProfileName | Adobe (Canon EF-S 18-55mm f/3.5-5.6 IS) |
LensProfileSetup | LensDefaults |
LensProfileVignettingScale | 100 |
LightValue | 0.2 |
LuminanceAdjustmentAqua | 0 |
LuminanceAdjustmentBlue | 0 |
LuminanceAdjustmentGreen | 0 |
LuminanceAdjustmentMagenta | 0 |
LuminanceAdjustmentOrange | 0 |
LuminanceAdjustmentPurple | 0 |
LuminanceAdjustmentRed | 0 |
LuminanceAdjustmentYellow | 0 |
LuminanceNoiseReductionContrast | 0 |
LuminanceNoiseReductionDetail | 50 |
LuminanceSmoothing | 8 |
Make | Canon |
MaxApertureValue | 4.0 |
Megapixels | 11.8 |
MeteringMode | Multi-segment |
Model | Canon EOS 500D |
ModifyDate (1) | 2012:02:10 16:32:11+01:00 |
ModifyDate | 2012:02:10 16:32:11 |
OwnerName | Stian Olsen-Dahl |
PaintCorrectionActive | true |
PaintCorrectionAmount | 1.000000 |
PaintCorrectionBrightness | 0.000000 |
PaintCorrectionClarity | 0.000000 |
PaintCorrectionContrast | 0.000000 |
PaintCorrectionExposure (1) | -0.080460 |
PaintCorrectionExposure | 0.057471 |
PaintCorrectionHue | 240.000000 |
PaintCorrectionMaskCenterWeight | 0.000000 |
PaintCorrectionMaskFlow | 1.000000 |
PaintCorrectionMaskRadius (1) | 0.032281 |
PaintCorrectionMaskRadius | 0.189886 |
PaintCorrectionMaskValue | 0.357000 |
PaintCorrectionMaskWhat | Mask/Paint |
PaintCorrectionSaturation | 0.000000 |
PaintCorrectionSharpness | 0.000000 |
PaintCorrectionWhat | Correction |
ParametricDarks | -9 |
ParametricHighlights | -45 |
ParametricHighlightSplit | 75 |
ParametricLights | +35 |
ParametricMidtoneSplit | 50 |
ParametricShadows | -92 |
ParametricShadowSplit | 25 |
PerspectiveHorizontal | 0 |
PerspectiveRotate | 0.0 |
PerspectiveScale | 100 |
PerspectiveVertical | 0 |
PostCropVignetteAmount | 0 |
ProcessVersion | 5.7 |
ProfileDescription | sRGB IEC61966-2.1 |
Rating | 3 |
RedHue | 0 |
RedSaturation | 0 |
Rights | Copyright: Stian Olsen-Dahl |
Saturation | 0 |
SaturationAdjustmentAqua | 0 |
SaturationAdjustmentBlue | 0 |
SaturationAdjustmentGreen | 0 |
SaturationAdjustmentMagenta | 0 |
SaturationAdjustmentOrange | 0 |
SaturationAdjustmentPurple | 0 |
SaturationAdjustmentRed | 0 |
SaturationAdjustmentYellow | 0 |
ScaleFactor35efl | 1.6 |
SceneCaptureType | Standard |
SerialNumber | 1950768701 |
Shadows | 0 |
ShadowTint | 0 |
SharpenDetail | 46 |
SharpenEdgeMasking | 72 |
SharpenRadius | +0.5 |
Sharpness | 64 |
ShutterSpeed | 57 |
ShutterSpeedValue | 57 |
Software | Adobe Photoshop Lightroom 3.4.1 |
SplitToningBalance | 0 |
SplitToningHighlightHue | 0 |
SplitToningHighlightSaturation | 0 |
SplitToningShadowHue | 0 |
SplitToningShadowSaturation | 0 |
Subject | Natt, Norge, Norway, Porsgrunn, Vestfold |
SubjectDistance | 4294967295 m |
Tint | 0 |
ToneCurve | 0, 0, 32, 22, 64, 56, 128, 128, 192, 196, 255, 255 |
ToneCurveName | Medium Contrast |
Version | 6.4.1 |
Vibrance | -17 |
VignetteAmount | 0 |
WhiteBalance (1) | Custom |
WhiteBalance | Auto |