Felt | Verdi |
AlreadyApplied | True |
Aperture | 2.0 |
ApertureValue | 2.0 |
ApproximateFNumber | 2.0 |
BaseISO | 160 |
BitsPerSample | 8 |
BlueBalance | 0.741223 |
BlueHue | 0 |
BlueSaturation | 0 |
Brightness | +50 |
CameraProfile | Adobe Standard |
CameraTemperature | 23 C |
ChromaticAberrationB | 0 |
ChromaticAberrationR | 0 |
CircleOfConfusion | 0.030 mm |
Clarity | +36 |
ColorComponents | 1 |
ColorNoiseReduction | 25 |
ColorNoiseReductionDetail | 50 |
ColorTemperature | 4950 |
Contrast (1) | +25 |
Contrast | Normal |
ConvertToGrayscale | True |
CreateDate (1) | 2012:07:14 17:17:51+02:00 |
CreateDate | 2012:07:14 17:17:51 |
CreatorTool | Adobe Photoshop Lightroom 3.3 |
CropAngle | 0 |
CropBottom | 1 |
CropConstrainToWarp | 0 |
CropHeight | 532 |
CropLeft | 0.038189 |
CropRight | 0.952689 |
CropTop | 0.085501 |
CropUnit | pixels |
CropWidth | 800 |
DateTimeDigitized | 2012:07:14 17:17:51+02:00 |
DateTimeOriginal (1) | 2012:07:14 17:17:51+02:00 |
DateTimeOriginal | 2012:07:14 17:17:51 |
Defringe | 0 |
DigitalZoomRatio | 0 |
ExifImageHeight | 532 |
ExifImageWidth | 800 |
Exposure | +1.00 |
ExposureCompensation | 0 |
ExposureMode | Manual |
ExposureProgram | Manual |
ExposureTime | 1/125 |
ExternalSensorBrightnessValue | 1.28 |
FillLight | 19 |
FirmwareVersion | 1.176 |
Flash | No Flash |
FlashFired | False |
FlashFunction | False |
FlashMode | Unknown |
FlashRedEyeMode | False |
FlashReturn | No return detection |
FNumber | 2.0 |
FocalLength | 50.0 mm |
FocalLength35efl | 50.0 mm (35 mm equivalent: 50.0 mm) |
FocalLengthIn35mmFormat | 50 mm |
FOV | 39.6 deg |
GrainAmount | 0 |
GrayMixerAqua | -18 |
GrayMixerBlue | +11 |
GrayMixerGreen | -27 |
GrayMixerMagenta | +4 |
GrayMixerOrange | -19 |
GrayMixerPurple | +16 |
GrayMixerRed | -10 |
GrayMixerYellow | -23 |
GreenHue | 0 |
GreenSaturation | 0 |
HasCrop | True |
HasSettings | True |
HighlightRecovery | 0 |
HyperfocalDistance | 41.60 m |
ImageHeight | 532 |
ImageSize | 800x532 |
ImageWidth | 800 |
ISO | 800 |
JPEGQuality | Fine |
JPEGSize | 5216x3472 |
Lens | Leica Summilux-M 50mm f/1.4 ASPH. |
LensID (1) | 32 |
LensID | Leica Summilux-M 50mm f/1.4 ASPH. |
LensManualDistortionAmount | 0 |
LensModel | Leica Summilux-M 50mm f/1.4 ASPH. |
LensProfileEnable | 0 |
LensProfileSetup | LensDefaults |
LensType | Summilux-M 50mm f/1.4 ASPH. |
LightSource | Unknown |
LightValue | 6.0 |
LuminanceSmoothing | 0 |
Make | Leica Camera AG |
MakerNoteSafety | Safe |
MaxApertureValue | 1.4 |
MeasuredLV | 3.32 |
Megapixels | 0.426 |
MeteringMode | Center-weighted average |
Model | M9 Digital Camera |
ModifyDate (1) | 2012:07:18 23:03:42+02:00 |
ModifyDate | 2012:07:18 23:03:42 |
ParametricDarks | 0 |
ParametricHighlights | 0 |
ParametricHighlightSplit | 75 |
ParametricLights | 0 |
ParametricMidtoneSplit | 50 |
ParametricShadows | 0 |
ParametricShadowSplit | 25 |
PerspectiveHorizontal | 0 |
PerspectiveRotate | 0.0 |
PerspectiveScale | 100 |
PerspectiveVertical | 0 |
PostCropVignetteAmount | 0 |
ProcessVersion | 5.7 |
ProfileDescription | sRGB IEC61966-2.1 |
RedBalance | 0.442883 |
RedHue | 0 |
RedSaturation | 0 |
Saturation | Normal |
ScaleFactor35efl | 1.0 |
SceneCaptureType | Standard |
SceneType | Directly photographed |
SensitivityType | Unknown |
SensorBitDepth | 14 |
SensorHeight | 3516 |
SensorWidth | 5270 |
SerialNumber | 4340484 |
Shadows | 17 |
ShadowTint | 0 |
SharpenDetail | 25 |
SharpenEdgeMasking | 0 |
Sharpening | Normal |
SharpenRadius | +1.0 |
Sharpness | 54 |
ShutterSpeed | 1/125 |
ShutterSpeedValue | 1/125 |
Software | 1.176 |
SplitToningBalance | 0 |
SplitToningHighlightHue | 0 |
SplitToningHighlightSaturation | 0 |
SplitToningShadowHue | 0 |
SplitToningShadowSaturation | 0 |
Tint | +16 |
ToneCurve | 0, 0, 32, 22, 64, 56, 128, 128, 192, 196, 255, 255 |
ToneCurveName | Medium Contrast |
UserProfile | Profile 1 |
Version | 6.3 |
VignetteAmount | 0 |
WB_RGBLevels | 0.4428826296 1 0.741223308 |
WhiteBalance (3) | As Shot |
WhiteBalance | Auto |