Felt | Verdi |
AlreadyApplied | True |
Aperture | 11.0 |
ApertureValue | 11.0 |
ApproximateFocusDistance | 1.93 |
Artist | John Einar Sandvand |
AutoLateralCA | 0 |
BitsPerSample | 8 |
BlackClip | 0.000000 |
Blacks2012 | 0 |
BlueHue | 0 |
BlueSaturation | 0 |
By-line | John Einar Sandvand |
CameraProfile | Embedded |
Clarity2012 | +50 |
ColorComponents | 3 |
ColorNoiseReduction | 0 |
ColorSaturation | 69.0 |
ColorTemperature | 0.0 |
Contrast2012 | +10 |
ConvertToGrayscale | False |
Copyright | John Einar Sandvand |
CopyrightNotice | John Einar Sandvand |
CreateDate (1) | 2012:08:04 17:45:45.30+02:00 |
CreateDate | 2012:08:04 17:45:45 |
Creator | John Einar Sandvand |
CreatorTool | Adobe Photoshop Lightroom 4.1 (Windows) |
DateCreated (1) | 2012:08:04 |
DateCreated | 2012:08:04 17:45:45.30+02:00 |
DateTimeOriginal | 2012:08:04 17:45:45 |
DefringeGreenAmount | 0 |
DefringeGreenHueHi | 60 |
DefringeGreenHueLo | 40 |
DefringePurpleAmount | 0 |
DefringePurpleHueHi | 70 |
DefringePurpleHueLo | 30 |
Exposure2012 | +0.60 |
ExposureTime | 1/80 |
Firmware | 2.1.1 |
FlashCompensation | 0 |
FNumber | 11.0 |
FocalLength | 24.0 mm |
FocalLength35efl | 24.0 mm |
Format | image/jpeg |
Gamma | 1.00 |
GradientBasedCorrActive | true |
GradientBasedCorrAmount | 1.000000 |
GradientBasedCorrBrightness | 0.000000 |
GradientBasedCorrClarity2012 (1) | 0.333330 |
GradientBasedCorrClarity2012 | 0.000000 |
GradientBasedCorrContrast2012 (1) | 0.356320 |
GradientBasedCorrContrast2012 | 0.000000 |
GradientBasedCorrDefringe | 0.000000 |
GradientBasedCorrExposure2012 (1) | -0.425250 |
GradientBasedCorrExposure2012 (2) | -0.517250 |
GradientBasedCorrExposure2012 (3) | 0.034500 |
GradientBasedCorrExposure2012 | -0.195500 |
GradientBasedCorrHighlights2012 | 0.034480 |
GradientBasedCorrHue | 0.000000 |
GradientBasedCorrLuminanceNoise | 0.000000 |
GradientBasedCorrMaskFullX (1) | 0.476551 |
GradientBasedCorrMaskFullX (2) | 0.040847 |
GradientBasedCorrMaskFullX (3) | 1.000000 |
GradientBasedCorrMaskFullX | 0.475038 |
GradientBasedCorrMaskFullY (1) | -0.002273 |
GradientBasedCorrMaskFullY (2) | 0.988636 |
GradientBasedCorrMaskFullY (3) | 1.000000 |
GradientBasedCorrMaskFullY | 0.997727 |
GradientBasedCorrMaskValue | 1.000000 |
GradientBasedCorrMaskWhat | Mask/Gradient |
GradientBasedCorrMaskZeroX (2) | 0.104387 |
GradientBasedCorrMaskZeroX (3) | 0.598936 |
GradientBasedCorrMaskZeroX | 0.475038 |
GradientBasedCorrMaskZeroY (1) | 0.470455 |
GradientBasedCorrMaskZeroY (2) | 0.638636 |
GradientBasedCorrMaskZeroY (3) | -0.000684 |
GradientBasedCorrMaskZeroY | 0.497727 |
GradientBasedCorrMoire | 0.000000 |
GradientBasedCorrSaturation (5) | 0.632180 |
GradientBasedCorrSaturation | 0.000000 |
GradientBasedCorrShadows2012 | 0.000000 |
GradientBasedCorrSharpness | 0.000000 |
GradientBasedCorrTemperature | 0.000000 |
GradientBasedCorrTint | 0.000000 |
GradientBasedCorrWhat | Correction |
GrainAmount | 0 |
GreenHue | 0 |
GreenSaturation | 0 |
HasCrop | False |
HasSettings | True |
Highlights2012 | 0 |
HighlightsSmoothing | 0.0 |
HueAdjustmentAqua | 0 |
HueAdjustmentBlue | 0 |
HueAdjustmentGreen | 0 |
HueAdjustmentMagenta | 0 |
HueAdjustmentOrange | 0 |
HueAdjustmentPurple | 0 |
HueAdjustmentRed | 0 |
HueAdjustmentYellow | 0 |
ImageHeight | 3415 |
ImageNumber | 0 |
ImageSize | 5128x3415 |
ImageWidth | 5128 |
IncrementalTemperature | 0 |
IncrementalTint | +5 |
ISO | 400 |
IsPano360 | No |
Lens | EF24-105mm f/4L IS USM |
LensID | 237 |
LensInfo | 24-105mm f/? |
LensManualDistortionAmount | 0 |
LensModel | EF24-105mm f/4L IS USM |
LensProfileEnable | 0 |
LensProfileSetup | LensDefaults |
LightValue | 11.2 |
LuminanceAdjustmentAqua | 0 |
LuminanceAdjustmentBlue | 0 |
LuminanceAdjustmentGreen | 0 |
LuminanceAdjustmentMagenta | 0 |
LuminanceAdjustmentOrange | 0 |
LuminanceAdjustmentPurple | 0 |
LuminanceAdjustmentRed | 0 |
LuminanceAdjustmentYellow | 0 |
LuminanceSmoothing | 0 |
Luminosity | -4.8 |
Megapixels | 17.5 |
Method | Details Enhancer |
Microcontrast | 6.7 |
Microsmoothing | 2.0 |
Model | Canon EOS 5D Mark II |
ModifyDate (1) | 2012:08:04 22:44:52+02:00 |
ModifyDate | 2012:08:04 22:44:52 |
ParametricDarks | 0 |
ParametricHighlights | 0 |
ParametricHighlightSplit | 75 |
ParametricLights | 0 |
ParametricMidtoneSplit | 50 |
ParametricShadows | 0 |
ParametricShadowSplit | 25 |
PerspectiveHorizontal | 0 |
PerspectiveRotate | 0.0 |
PerspectiveScale | 100 |
PerspectiveVertical | 0 |
PostCropVignetteAmount | -31 |
PostCropVignetteFeather | 50 |
PostCropVignetteHighlightContrast | 0 |
PostCropVignetteMidpoint | 50 |
PostCropVignetteRoundness | 0 |
PostCropVignetteStyle | 1 |
ProcessVersion | 6.7 |
ProfileDescription | sRGB IEC61966-2.1 |
Rating | 4 |
RedHue | 0 |
RedSaturation | 0 |
Rights | John Einar Sandvand |
Saturation | +12 |
SaturationAdjustmentAqua | 0 |
SaturationAdjustmentBlue | 0 |
SaturationAdjustmentGreen | 0 |
SaturationAdjustmentMagenta | 0 |
SaturationAdjustmentOrange | 0 |
SaturationAdjustmentPurple | 0 |
SaturationAdjustmentRed | 0 |
SaturationAdjustmentYellow | 0 |
SaturationHighlights | 0.0 |
SaturationShadows | 0.0 |
SerialNumber | 3331601075 |
Shadows2012 | +52 |
ShadowsClipping | 0.0 |
ShadowsSmoothing | 0.0 |
ShadowTint | 0 |
SharpenDetail | 65 |
SharpenEdgeMasking | 67 |
SharpenRadius | +0.5 |
Sharpness | 105 |
ShutterSpeed | 1/80 |
ShutterSpeedValue | 1/80 |
Smoothing | 3.6 |
SmoothingMode | Slider |
Software | Adobe Photoshop Lightroom 4.1 (Windows) |
SplitToningBalance | 0 |
SplitToningHighlightHue | 0 |
SplitToningHighlightSaturation | 0 |
SplitToningShadowHue | 0 |
SplitToningShadowSaturation | 0 |
Strength | 80.0 |
ToneCurveName2012 | Linear |
ToneCurvePV2012 | 0, 0, 255, 255 |
ToneCurvePV2012Blue | 0, 0, 255, 255 |
ToneCurvePV2012Green | 0, 0, 255, 255 |
ToneCurvePV2012Red | 0, 0, 255, 255 |
Version (1) | 4.2 |
Version | 7.1 |
Vibrance | +40 |
VignetteAmount | 0 |
WhiteBalance | Custom |
WhiteClip | 0.250000 |
Whites2012 | 0 |