Felt | Verdi |
AlreadyApplied | True |
Aperture | 3.5 |
ApertureValue | 3.5 |
Artist | Malin Pettersen |
BitsPerSample (1) | 8, 8, 8 |
BitsPerSample (2) | 8 8 8 |
BitsPerSample | 8 |
BlueHue | 0 |
BlueSaturation | 0 |
Brightness | +50 |
By-line | Malin Pettersen |
CameraProfile | Adobe Standard |
CFAPattern | [Red,Green][Green,Blue] |
ChromaticAberrationB | 0 |
ChromaticAberrationR | 0 |
CircleOfConfusion | 0.030 mm |
City | Oslo |
Clarity | +29 |
ColorComponents | 3 |
ColorMode | RGB |
ColorNoiseReduction | 25 |
ColorNoiseReductionDetail | 50 |
ColorSpace | Uncalibrated |
ColorTemperature | 8300 |
Contrast (1) | +85 |
Contrast | Normal |
ConvertToGrayscale | False |
Copyright | FOMAFOTO |
CopyrightFlag | True |
CopyrightNotice | FOMAFOTO |
CopyrightOwnerName | Malin Pettersen - 0047 45852769 - www.malinpettersen.com, Malin Pettersen - 0047 45852769 - www.malinpettersen.com |
Country | Norway |
Country-PrimaryLocationName | Norway |
CreateDate (1) | 2012:08:29 15:34:35.00+02:00 |
CreateDate | 2012:08:29 15:34:35 |
Creator | Malin Pettersen |
CreatorCity | Oslo |
CreatorCountry | Norway |
CreatorTool | Ver.1.00 |
CreatorWorkEmail | malin.pettersen@gmail.com |
CreatorWorkTelephone | 004745852769 |
CreatorWorkURL | www.malinpettersen.com |
CropAngle | 0.20536 |
CropBottom | 0.757178 |
CropLeft | 0.446347 |
CropRight | 0.89678 |
CropTop | 0.303237 |
CustomRendered | Normal |
DateAcquired | 2012:08:29 19:29:48.905 |
DateCreated (1) | 2012:08:29 |
DateCreated | 2012:08:29 15:34:35 |
DateTimeDigitized | 2012:08:29 15:34:35.00+02:00 |
DateTimeOriginal (1) | 2012:08:29 15:34:35.00+02:00 |
DateTimeOriginal | 2012:08:29 15:34:35 |
Defringe | 0 |
DigitalZoomRatio | 1 |
DOF | 0.33 m (1.85 - 2.18 m) |
ExifImageHeight | 2167 |
ExifImageWidth | 1524 |
Exposure | +0.15 |
ExposureCompensation | 0 |
ExposureMode | Auto |
ExposureProgram | Aperture-priority AE |
ExposureTime | 1/8000 |
FillLight | 0 |
Flash | No Flash |
FlashFired | False |
FlashFunction | False |
FlashMode | Unknown |
FlashRedEyeMode | False |
FlashReturn | No return detection |
FNumber | 3.5 |
FocalLength | 50.0 mm |
FocalLength35efl | 50.0 mm (35 mm equivalent: 50.0 mm) |
FocalLengthIn35mmFormat | 50 mm |
Format | image/jpeg |
FOV | 39.6 deg |
GainControl | Low gain up |
GrainAmount | 0 |
GreenHue | 0 |
GreenSaturation | 0 |
HasCrop | True |
HasSettings | True |
HighlightRecovery | 0 |
HueAdjustmentAqua | 0 |
HueAdjustmentBlue | 0 |
HueAdjustmentGreen | 0 |
HueAdjustmentMagenta | 0 |
HueAdjustmentOrange | 0 |
HueAdjustmentPurple | 0 |
HueAdjustmentRed | 0 |
HueAdjustmentYellow | 0 |
HyperfocalDistance | 23.77 m |
ICCProfileName | Adobe RGB (1998) |
ImageCreatorName | Malin Pettersen - 0047-45852769 - www.malinpettersen.com, Malin Pettersen - 0047-45852769 - www.malinpettersen.com |
ImageHeight (2) | 1922 |
ImageHeight | 2167 |
ImageNumber | 21990 |
ImageSize | 1524x2167 |
ImageWidth (2) | 1279 |
ImageWidth | 1524 |
ISO | 640 |
Keywords | juggling, contactball, busker, streetperformance |
Lens | 50.0 mm f/1.8 |
LensID (1) | 118 |
LensID | AF Nikkor 50mm f/1.8D |
LensInfo | 50mm f/1.8 |
LightSource | Shade |
LightValue | 13.9 |
LuminanceAdjustmentAqua | 0 |
LuminanceAdjustmentBlue | 0 |
LuminanceAdjustmentGreen | 0 |
LuminanceAdjustmentMagenta | 0 |
LuminanceAdjustmentOrange | 0 |
LuminanceAdjustmentPurple | 0 |
LuminanceAdjustmentRed | 0 |
LuminanceAdjustmentYellow | 0 |
LuminanceSmoothing | 0 |
Make | NIKON CORPORATION |
Marked | True |
MaxApertureValue | 1.7 |
Megapixels | 3.3 |
MeteringMode | Multi-segment |
Model | NIKON D700 |
ModifyDate (1) | 2012:08:29 22:40:56+02:00 |
ModifyDate | 2012:08:29 22:40:56 |
Orientation | Horizontal (normal) |
ParametricDarks | 0 |
ParametricHighlights | 0 |
ParametricHighlightSplit | 75 |
ParametricLights | 0 |
ParametricMidtoneSplit | 50 |
ParametricShadows | 0 |
ParametricShadowSplit | 25 |
PersonInImage | Artmosfera - www.artmosfera.net |
PhotometricInterpretation | RGB |
PostCropVignetteAmount | -72 |
PostCropVignetteFeather | 100 |
PostCropVignetteHighlightContrast | 0 |
PostCropVignetteMidpoint | 13 |
PostCropVignetteRoundness | +100 |
PostCropVignetteStyle | 1 |
ProcessVersion | 5.7 |
ProfileDescription | Adobe RGB (1998) |
Rating | 2 |
RawFileName | Giako 118.NEF |
RedHue | 0 |
RedSaturation | 0 |
Rights | FOMAFOTO |
SamplesPerPixel | 3 |
Saturation (1) | 0 |
Saturation | Normal |
SaturationAdjustmentAqua | 0 |
SaturationAdjustmentBlue | 0 |
SaturationAdjustmentGreen | 0 |
SaturationAdjustmentMagenta | 0 |
SaturationAdjustmentOrange | 0 |
SaturationAdjustmentPurple | 0 |
SaturationAdjustmentRed | 0 |
SaturationAdjustmentYellow | 0 |
ScaleFactor35efl | 1.0 |
SceneCaptureType | Standard |
SceneType | Directly photographed |
SensingMethod | One-chip color area |
SerialNumber | 2122754 |
Shadows | 5 |
ShadowTint | 0 |
SharpenDetail | 25 |
SharpenEdgeMasking | 0 |
SharpenRadius | +1.0 |
Sharpness (1) | 25 |
Sharpness | Normal |
ShutterSpeed | 1/8000 |
ShutterSpeedValue | 1/8000 |
Software | Adobe Photoshop CS5 Windows |
SplitToningBalance | 0 |
SplitToningHighlightHue | 0 |
SplitToningHighlightSaturation | 0 |
SplitToningShadowHue | 0 |
SplitToningShadowSaturation | 0 |
Subject | juggling, contactball, busker, streetperformance |
SubjectDistance | 2 m |
SubjectDistanceRange | Unknown |
Tint | +2 |
ToneCurve | 0, 0, 32, 22, 64, 56, 128, 128, 192, 196, 255, 255 |
ToneCurveName | Medium Contrast |
URL_List | |
Version | 6.0 |
Vibrance | -40 |
VignetteAmount | 0 |
WhiteBalance (1) | Custom |
WhiteBalance | Manual |
XPAuthor | Malin Pettersen |
XPComment | www.malinpettersen.com |