Felt | Verdi |
AlreadyApplied | True |
Aperture | 2.5 |
ApertureValue | 2.5 |
ApproximateFocusDistance | 2 |
Artist | Stig Bjerke |
AutoLateralCA | 0 |
BitsPerSample (1) | 8 8 8 8 |
BitsPerSample | 8 |
Blacks2012 | +35 |
BlueHue | 0 |
BlueSaturation | 0 |
Brightness | +50 |
By-line | Stig Bjerke |
CameraProfile | Adobe Standard |
CFAPattern | [Red,Green][Green,Blue] |
CircleOfConfusion | 0.020 mm |
Clarity | 0 |
Clarity2012 | 0 |
ColorComponents | 1 |
ColorMode | Grayscale |
ColorNoiseReduction | 25 |
ColorNoiseReductionDetail | 50 |
ColorSpace | Uncalibrated |
ColorTemperature | 5600 |
Contrast (1) | +25 |
Contrast | Normal |
Contrast2012 | +30 |
ConvertToGrayscale | True |
Copyright | (C) Stig Bjerke |
CopyrightNotice | (C) Stig Bjerke |
CreateDate | 2012:09:17 14:55:05 |
Creator | Stig Bjerke |
CreatorTool | Adobe Photoshop CS6 (Windows) |
CustomRendered | Normal |
DateCreated (1) | 2012:09:17 |
DateCreated | 2012:09:17 14:55:05.008 |
DateTimeOriginal | 2012:09:17 14:55:05 |
Defringe | 0 |
DigitalZoomRatio | 1 |
DOF | 0.16 m (1.92 - 2.08 m) |
ExifImageHeight | 2835 |
ExifImageWidth | 1877 |
Exposure | 0.00 |
Exposure2012 | +0.40 |
ExposureCompensation | 0 |
ExposureMode | Manual |
ExposureProgram | Manual |
ExposureTime | 1/100 |
FillLight | 0 |
Flash | Off, Did not fire |
FNumber | 2.5 |
FocalLength | 50.0 mm |
FocalLength35efl | 50.0 mm (35 mm equivalent: 75.0 mm) |
FocalLengthIn35mmFormat | 75 mm |
Format | image/jpeg |
FOV | 27.0 deg |
GainControl | None |
GrainAmount | 0 |
GrayMixerAqua | -16 |
GrayMixerBlue | +17 |
GrayMixerGreen | -28 |
GrayMixerMagenta | +5 |
GrayMixerOrange | -21 |
GrayMixerPurple | +21 |
GrayMixerRed | -11 |
GrayMixerYellow | -25 |
GreenHue | 0 |
GreenSaturation | 0 |
HasCrop | False |
HasSettings | True |
HighlightRecovery | 0 |
Highlights2012 | +10 |
HyperfocalDistance | 49.92 m |
ICCProfileName | Gray Gamma 2.2 |
ImageHeight (1) | 4928 |
ImageHeight | 2835 |
ImageNumber | 21458 |
ImageSize | 1877x2835 |
ImageWidth (1) | 3264 |
ImageWidth | 1877 |
ISO | 100 |
Lens | 50.0 mm f/1.4 |
LensID (1) | 160 |
LensID | AF-S Nikkor 50mm f/1.4G |
LensInfo | 50mm f/1.4 |
LensManualDistortionAmount | 0 |
LensModel | 50.0 mm f/1.4 |
LensProfileEnable | 0 |
LensProfileSetup | LensDefaults |
LightSource | Unknown |
LightValue | 9.3 |
LuminanceSmoothing | 0 |
Make | NIKON CORPORATION |
MaxApertureValue | 1.4 |
Megapixels | 5.3 |
MeteringMode | Center-weighted average |
Model | NIKON D7000 |
ModifyDate (1) | 2012:09:20 11:36:52+02:00 |
ModifyDate | 2012:09:20 11:36:52 |
Orientation | Horizontal (normal) |
ParametricDarks | -5 |
ParametricHighlights | +10 |
ParametricHighlightSplit | 75 |
ParametricLights | 0 |
ParametricMidtoneSplit | 50 |
ParametricShadows | +10 |
ParametricShadowSplit | 25 |
PerspectiveHorizontal | 0 |
PerspectiveRotate | 0.0 |
PerspectiveScale | 100 |
PerspectiveVertical | 0 |
PhotometricInterpretation | BlackIsZero |
PostCropVignetteAmount | 0 |
ProcessVersion | 6.7 |
ProfileDescription | Gray Gamma 2.2 |
Rating | 0 |
RawFileName | 154.NEF |
RedHue | 0 |
RedSaturation | 0 |
Rights | (C) Stig Bjerke |
Saturation | Normal |
ScaleFactor35efl | 1.5 |
SceneCaptureType | Standard |
SceneType | Directly photographed |
SensingMethod | One-chip color area |
SensitivityType | Recommended Exposure Index |
SerialNumber | 6091996 |
Shadows | 5 |
Shadows2012 | +15 |
ShadowTint | 0 |
SharpenDetail | 25 |
SharpenEdgeMasking | 0 |
SharpenRadius | +1.0 |
Sharpness (1) | 25 |
Sharpness | Soft |
ShutterSpeed | 1/100 |
ShutterSpeedValue | 1/100 |
Software | Adobe Photoshop CS6 (Windows) |
SplitToningBalance | 0 |
SplitToningHighlightHue | 0 |
SplitToningHighlightSaturation | 0 |
SplitToningShadowHue | 0 |
SplitToningShadowSaturation | 0 |
SubjectDistanceRange | Unknown |
Tint | +9 |
ToneCurve | 0, 0, 32, 22, 64, 56, 128, 128, 192, 196, 255, 255 |
ToneCurveBlue | 0, 0, 255, 255 |
ToneCurveGreen | 0, 0, 255, 255 |
ToneCurveName | Medium Contrast |
ToneCurveName2012 | Linear |
ToneCurvePV2012 | 0, 0, 255, 255 |
ToneCurvePV2012Blue | 0, 0, 255, 255 |
ToneCurvePV2012Green | 0, 0, 255, 255 |
ToneCurvePV2012Red | 0, 0, 255, 255 |
ToneCurveRed | 0, 0, 255, 255 |
URL_List | |
Version | 7.0 |
VignetteAmount | 0 |
WhiteBalance (1) | As Shot |
WhiteBalance | Manual |
Whites2012 | 0 |