Felt | Verdi |
AlreadyApplied | True |
Aperture | 10.0 |
ApertureValue | 10.0 |
ApproximateFocusDistance | 2 |
BitsPerSample (1) | 8 8 8 |
BitsPerSample | 8 |
BlueHue | 0 |
BlueSaturation | 0 |
Brightness | +50 |
CameraProfile | Adobe Standard |
CFAPattern | [Red,Green][Green,Blue] |
ChromaticAberrationB | 0 |
ChromaticAberrationR | 0 |
CircleOfConfusion | 0.030 mm |
Clarity | +29 |
ColorComponents | 3 |
ColorMode | RGB |
ColorNoiseReduction | 25 |
ColorNoiseReductionDetail | 50 |
ColorSpace | sRGB |
ColorTemperature | 9745 |
Contrast (1) | +37 |
Contrast | Normal |
ConvertToGrayscale | False |
CreateDate (1) | 2012:09:04 22:22:16.41 |
CreateDate | 2012:09:04 22:22:16 |
CreatorTool | Adobe Photoshop CS5 Windows |
CropAngle | 1.20764 |
CropBottom | 1 |
CropConstrainToWarp | 0 |
CropHeight | 2746 |
CropLeft | 0.022152 |
CropRight | 0.977848 |
CropTop | 0 |
CropUnit | pixels |
CropWidth | 4126 |
CustomRendered | Normal |
DateCreated (1) | 2012:09:04 |
DateCreated | 2012:09:04 22:22:16.041 |
DateTimeOriginal | 2012:09:04 22:22:16 |
Defringe | 0 |
DigitalZoomRatio | 1 |
DOF | inf (0.49 m - inf) |
ExifImageHeight | 733 |
ExifImageWidth | 1200 |
Exposure | 0.00 |
ExposureCompensation | -5/3 |
ExposureMode | Manual |
ExposureProgram | Manual |
ExposureTime | 1/13 |
FillLight | 66 |
Flash | No Flash |
FNumber | 10.0 |
FocalLength | 14.0 mm |
FocalLength35efl | 14.0 mm (35 mm equivalent: 14.0 mm) |
FocalLengthIn35mmFormat | 14 mm |
Format | image/jpeg |
FOV | 104.3 deg |
GainControl | None |
GradientBasedCorrActive | true |
GradientBasedCorrAmount | 1.000000 |
GradientBasedCorrBrightness | -0.150440 |
GradientBasedCorrClarity | 0.469030 |
GradientBasedCorrContrast | 0.398230 |
GradientBasedCorrExposure | -0.097250 |
GradientBasedCorrHue | 0.000000 |
GradientBasedCorrMaskFullX | 0.269040 |
GradientBasedCorrMaskFullY | 0.338216 |
GradientBasedCorrMaskValue | 1.000000 |
GradientBasedCorrMaskWhat | Mask/Gradient |
GradientBasedCorrMaskZeroX | 0.266666 |
GradientBasedCorrMaskZeroY | 0.430159 |
GradientBasedCorrSaturation (1) | 0.238940 |
GradientBasedCorrSaturation | 0.000000 |
GradientBasedCorrSharpness | 0.000000 |
GradientBasedCorrWhat | Correction |
GrainAmount | 0 |
GreenHue | 0 |
GreenSaturation | 0 |
HasCrop | True |
HasSettings | True |
HighlightRecovery | 61 |
HueAdjustmentAqua | 0 |
HueAdjustmentBlue | 0 |
HueAdjustmentGreen | 0 |
HueAdjustmentMagenta | 0 |
HueAdjustmentOrange | 0 |
HueAdjustmentPurple | 0 |
HueAdjustmentRed | 0 |
HueAdjustmentYellow | 0 |
HyperfocalDistance | 0.65 m |
ICCProfileName | sRGB IEC61966-2.1 |
ImageHeight (1) | 2746 |
ImageHeight | 733 |
ImageNumber | 10374 |
ImageSize | 1200x733 |
ImageWidth (1) | 4126 |
ImageWidth | 1200 |
ISO | 250 |
Keywords | Landskap |
Lens | 14.0-24.0 mm f/2.8 |
LensID (1) | 146 |
LensID | AF-S Zoom-Nikkor 14-24mm f/2.8G ED |
LensInfo | 14-24mm f/2.8 |
LensManualDistortionAmount | 0 |
LensModel | 14.0-24.0 mm f/2.8 |
LensProfileChromaticAberrationScale | 100 |
LensProfileDistortionScale | 100 |
LensProfileEnable | 1 |
LensProfileFilename | NIKON D3X (Nikon FX 14-24mm f2.8 G ED) - RAW.lcp |
LensProfileName | Adobe (Nikon AF-S NIKKOR 14-24mm f/2.8G ED) |
LensProfileSetup | LensDefaults |
LensProfileVignettingScale | 100 |
LightSource | Unknown |
LightValue | 9.0 |
LuminanceAdjustmentAqua | 0 |
LuminanceAdjustmentBlue | 0 |
LuminanceAdjustmentGreen | +50 |
LuminanceAdjustmentMagenta | 0 |
LuminanceAdjustmentOrange | 0 |
LuminanceAdjustmentPurple | 0 |
LuminanceAdjustmentRed | 0 |
LuminanceAdjustmentYellow | 0 |
LuminanceNoiseReductionContrast | 0 |
LuminanceNoiseReductionDetail | 50 |
LuminanceSmoothing | 26 |
Make | NIKON CORPORATION |
MaxApertureValue | 2.8 |
Megapixels | 0.880 |
MeteringMode | Multi-segment |
Model | NIKON D3S |
ModifyDate (1) | 2012:10:19 20:07:32+02:00 |
ModifyDate | 2012:10:19 20:07:32 |
Orientation | Horizontal (normal) |
PaintCorrectionActive | true |
PaintCorrectionAmount | 1.000000 |
PaintCorrectionBrightness | 0.150440 |
PaintCorrectionClarity | 0.000000 |
PaintCorrectionContrast | 0.000000 |
PaintCorrectionExposure | 0.097250 |
PaintCorrectionHue | 0.000000 |
PaintCorrectionMaskCenterWeight | 0.069597 |
PaintCorrectionMaskFlow | 0.802000 |
PaintCorrectionMaskRadius (1) | 0.158055 |
PaintCorrectionMaskRadius (2) | 0.156295 |
PaintCorrectionMaskRadius (3) | 0.151591 |
PaintCorrectionMaskRadius (4) | 0.155310 |
PaintCorrectionMaskRadius | 0.150338 |
PaintCorrectionMaskValue | 0.661000 |
PaintCorrectionMaskWhat | Mask/Paint |
PaintCorrectionSaturation | 0.000000 |
PaintCorrectionSharpness | 0.000000 |
PaintCorrectionWhat | Correction |
ParametricDarks | 0 |
ParametricHighlights | 0 |
ParametricHighlightSplit | 75 |
ParametricLights | 0 |
ParametricMidtoneSplit | 50 |
ParametricShadows | 0 |
ParametricShadowSplit | 25 |
PerspectiveHorizontal | 0 |
PerspectiveRotate | 0.0 |
PerspectiveScale | 100 |
PerspectiveVertical | 0 |
PhotometricInterpretation | RGB |
PostCropVignetteAmount | -20 |
PostCropVignetteFeather | 50 |
PostCropVignetteHighlightContrast | 0 |
PostCropVignetteMidpoint | 50 |
PostCropVignetteRoundness | 0 |
PostCropVignetteStyle | 1 |
ProcessVersion | 5.7 |
ProfileDescription | sRGB IEC61966-2.1 |
RedHue | 0 |
RedSaturation | 0 |
Saturation (1) | 0 |
Saturation | Normal |
SaturationAdjustmentAqua | 0 |
SaturationAdjustmentBlue | 0 |
SaturationAdjustmentGreen | +33 |
SaturationAdjustmentMagenta | 0 |
SaturationAdjustmentOrange | +36 |
SaturationAdjustmentPurple | 0 |
SaturationAdjustmentRed | +35 |
SaturationAdjustmentYellow | +35 |
ScaleFactor35efl | 1.0 |
SceneCaptureType | Standard |
SceneType | Directly photographed |
SensingMethod | One-chip color area |
SerialNumber | 2007197 |
Shadows | 5 |
ShadowTint | 0 |
SharpenDetail | 25 |
SharpenEdgeMasking | 36 |
SharpenRadius | +1.0 |
Sharpness (1) | 94 |
Sharpness | Hard |
ShutterSpeed | 1/13 |
ShutterSpeedValue | 1/13 |
Software | Adobe Photoshop CS5 Windows |
SplitToningBalance | 0 |
SplitToningHighlightHue | 0 |
SplitToningHighlightSaturation | 0 |
SplitToningShadowHue | 0 |
SplitToningShadowSaturation | 0 |
Subject | Landskap |
SubjectDistance | 2 m |
SubjectDistanceRange | Unknown |
Tint | +16 |
ToneCurve | 0, 0, 32, 22, 64, 56, 128, 128, 192, 196, 255, 255 |
ToneCurveName | Medium Contrast |
URL_List | |
Version | 6.6 |
Vibrance | +29 |
VignetteAmount | 0 |
WhiteBalance (1) | Custom |
WhiteBalance | Auto |