Felt | Verdi |
AlreadyApplied | True |
Aperture | 8.0 |
ApertureValue | 8.0 |
ApproximateFocusDistance | 11.2 |
Artist | Odd-Harry Hansen |
BitsPerSample | 8 |
BlueHue | 0 |
BlueSaturation | 0 |
Brightness | +50 |
By-line | Odd-Harry Hansen |
CameraProfile | Adobe Standard |
CFAPattern | [Red,Green][Green,Blue] |
ChromaticAberrationB | 0 |
ChromaticAberrationR | 0 |
CircleOfConfusion | 0.030 mm |
Clarity | +24 |
ColorComponents | 3 |
ColorMode | RGB |
ColorNoiseReduction | 25 |
ColorNoiseReductionDetail | 50 |
ColorSpace | sRGB |
ColorTemperature | 5150 |
Contrast (2) | +61 |
Contrast | Normal |
ConvertToGrayscale | False |
Copyright | (c) OHH |
CopyrightNotice | (c) OHH |
CreateDate (1) | 2013:03:13 14:05:31.48+01:00 |
CreateDate | 2013:03:13 14:05:31 |
Creator | Odd-Harry Hansen |
CreatorTool | Ver.1.01 |
CropAngle | 2.03722 |
CropBottom | 0.702949 |
CropConstrainToWarp | 1 |
CropHeight | 16 |
CropLeft | 0.013586 |
CropRight | 0.679025 |
CropTop | 0.093791 |
CropUnit | Unknown (3) |
CropWidth | 9 |
CustomRendered | Normal |
DateCreated | 2013:03:13 |
DateTimeDigitized | 2013:03:13 14:05:31+01:00 |
DateTimeOriginal (1) | 2013:03:13 14:05:31.48+01:00 |
DateTimeOriginal | 2013:03:13 14:05:31 |
Defringe | 0 |
DigitalZoomRatio | 1 |
DOF | 0.45 m (10.98 - 11.43 m) |
ExifImageHeight | 2508 |
ExifImageWidth | 4347 |
Exposure | +0.90 |
ExposureCompensation | 0 |
ExposureMode | Auto |
ExposureProgram | Aperture-priority AE |
ExposureTime | 1/1000 |
FillLight | 16 |
Flash | No Flash |
FlashFired | False |
FlashFunction | False |
FlashMode | Unknown |
FlashRedEyeMode | False |
FlashReturn | No return detection |
FNumber | 8.0 |
FocalLength | 360.0 mm |
FocalLength35efl | 360.0 mm (35 mm equivalent: 360.0 mm) |
FocalLengthIn35mmFormat | 360 mm |
Format | image/jpeg |
FOV | 5.7 deg |
GainControl | Low gain up |
GrainAmount | 0 |
GreenHue | 0 |
GreenSaturation | 0 |
HasCrop | True |
HasSettings | True |
HighlightRecovery | 44 |
HueAdjustmentAqua | 0 |
HueAdjustmentBlue | 0 |
HueAdjustmentGreen | 0 |
HueAdjustmentMagenta | 0 |
HueAdjustmentOrange | 0 |
HueAdjustmentPurple | 0 |
HueAdjustmentRed | 0 |
HueAdjustmentYellow | 0 |
HyperfocalDistance | 539.17 m |
ICCProfileName | sRGB IEC61966-2.1 |
ImageHeight | 2508 |
ImageNumber | 46299 |
ImageSize | 4347x2508 |
ImageWidth | 4347 |
ISO | 560 |
Lens | 120.0-400.0 mm f/4.5-5.6 |
LensID (1) | 207 |
LensID | Sigma APO 120-400mm F4.5-5.6 DG OS HSM |
LensInfo | 120-400mm f/4.5-5.6 |
LensManualDistortionAmount | 0 |
LensModel | 120.0-400.0 mm f/4.5-5.6 |
LensProfileEnable | 0 |
LensProfileSetup | LensDefaults |
LightSource | Cloudy |
LightValue | 13.5 |
LuminanceAdjustmentAqua | 0 |
LuminanceAdjustmentBlue | 0 |
LuminanceAdjustmentGreen | 0 |
LuminanceAdjustmentMagenta | 0 |
LuminanceAdjustmentOrange | 0 |
LuminanceAdjustmentPurple | 0 |
LuminanceAdjustmentRed | 0 |
LuminanceAdjustmentYellow | 0 |
LuminanceSmoothing | 0 |
Make | NIKON CORPORATION |
MaxApertureValue | 5.7 |
Megapixels | 10.9 |
MeteringMode | Center-weighted average |
Model | NIKON D3X |
ModifyDate (1) | 2013:03:14 15:13:38+01:00 |
ModifyDate | 2013:03:14 15:13:38 |
Orientation | Horizontal (normal) |
ParametricDarks | 0 |
ParametricHighlights | 0 |
ParametricHighlightSplit | 75 |
ParametricLights | 0 |
ParametricMidtoneSplit | 50 |
ParametricShadows | 0 |
ParametricShadowSplit | 25 |
PerspectiveHorizontal | 0 |
PerspectiveRotate | 0.0 |
PerspectiveScale | 100 |
PerspectiveVertical | 0 |
PostCropVignetteAmount | 0 |
ProcessVersion | 5.7 |
ProfileDescription | sRGB IEC61966-2.1 |
Rating | 0 |
RawFileName | _DSC5673.NEF |
RedHue | 0 |
RedSaturation | 0 |
Rights | (c) OHH |
Saturation (2) | +7 |
Saturation | Normal |
SaturationAdjustmentAqua | 0 |
SaturationAdjustmentBlue | 0 |
SaturationAdjustmentGreen | 0 |
SaturationAdjustmentMagenta | 0 |
SaturationAdjustmentOrange | 0 |
SaturationAdjustmentPurple | 0 |
SaturationAdjustmentRed | 0 |
SaturationAdjustmentYellow | 0 |
ScaleFactor35efl | 1.0 |
SceneCaptureType | Standard |
SceneType | Directly photographed |
SensingMethod | One-chip color area |
SerialNumber | 5002161 |
Shadows | 2 |
ShadowTint | 0 |
SharpenDetail | 25 |
SharpenEdgeMasking | 0 |
SharpenRadius | +1.0 |
Sharpness (2) | 25 |
Sharpness | Normal |
ShutterSpeed | 1/1000 |
ShutterSpeedValue | 1/1000 |
Software | Adobe Photoshop Elements 9.0 Macintosh |
SplitToningBalance | 0 |
SplitToningHighlightHue | 0 |
SplitToningHighlightSaturation | 0 |
SplitToningShadowHue | 0 |
SplitToningShadowSaturation | 0 |
SubjectDistance | 11.2 m |
SubjectDistanceRange | Unknown |
Tint | -6 |
ToneCurve | 0, 0, 32, 22, 64, 56, 128, 128, 192, 196, 255, 255 |
ToneCurveName | Medium Contrast |
URL_List | |
Version | 6.5 |
Vibrance | +7 |
VignetteAmount | 0 |
WhiteBalance (2) | Custom |
WhiteBalance | Manual |