Felt | Verdi |
AlreadyApplied | True |
Aperture | 5.6 |
ApertureValue | 5.6 |
ApproximateFocusDistance | 4294967295 |
AutoLateralCA | 1 |
BitsPerSample | 8 |
Blacks2012 | 0 |
BlueHue | 0 |
BlueSaturation | 0 |
CameraProfile | Adobe Standard |
CircleOfConfusion | 0.031 mm |
Clarity2012 | +88 |
ColorComponents | 3 |
ColorNoiseReduction | 25 |
ColorNoiseReductionDetail | 50 |
ColorTemperature | 6762 |
Contrast2012 | +93 |
ConvertToGrayscale | False |
CreateDate (1) | 2014:02:15 11:14:36.70 |
CreateDate | 2014:02:15 11:14:36 |
CreatorTool | Adobe Photoshop Lightroom 4.4 (Windows) |
CropAngle | 0 |
CropBottom | 0.890244 |
CropConstrainToWarp | 0 |
CropHeight | 2671 |
CropLeft | 0.207317 |
CropRight | 0.920732 |
CropTop | 0.176829 |
CropUnit | pixels |
CropWidth | 4007 |
CustomRendered | Normal |
DateCreated (1) | 2014:02:15 |
DateCreated | 2014:02:15 11:14:36.70 |
DateTimeOriginal | 2014:02:15 11:14:36 |
DefringeGreenAmount | 0 |
DefringeGreenHueHi | 60 |
DefringeGreenHueLo | 40 |
DefringePurpleAmount | 0 |
DefringePurpleHueHi | 70 |
DefringePurpleHueLo | 30 |
DOF | inf (522.02 m - inf) |
Exposure2012 | 0.00 |
ExposureCompensation | 0 |
ExposureMode | Auto |
ExposureProgram | Aperture-priority AE |
ExposureTime | 1/80 |
Firmware | 2.1.2 |
Flash | Off, Did not fire |
FlashCompensation | 0 |
FNumber | 5.6 |
FocalLength | 300.0 mm |
FocalLength35efl | 300.0 mm (35 mm equivalent: 292.8 mm) |
Format | image/jpeg |
FOV | 7.0 deg |
GradientBasedCorrActive | true |
GradientBasedCorrAmount | 1.000000 |
GradientBasedCorrBrightness | 0.000000 |
GradientBasedCorrClarity2012 (2) | -0.563220 |
GradientBasedCorrClarity2012 | 0.000000 |
GradientBasedCorrContrast2012 (2) | 0.862070 |
GradientBasedCorrContrast2012 | 0.000000 |
GradientBasedCorrDefringe | 0.000000 |
GradientBasedCorrExposure2012 (1) | -0.103500 |
GradientBasedCorrExposure2012 (2) | 0.149500 |
GradientBasedCorrExposure2012 | 0.057500 |
GradientBasedCorrHighlights2012 | 0.000000 |
GradientBasedCorrHue | 5.000000 |
GradientBasedCorrLuminanceNoise | 0.000000 |
GradientBasedCorrMaskFullX (1) | 0.500335 |
GradientBasedCorrMaskFullX (2) | 0.524762 |
GradientBasedCorrMaskFullX | 0.683168 |
GradientBasedCorrMaskFullY (1) | 0.289644 |
GradientBasedCorrMaskFullY (2) | 0.734087 |
GradientBasedCorrMaskFullY | 0.908752 |
GradientBasedCorrMaskValue | 1.000000 |
GradientBasedCorrMaskWhat | Mask/Gradient |
GradientBasedCorrMaskZeroX (1) | 0.500335 |
GradientBasedCorrMaskZeroX (2) | 0.524762 |
GradientBasedCorrMaskZeroX | 0.686793 |
GradientBasedCorrMaskZeroY (1) | 0.773443 |
GradientBasedCorrMaskZeroY (2) | 0.569881 |
GradientBasedCorrMaskZeroY | 0.652096 |
GradientBasedCorrMoire | 0.000000 |
GradientBasedCorrSaturation | 0.000000 |
GradientBasedCorrShadows2012 | 0.000000 |
GradientBasedCorrSharpness | 0.000000 |
GradientBasedCorrTemperature | 0.000000 |
GradientBasedCorrTint | 0.000000 |
GradientBasedCorrWhat | Correction |
GrainAmount | 0 |
GreenHue | 0 |
GreenSaturation | 0 |
HasCrop | True |
HasSettings | True |
Highlights2012 | -74 |
HueAdjustmentAqua | 0 |
HueAdjustmentBlue | 0 |
HueAdjustmentGreen | 0 |
HueAdjustmentMagenta | 0 |
HueAdjustmentOrange | 0 |
HueAdjustmentPurple | 0 |
HueAdjustmentRed | 0 |
HueAdjustmentYellow | 0 |
HyperfocalDistance | 522.02 m |
ImageHeight | 2671 |
ImageNumber | 0 |
ImageSize | 4007x2671 |
ImageWidth | 4007 |
ISO | 50 |
Lens | EF300mm f/4L IS USM |
LensID (1) | 177 |
LensID | Canon EF 300mm f/4L IS USM |
LensInfo | 300mm f/? |
LensManualDistortionAmount | 0 |
LensModel | EF300mm f/4L IS USM |
LensProfileEnable | 0 |
LensProfileSetup | LensDefaults |
LightValue | 12.3 |
LuminanceAdjustmentAqua | 0 |
LuminanceAdjustmentBlue | 0 |
LuminanceAdjustmentGreen | 0 |
LuminanceAdjustmentMagenta | 0 |
LuminanceAdjustmentOrange | 0 |
LuminanceAdjustmentPurple | 0 |
LuminanceAdjustmentRed | 0 |
LuminanceAdjustmentYellow | 0 |
LuminanceNoiseReductionContrast | 0 |
LuminanceNoiseReductionDetail | 50 |
LuminanceSmoothing | 30 |
Make | Canon |
MaxApertureValue | 4.0 |
Megapixels | 10.7 |
MeteringMode | Multi-segment |
Model | Canon EOS 5D Mark II |
ModifyDate (1) | 2014:02:16 06:50:35+01:00 |
ModifyDate | 2014:02:16 06:50:35 |
PaintCorrectionActive | true |
PaintCorrectionAmount | 1.000000 |
PaintCorrectionBrightness | 0.000000 |
PaintCorrectionClarity2012 | 0.000000 |
PaintCorrectionContrast2012 (1) | 0.885060 |
PaintCorrectionContrast2012 (5) | 0.839080 |
PaintCorrectionContrast2012 (9) | 0.977010 |
PaintCorrectionContrast2012 | 0.000000 |
PaintCorrectionDefringe | 0.000000 |
PaintCorrectionExposure2012 (10) | 0.218500 |
PaintCorrectionExposure2012 (11) | 0.264250 |
PaintCorrectionExposure2012 (12) | -0.172500 |
PaintCorrectionExposure2012 (14) | 0.356250 |
PaintCorrectionExposure2012 (2) | -0.241500 |
PaintCorrectionExposure2012 (3) | 0.103500 |
PaintCorrectionExposure2012 (4) | 0.080500 |
PaintCorrectionExposure2012 (5) | 0.287250 |
PaintCorrectionExposure2012 (6) | 0.241500 |
PaintCorrectionExposure2012 (7) | -0.195500 |
PaintCorrectionExposure2012 (9) | 0.517250 |
PaintCorrectionExposure2012 | 0.310250 |
PaintCorrectionHighlights2012 | 0.000000 |
PaintCorrectionHue | 5.000000 |
PaintCorrectionLuminanceNoise | 0.000000 |
PaintCorrectionMaskCenterWeight | 0.097324 |
PaintCorrectionMaskFlow | 0.655000 |
PaintCorrectionMaskRadius (1) | 0.025614 |
PaintCorrectionMaskRadius (10) | 0.068385 |
PaintCorrectionMaskRadius (12) | 0.077786 |
PaintCorrectionMaskRadius (19) | 0.197627 |
PaintCorrectionMaskRadius (20) | 0.150832 |
PaintCorrectionMaskRadius (27) | 0.023066 |
PaintCorrectionMaskRadius (45) | 0.227942 |
PaintCorrectionMaskRadius (6) | 0.089894 |
PaintCorrectionMaskRadius (7) | 0.160039 |
PaintCorrectionMaskRadius | 0.109603 |
PaintCorrectionMaskValue | 1.000000 |
PaintCorrectionMaskWhat | Mask/Paint |
PaintCorrectionMoire | 0.000000 |
PaintCorrectionSaturation | 0.000000 |
PaintCorrectionShadows2012 | 0.000000 |
PaintCorrectionSharpness | 0.000000 |
PaintCorrectionTemperature | 0.000000 |
PaintCorrectionTint | 0.000000 |
PaintCorrectionWhat | Correction |
ParametricDarks | -69 |
ParametricHighlights | +55 |
ParametricHighlightSplit | 75 |
ParametricLights | +75 |
ParametricMidtoneSplit | 50 |
ParametricShadows | 0 |
ParametricShadowSplit | 25 |
PerspectiveHorizontal | 0 |
PerspectiveRotate | 0.0 |
PerspectiveScale | 100 |
PerspectiveVertical | 0 |
PostCropVignetteAmount | 0 |
ProcessVersion | 6.7 |
ProfileDescription | sRGB IEC61966-2.1 |
RedHue | 0 |
RedSaturation | 0 |
Saturation | 0 |
SaturationAdjustmentAqua | 0 |
SaturationAdjustmentBlue | 0 |
SaturationAdjustmentGreen | 0 |
SaturationAdjustmentMagenta | 0 |
SaturationAdjustmentOrange | 0 |
SaturationAdjustmentPurple | 0 |
SaturationAdjustmentRed | 0 |
SaturationAdjustmentYellow | 0 |
ScaleFactor35efl | 1.0 |
SceneCaptureType | Standard |
SerialNumber | 1431023839 |
Shadows2012 | -60 |
ShadowTint | 0 |
SharpenDetail | 2 |
SharpenEdgeMasking | 46 |
SharpenRadius | +1.0 |
Sharpness | 80 |
ShutterSpeed | 1/80 |
ShutterSpeedValue | 1/80 |
Software | Adobe Photoshop Lightroom 4.4 (Windows) |
SplitToningBalance | 0 |
SplitToningHighlightHue | 0 |
SplitToningHighlightSaturation | 0 |
SplitToningShadowHue | 0 |
SplitToningShadowSaturation | 0 |
Tint | +4 |
ToneCurveName2012 | Linear |
ToneCurvePV2012 | 0, 0, 255, 255 |
ToneCurvePV2012Blue | 0, 0, 255, 255 |
ToneCurvePV2012Green | 0, 0, 255, 255 |
ToneCurvePV2012Red | 0, 0, 255, 255 |
Version | 7.4 |
Vibrance | +45 |
VignetteAmount | 0 |
WhiteBalance (1) | Custom |
WhiteBalance | Auto |
Whites2012 | -100 |